Workbook
Name Name: 'Max Sheet'!$B$4:$B$4

Sheet GMFH
A1: Xlathlete.com | J1: Get Strong & Big Workout sheet
A3: Place maxes in on max Sheet(See tab below) | R3: Videos are Hyperlinked | U3: P. P.
A4: Name | B4: ='Max Sheet'!C4 -> 600 | C4: ='Max Sheet'!D4 -> 275 | D4: ='Max Sheet'!E4 -> 525 | E4: ='Max Sheet'!F4 -> 265 | F4: ='Max Sheet'!G4 -> 200 | G4: ='Max Sheet'!H4 -> 300 | H4: ='Max Sheet'!I4 -> 185 | I4: ='Max Sheet'!J4 -> 245 | ... U4: ='Max Sheet'!V4 -> 185
A5: Day one | N5: =J5+14 -> 14 | R5: Day Four
C6: Tempo | T6: Tempo
A7: Squat | C7: 0:0:0:60 | D7: 1 Rep | G7: 10 Sets | R7: Deadlift | S7: Top | T7: 0:0:0:60 | U7: 1 Rep | X7: 10 Sets
D8: =ROUND($B$4*0.7/5,0/5)*5 -> 420 | F8: - | G8: =ROUND($B$4*0.8/5,0/5)*5 -> 480 | U8: =ROUND($D$4*0.7/5,0/5)*5 -> 370 | W8: - | X8: =ROUND($D$4*0.8/5,0/5)*5 -> 420
A9: Break | D9: 10 Minutes or Later that day | R9: Break | U9: 10 Minutes or Later that day
A10: Deadlift | B10: Top | C10: 0:0:0:60 | D10: 3 Rep | G10: 10 Sets | R10: Squat | T10: 0:0:0:60 | U10: 3 Rep | X10: 10 Sets
A11: PAIR W/ | D11: =ROUND($D$4*0.55/5,0/5)*5 -> 290 | F11: - | G11: =ROUND($D$4*0.65/5,0/5)*5 -> 340 | R11: PAIR W/ | U11: =ROUND($B$4*0.6/5,0/5)*5 -> 360 | W11: - | X11: =ROUND($B$4*0.7/5,0/5)*5 -> 420
A12: High BWT Step Up | B12: Bottom | C12: 0:0:0:60 | D12: 3 Rep | G12: 10 Sets | R12: Glute Bar Lifts | T12: 0:0:0:60 | U12: 3 Rep | X12: 10 Sets
U13: =ROUND($D$4*0.6/5,0/5)*5 -> 315 | W13: - | X13: =ROUND($D$4*0.7/5,0/5)*5 -> 370
A14: Break | D14: 10 Minutes or Later that day | R14: Break | U14: 10 Minutes or Later that day
A15: DB Hindu Squat | B15: Top | C15: 0:0:0:60 | D15: 5 Rep | G15: 10 Sets | R15: DB Hindu Squat | S15: Top | T15: 0:0:0:60 | U15: 5 Rep | X15: 10 Sets
A16: PAIR W/ | D16: =ROUND($B$4*0.05/5,0/5)*5 -> 30 | F16: - | G16: =ROUND($B$4*0.1/5,0/5)*5 -> 60 | R16: PAIR W/ | U16: =ROUND($B$4*0.05/5,0/5)*5 -> 30 | W16: - | X16: =ROUND($B$4*0.1/5,0/5)*5 -> 60
A17: Glute Ham Hyper | B17: Bottom | C17: 0:0:0:60 | D17: 5 Rep | G17: 10 Sets | R17: Glute Ham Hyper | S17: Bottom | T17: 0:0:0:60 | U17: 5 Rep | X17: 10 Sets
A18: Break | D18: 10 Minutes or Later that day | R18: Break | U18: 10 Minutes or Later that day
A19: Shoulder Shrug | B19: Top | C19: 0:0:0:60 | D19: 5 Rep | G19: 10 Sets | R19: Shoulder Shrug | S19: Top | T19: 0:0:0:60 | U19: 5 Rep | X19: 10 Sets
A20: PAIR W/ | R20: PAIR W/
A21: Manual 4-Way Neck | B21: Bottom | C21: 0:0:0:60 | D21: 5 Rep | F21: 1 way | G21: 10 Sets | I21: 4 ways | R21: Manual 4-Way Neck | S21: Bottom | T21: 0:0:0:60 | U21: 5 Rep | W21: 1 way | X21: 10 Sets | Z21: 4 ways
A23: Day Two | R23: Day Five
A24: Bench | C24: 0:0:0:60 | D24: 1 Rep | G24: 10 Sets | R24: Bench | T24: 0:0:0:60 | U24: 1 Rep | X24: 10 Sets
D25: =ROUND($C$4*0.7/5,0/5)*5 -> 195 | F25: - | G25: =ROUND($C$4*0.8/5,0/5)*5 -> 220 | U25: =ROUND($C$4*0.725/5,0/5)*5 -> 200 | W25: - | X25: =ROUND($C$4*0.825/5,0/5)*5 -> 225
A26: Break | D26: 10 Minutes or Later that day | R26: Break | U26: 10 Minutes or Later that day
A27: Bench | B27: Top | C27: 0:0:0:60 | D27: 3 Rep | G27: 10 Sets | R27: Dumbbell Incline Press | S27: Top | T27: 0:0:0:60 | U27: 3 Rep | X27: 10 Sets
A28: PAIR W/ | D28: =ROUND($C$4*0.5/5,0/5)*5 -> 140 | F28: - | G28: =ROUND($C$4*0.6/5,0/5)*5 -> 165 | R28: PAIR W/ | U28: =ROUND($K$4*0.55/5,0/5)*5 -> 50 | V28: - | W28: =ROUND($K$4*0.65/5,0/5)*5 -> 60
A29: Lat Pull Down | B29: Bottom | C29: 0:0:0:60 | D29: 3 Rep | G29: 10 Sets | R29: Lat Pull Down | S29: Bottom | T29: 0:0:0:60 | U29: 3 Rep | X29: 10 Sets
D30: =ROUND($M$4*0.55/5,0/5)*5 -> 125 | E30: - | F30: =ROUND($M$4*0.65/5,0/5)*5 -> 145 | U30: =ROUND($M$4*0.55/5,0/5)*5 -> 125 | V30: - | W30: =ROUND($M$4*0.65/5,0/5)*5 -> 145
A31: Break | D31: 10 Minutes or Later that day | R31: Break | U31: 10 Minutes or Later that day
A32: Dumbbell Incline Press | B32: Top | C32: 0:0:0:60 | D32: 5 Rep | G32: 10 Sets | R32: Dumbbell Bench Fly | S32: Top | T32: 0:0:0:60 | U32: 5 Rep | X32: 10 Sets
A33: PAIR W/ | D33: =ROUND($K$4*0.5/5,0/5)*5 -> 45 | F33: - | G33: =ROUND($K$4*0.6/5,0/5)*5 -> 55 | R33: PAIR W/ | U33: =ROUND($K$4*0.25/5,0/5)*5 -> 25 | W33: - | X33: =ROUND($K$4*0.35/5,0/5)*5 -> 30
A34: Supine Lat Pull Down | B34: Bottom | C34: 0:0:0:60 | D34: 5 Rep | G34: 10 Sets | R34: Supine Lat Pull Down | S34: Bottom | T34: 0:0:0:60 | U34: 5 Rep | X34: 10 Sets
D35: =ROUND($M$4*0.55/5,0/5)*5 -> 125 | E35: - | F35: =ROUND($M$4*0.65/5,0/5)*5 -> 145 | U35: =ROUND($M$4*0.55/5,0/5)*5 -> 125 | V35: - | W35: =ROUND($M$4*0.65/5,0/5)*5 -> 145
A36: Break | D36: 10 Minutes or Later that day | R36: Break | U36: 10 Minutes or Later that day
A37: Leg Press Calf Raise | B37: Top | C37: 0:0:0:60 | D37: 5 Rep | G37: 10 Sets | R37: Leg Press Calf Raise | S37: Top | T37: 0:0:0:60 | U37: 5 Rep | X37: 10 Sets
A38: PAIR W/ | R38: PAIR W/
A39: Cuban Press | B39: Bottom | C39: 0:0:0:60 | D39: 5 Rep | G39: 10 Sets | R39: Cuban Press | S39: Bottom | T39: 0:0:0:60 | U39: 5 Rep | X39: 10 Sets
G40: Variations | X40: Variations
A41: Day Three | R41: Day Six
A42: Push Press | C42: 0:0:0:60 | D42: 1 Rep | G42: 10 Sets | R42: Split Jerk | T42: 0:0:0:60 | U42: 1 Rep | X42: 10 Sets
D43: =ROUND($U$4*0.7/5,0/5)*5 -> 130 | F43: - | G43: =ROUND($U$4*0.8/5,0/5)*5 -> 150 | U43: =ROUND($U$4*0.7/5,0/5)*5 -> 130 | W43: - | X43: =ROUND($U$4*0.8/5,0/5)*5 -> 150
A44: Break | D44: 10 Minutes or Later that day | R44: Break | U44: 10 Minutes or Later that day
A45: Close Grip Bench Press - Board | B45: Top | C45: 0:0:0:60 | D45: 1 Rep | G45: 10 Sets | R45: Close Grip Bench Press - Board | S45: Top | T45: 0:0:0:60 | U45: 1 Rep | X45: 10 Sets
A46: 3 Board Bench | D46: =ROUND($C$4*0.5/5,0/5)*5 -> 140 | F46: - | G46: =ROUND($C$4*0.75/5,0/5)*5 -> 205 | R46: 3 Board Bench | U46: =ROUND($C$4*0.5/5,0/5)*5 -> 140 | W46: - | X46: =ROUND($C$4*0.75/5,0/5)*5 -> 205
A47: Break | D47: 10 Minutes or Later that day | R47: Break | U47: 10 Minutes or Later that day
A48: Dumbbell Shoulder Press | B48: Top | C48: 0:0:0:60 | D48: 3 Rep | G48: 10 Sets | R48: Dumbbell Shoulder Press | S48: Top | T48: 0:0:0:60 | U48: 3 Rep | X48: 10 Sets
A49: PAIR W/ | D49: =ROUND($L$4*0.5/5,0/5)*5 -> 35 | F49: - | G49: =ROUND($L$4*0.6/5,0/5)*5 -> 40 | R49: PAIR W/ | U49: =ROUND($L$4*0.5/5,0/5)*5 -> 35 | W49: - | X49: =ROUND($L$4*0.6/5,0/5)*5 -> 40
A50: Straight Bar Curl | B50: Bottom | C50: 0:0:0:60 | D50: 3 Rep | G50: 10 Sets | R50: EZ Curl Reverse Curl | S50: Bottom | T50: 0:0:0:60 | U50: 3 Rep | X50: 10 Sets
A52: Break | D52: 10 Minutes or Later that day | R52: Break | U52: 10 Minutes or Later that day
A53: Dumbbell Curl To Press | B53: Top | C53: 0:0:0:60 | D53: 5 Rep | G53: 10 Sets | R53: Dumbbell Curl To Press | S53: Top | T53: 0:0:0:60 | U53: 5 Rep | X53: 10 Sets
A54: PAIR W/ | R54: PAIR W/
A55: Tricep Push Down | B55: Bottom | C55: 0:0:0:60 | D55: 5 Rep | G55: 10 Sets | R55: Tricep Push Down | S55: Bottom | T55: 0:0:0:60 | U55: 5 Rep | X55: 10 Sets
D56: =ROUND($T$4*0.5/5,0/5)*5 -> 70 | F56: - | G56: =ROUND($T$4*0.75/5,0/5)*5 -> 100 | V56: =ROUND($T$4*0.5/5,0/5)*5 -> 70 | X56: - | Y56: =ROUND($T$4*0.75/5,0/5)*5 -> 100
A57: Break | D57: 10 Minutes or Later that day | R57: Break | U57: 10 Minutes or Later that day
A58: Plate Pinchers | B58: Top | C58: 0:0:0:60 | D58: 5 Rep | G58: 10 Sets | R58: Plate Pinchers | S58: Top | T58: 0:0:0:60 | U58: 5 Rep | X58: 10 Sets
A59: PAIR W/ | R59: PAIR W/
A60: Dumbbell Shrugs | B60: Bottom | C60: 0:0:0:60 | D60: 5 Rep | G60: 10 Sets | R60: Dumbbell Shrugs | S60: Bottom | T60: 0:0:0:60 | U60: 5 Rep | X60: 10 Sets
G61: Variations | X61: Variations

Sheet Max Sheet
D1: MAXES
C3: Back Squat | D3: Bench Press | E3: Deadlift | F3: Front Squat | G3: Power Snatch | H3: Incline Bench | I3: Jerk | J3: Clean | K3: DB Bench | L3: DB Incline | M3: DB Sh Press | N3: Lat pull | O3: Pull up Max | P3: Chin Max | Q3: Dips | R3: Curls | S3: Body Weight | T3: RDL | U3: Tri push | V3: Push Press
B4: Name | C4: 600 | D4: 275 | E4: 525 | F4: 265 | G4: 200 | H4: 300 | I4: 185 | J4: 245 | K4: 70 | L4: 90 | M4: 70 | N4: 225 | O4: 10 | P4: 10 | Q4: 20 | R4: 100 | S4: 200 | T4: 300 | U4: 135 | V4: 185
