Workbook
Name abs: Exercises!$I$5:$I$103
Name back: Exercises!$D$5:$D$103
Name benchrow: 'Max Sheet'!$H$4:$H$20
Name bi: Exercises!$G$5:$G$103
Name calf: Exercises!$M$5:$M$103
Name chest: Exercises!$C$5:$C$103
Name Class: [1]Exercises!$B$4:$V$4
Name Class: [1]Exercises!$E$4:$Y$4
Name Class: Exercises!$B$4:$S$4
Name dliftrow: 'Max Sheet'!$I$4:$I$20
Name exercise: '[1]Max Sheet'!$J$3:$EH$3
Name exercise: '[1]Max Sheet'!$J$3:$EH$3
Name exercise: 'Max Sheet'!$J$3:$ES$3
Name Grip: Exercises!$K$5:$K$103
Name ham: Exercises!$F$5:$F$103
Name iso: Exercises!$S$5:$S$103
Name jerseylookup: '[1]Max Sheet'!$B$3:$DH$303
Name jerseylookup: '[1]Max Sheet'!$B$3:$DH$303
Name jerseylookup: 'Max Sheet'!$B$3:$DH$20
Name legs: Exercises!$E$5:$E$103
Name line: [1]LineSystem!$B$4:$B$588
Name line: [1]LineSystem!$B$4:$B$588
Name line: LineSystem!$B$4:$B$488
Name linesystem: [1]LineSystem!$B$4:$F$607
Name linesystem: [1]LineSystem!$B$4:$F$607
Name linesystem: LineSystem!$B$4:$F$510
Name lowervalue: Exercises!#REF!
Name manual: Exercises!$P$5:$P$103
Name maxdata: '[1]Max Sheet'!$J$3:$EH$303
Name maxdata: '[1]Max Sheet'!$J$3:$EH$303
Name maxdata: 'Max Sheet'!$J$3:$DH$20
Name namelist: '[1]Max Sheet'!$B$3:$B$303
Name namelist: '[1]Max Sheet'!$B$3:$B$303
Name namelist: 'Max Sheet'!$B$3:$B$20
Name neck: Exercises!$O$5:$O$103
Name notes: [1]Notes!$A$1:$A$591
Name notes: [1]Notes!$A$1:$A$591
Name notes: Notes!$A$1:$A$578
Name nrlookup: '[1]Max Sheet'!$B$4:$F$303
Name nrlookup: '[1]Max Sheet'!$B$4:$F$303
Name nrlookup: 'Max Sheet'!$B$4:$F$20
Name oly: Exercises!$B$5:$B$89
Name olylookup: 'Max Sheet'!$CM$3:$DH$3
Name olyvalue: [1]Exercises!#REF!
Name olyvalue: Exercises!#REF!
Name plyo_chest: Exercises!$R$5:$R$103
Name plyo_leg: Exercises!$Q$5:$Q$103
Name plyoleg: Exercises!$Q$5:$Q$103
Name prehab: Exercises!$J$5:$J$103
Name primary: [1]Exercises!#REF!
Name primary: Exercises!#REF!
Name rest: Exercises!$N$5:$N$103
Name shoulder: Exercises!$L$5:$L$103
Name squatrow: 'Max Sheet'!$G$4:$G$20
Name tablelist: '[1]Max Sheet'!$B$4:$I$303
Name tablelist: '[1]Max Sheet'!$B$4:$I$303
Name tablelist: 'Max Sheet'!$B$4:$I$20
Name tri: Exercises!$H$5:$H$103
Name uppervalue: [1]Exercises!#REF!
Name uppervalue: Exercises!#REF!

Sheet max calculator
A1: www.XLAthlete.com
A2: Max Calculator and Rep Sheet
A3: Athlete's Name:
A4: Weight Lifted | E4: Estimated 1RM
A5: 0 | E5: =(A5*A8)*0.0333+A5 -> 0
A7: Reps Performed | E7: Weights and Reps
A8: 0 | E8: =E5*1 -> 0 | F8: - | G8: =E5*0.95 -> 0 | H8: 1-2 reps
E9: =E5*0.95 -> 0 | F9: - | G9: =E5*0.925 -> 0 | H9: 2-3 reps
A10: Exercise Performed | E10: =E5*0.925 -> 0 | F10: - | G10: =E5*0.875 -> 0 | H10: 3-4 reps
A11: Any | E11: =E5*0.875 -> 0 | F11: - | G11: =E5*0.85 -> 0 | H11: 4-5 reps
E12: =E5*0.85 -> 0 | F12: - | G12: =E5*0.8 -> 0 | H12: 4-6 reps
E13: =E5*0.8 -> 0 | F13: - | G13: =E5*0.75 -> 0 | H13: 6-10 reps
E14: =E5*0.75 -> 0 | F14: - | G14: =E5*0.675 -> 0 | H14: 10-15 reps
E15: =E5*0.675 -> 0 | F15: - | G15: =E5*0.565 -> 0 | H15: 15-20 reps

Sheet Max Sheet
B1: To purchase software visit xlathlete.com
D2: Neuro Rating
B3: Athlete Name | C3: Jersey # | D3: Monday | E3: Wednesday | F3: Friday | G3: Back Squat | H3: Bench | I3: Power Clean | J3: Front Squat | K3: Back Squat | L3: Step up | M3: Lunge | N3: Rack squat | O3: Deadlift | P3: Safety Squat | Q3: Hex Deadlift | R3: Sport Back Squat | S3: Glute Bar Lift | T3: SL Hex Deadlift | U3: SL Glute Bar Lift | V3: DB SL Calf Raise | W3: Front Step Up | X3: Leg Press | Y3: SL Squat | Z3: SL Reverse Hyper | AA3: DB Step up | AB3: Walking Lunge | AC3: Straight Leg DL | AD3: Reverse Hyper | AE3: SL Leg Press | AF3: DB Walking Lunge | AG3: DB Straight Leg DL | AH3: Bench Press | AI3: Incline Bench | AJ3: DB Bench | AK3: DB Incline Bench | AL3: DB Fly | AM3: DB Incline Fly | AN3: DB Shoulder Press | AO3: DB Side Lat Raise | AP3: DB Rear Delt | AQ3: OH Lat Raise | AR3: Arnold Press | AS3: DB Shrug | AT3: Shrug | AU3: Lat Pull Down | AV3: DB BO Row | AW3: BB BO Row | AX3: Pull Up | AY3: Lat Pull Supine | AZ3: Dynamic Lat Pull | BA3: Squat Lat Row | BB3: Straight Arm Lat Pull | BC3: DB Twist | BD3: SA Lat Pull Down | BE3: SA Lat Pull Supine | BF3: SA Squat Lat Row | BG3: SA Straight Lat Pull | BH3: SA Straight Side Lat Pull | BI3: Lat Pull Chin Grip | BJ3: Close Grip Bench | BK3: Ez Tri Ext | BL3: Ez Throat Press | BM3: Dips | BN3: Tri Push Down | BO3: Rev Grip Tri Push | BP3: DB Tri Ext | BQ3: DB Tri Pro Sup | BR3: DB Tri Sup Pro | BS3: DB tri Floor Press | BT3: DB Throat Press | BU3: DB Pro Sup Throat | BV3: DB Sup Pro Throat | BW3: SA Tri Push Down | BX3: SA Rev Grip Tri Push Down | BY3: Chin Up | BZ3: Bar Curl | CA3: Concentration Curl | CB3: Ez Bar Curl | CC3: Reverse Curl | CD3: DB Curl | CE3: Drag Curl | CF3: Zottman Curl | CG3: DB Curl to Press | CH3: Incline Hammer Curls | CI3: Gripper | CJ3: DB Curl to Arnold | CK3: JM Press | CL3: JM DB Press | CM3: Power Clean | CN3: Clean | CO3: Clean & Jerk | CP3: Jerk | CQ3: Push Press | CR3: Snatch | CS3: Power Snatch | CT3: RDL | CU3: DB Hang Clean | CV3: DB Jerk | CW3: DB Push Press | CX3: SA Snatch | CY3: DB Hang Snatch | CZ3: DB RDL | DA3: DB RDL Shrug | DB3: DB RDL InLine | DC3: RDL Shrug | DD3: DB Clean & Jerk | DE3: Clean Pulls | DF3: Hang Snatch | DG3: Jerk Support Iso | DH3: Rack Deadlift
A4: 1 | B4: John | C4: 7 | D4: 1 | E4: 1 | F4: 1 | G4: 100 | H4: 100 | I4: 100 | J4: =$G4*0.8 -> 80 | K4: =G4 -> 100 | L4: =$G4*0.5 -> 50 | M4: =$G4*0.4 -> 40 | N4: =$G4*1.2 -> 120 | O4: =$G4*1.2 -> 120 | P4: =$G4*1.33 -> 133 | Q4: =$G4*1.15 -> 115 | R4: =$G4*1 -> 100 | S4: =$G4*1 -> 100 | T4: =$G4*0.5 -> 50 | U4: =$G4*0.5 -> 50 | V4: =$G4*0.2 -> 20 | W4: =$G4*0.4 -> 40 | X4: =$G4*1.5 -> 150 | Y4: =$G4*0.45 -> 45 | Z4: =$G4*0.3 -> 30 | AA4: =$G4*0.2 -> 20 | AB4: =$G4*0.4 -> 40 | AC4: =$G4*0.65 -> 65 | AD4: =$G4*0.5 -> 50 | AE4: =$G4*0.75 -> 75 | AF4: =$G4*0.4 -> 40 | AG4: =$G4*0.25 -> 25 | AH4: =H4 -> 100 | AI4: =$H4*0.8 -> 80 | AJ4: =$H4*0.35 -> 35 | AK4: =$H4*0.3 -> 30 | AL4: =$H4*0.25 -> 25 | AM4: =$H4*0.175 -> 17.5 | AN4: =$H4*0.25 -> 25 | AO4: =$H4*0.125 -> 12.5 | AP4: =$H4*0.15 -> 15 | AQ4: =$H4*0.1 -> 10 | AR4: =$H4*0.2 -> 20 | AS4: =$H4*0.7 -> 70 | AT4: =$H4*1.2 -> 120 | AU4: =$H4*0.75 -> 75 | AV4: =$H4*0.35 -> 35 | AW4: =$H4*0.65 -> 65 | AX4: =$H4*0.6 -> 60 | AY4: =$H4*0.55 -> 55 | AZ4: =$H4*0.55 -> 55 | BA4: =$H4*0.55 -> 55 | BB4: =$H4*0.25 -> 25 | BC4: =$H4*0.25 -> 25 | BD4: =$H4*0.35 -> 35 | BE4: =$H4*0.3 -> 30 | BF4: =$H4*0.25 -> 25 | BG4: =$H4*0.15 -> 15 | BH4: =$H4*0.15 -> 15 | BI4: =$H4*0.75 -> 75 | BJ4: =$H4*0.8 -> 80 | BK4: =$H4*0.35 -> 35 | BL4: =$H4*0.35 -> 35 | BM4: =$H4*0.8 -> 80 | BN4: =$H4*0.5 -> 50 | BO4: =$H4*0.5 -> 50 | BP4: =$H4*0.2 -> 20 | BQ4: =$H4*0.15 -> 15 | BR4: =$H4*0.15 -> 15 | BS4: =$H4*0.2 -> 20 | BT4: =$H4*0.2 -> 20 | BU4: =$H4*0.2 -> 20 | BV4: =$H4*0.2 -> 20 | BW4: =$H4*0.15 -> 15 | BX4: =$H4*0.15 -> 15 | BY4: =$H4*0.6 -> 60 | BZ4: =$H4*0.4 -> 40 | CA4: =$H4*0.15 -> 15 | CB4: =$H4*0.4 -> 40 | CC4: =$H4*0.35 -> 35 | CD4: =$H4*0.2 -> 20 | CE4: =$H4*0.35 -> 35 | CF4: =$H4*0.2 -> 20 | CG4: =$H4*0.2 -> 20 | CH4: =$H4*0.2 -> 20 | CI4: =$H4*0.6 -> 60 | CJ4: =$H4*0.2 -> 20 | CK4: =$H4*0.6 -> 60 | CL4: =$H4*0.3 -> 30 | CM4: =$I4 -> 100 | CN4: =$I4*0.9 -> 90 | CO4: =$I4*0.7 -> 70 | CP4: =$I4*0.7 -> 70 | CQ4: =$I4*0.65 -> 65 | CR4: =$I4*0.7 -> 70 | CS4: =$I4*0.7 -> 70 | CT4: =$G4*0.75 -> 75 | CU4: =$I4*0.5 -> 50 | CV4: =$I4*0.35 -> 35 | CW4: =$I4*0.35 -> 35 | CX4: =$I4*0.25 -> 25 | CY4: =$I4*0.25 -> 25 | CZ4: =$G4*0.33 -> 33 | DA4: =$G4*0.33 -> 33 | DB4: =$G4*0.33 -> 33 | DC4: =$G4*0.75 -> 75 | DD4: =$I4*0.4 -> 40 | DE4: =$I4*1.25 -> 125 | DF4: =$I4*0.7 -> 70 | DG4: =$I4*1 -> 100 | DH4: =$I4*1.5 -> 150
A5: 2 | B5: Mike | C5: 44 | D5: 0.5 | E5: 0.6 | F5: 0.7 | G5: 100 | H5: 100 | I5: 100 | J5: =$G5*0.8 -> 80 | K5: =G5 -> 100 | L5: =$G5*0.5 -> 50 | M5: =$G5*0.4 -> 40 | N5: =$G5*1.2 -> 120 | O5: =$G5*1.2 -> 120 | P5: =$G5*1.33 -> 133 | Q5: =$G5*1.15 -> 115 | R5: =$G5*1 -> 100 | S5: =$G5*1 -> 100 | T5: =$G5*0.5 -> 50 | U5: =$G5*0.5 -> 50 | V5: =$G5*0.2 -> 20 | W5: =$G5*0.4 -> 40 | X5: =$G5*1.5 -> 150 | Y5: =$G5*0.45 -> 45 | Z5: =$G5*0.3 -> 30 | AA5: =$G5*0.2 -> 20 | AB5: =$G5*0.4 -> 40 | AC5: =$G5*0.65 -> 65 | AD5: =$G5*0.5 -> 50 | AE5: =$G5*0.75 -> 75 | AF5: =$G5*0.4 -> 40 | AG5: =$G5*0.25 -> 25 | AH5: =H5 -> 100 | AI5: =$H5*0.8 -> 80 | AJ5: =$H5*0.35 -> 35 | AK5: =$H5*0.3 -> 30 | AL5: =$H5*0.25 -> 25 | AM5: =$H5*0.175 -> 17.5 | AN5: =$H5*0.25 -> 25 | AO5: =$H5*0.125 -> 12.5 | AP5: =$H5*0.15 -> 15 | AQ5: =$H5*0.1 -> 10 | AR5: =$H5*0.2 -> 20 | AS5: =$H5*0.7 -> 70 | AT5: =$H5*1.2 -> 120 | AU5: =$H5*0.75 -> 75 | AV5: =$H5*0.35 -> 35 | AW5: =$H5*0.65 -> 65 | AX5: =$H5*0.6 -> 60 | AY5: =$H5*0.55 -> 55 | AZ5: =$H5*0.55 -> 55 | BA5: =$H5*0.55 -> 55 | BB5: =$H5*0.25 -> 25 | BC5: =$H5*0.25 -> 25 | BD5: =$H5*0.35 -> 35 | BE5: =$H5*0.3 -> 30 | BF5: =$H5*0.25 -> 25 | BG5: =$H5*0.15 -> 15 | BH5: =$H5*0.15 -> 15 | BI5: =$H5*0.75 -> 75 | BJ5: =$H5*0.8 -> 80 | BK5: =$H5*0.35 -> 35 | BL5: =$H5*0.35 -> 35 | BM5: =$H5*0.8 -> 80 | BN5: =$H5*0.5 -> 50 | BO5: =$H5*0.5 -> 50 | BP5: =$H5*0.2 -> 20 | BQ5: =$H5*0.15 -> 15 | BR5: =$H5*0.15 -> 15 | BS5: =$H5*0.2 -> 20 | BT5: =$H5*0.2 -> 20 | BU5: =$H5*0.2 -> 20 | BV5: =$H5*0.2 -> 20 | BW5: =$H5*0.15 -> 15 | BX5: =$H5*0.15 -> 15 | BY5: =$H5*0.6 -> 60 | BZ5: =$H5*0.4 -> 40 | CA5: =$H5*0.15 -> 15 | CB5: =$H5*0.4 -> 40 | CC5: =$H5*0.35 -> 35 | CD5: =$H5*0.2 -> 20 | CE5: =$H5*0.35 -> 35 | CF5: =$H5*0.2 -> 20 | CG5: =$H5*0.2 -> 20 | CH5: =$H5*0.2 -> 20 | CI5: =$H5*0.6 -> 60 | CJ5: =$H5*0.2 -> 20 | CK5: =$H5*0.6 -> 60 | CL5: =$H5*0.3 -> 30 | CM5: =$I5 -> 100 | CN5: =$I5*0.9 -> 90 | CO5: =$I5*0.7 -> 70 | CP5: =$I5*0.7 -> 70 | CQ5: =$I5*0.65 -> 65 | CR5: =$I5*0.7 -> 70 | CS5: =$I5*0.7 -> 70 | CT5: =$G5*0.75 -> 75 | CU5: =$I5*0.5 -> 50 | CV5: =$I5*0.35 -> 35 | CW5: =$I5*0.35 -> 35 | CX5: =$I5*0.25 -> 25 | CY5: =$I5*0.25 -> 25 | CZ5: =$G5*0.33 -> 33 | DA5: =$G5*0.33 -> 33 | DB5: =$G5*0.33 -> 33 | DC5: =$G5*0.75 -> 75 | DD5: =$I5*0.4 -> 40 | DE5: =$I5*1.25 -> 125 | DF5: =$I5*0.7 -> 70 | DG5: =$I5*1 -> 100 | DH5: =$I5*1.5 -> 150
A6: 3 | B6: Tad | C6: 22 | D6: 1 | E6: 1 | F6: 1 | G6: 415 | H6: 295 | I6: 255 | J6: =$G6*0.8 -> 332 | K6: =G6 -> 415 | L6: =$G6*0.5 -> 207.5 | M6: =$G6*0.4 -> 166 | N6: =$G6*1.2 -> 498 | O6: =$G6*1.2 -> 498 | P6: =$G6*1.33 -> 551.95 | Q6: =$G6*1.15 -> 477.25 | R6: =$G6*1 -> 415 | S6: =$G6*1 -> 415 | T6: =$G6*0.5 -> 207.5 | U6: =$G6*0.5 -> 207.5 | V6: =$G6*0.2 -> 83 | W6: =$G6*0.4 -> 166 | X6: =$G6*1.5 -> 622.5 | Y6: =$G6*0.45 -> 186.75 | Z6: =$G6*0.3 -> 124.5 | AA6: =$G6*0.2 -> 83 | AB6: =$G6*0.4 -> 166 | AC6: =$G6*0.65 -> 269.75 | AD6: =$G6*0.5 -> 207.5 | AE6: =$G6*0.75 -> 311.25 | AF6: =$G6*0.4 -> 166 | AG6: =$G6*0.25 -> 103.75 | AH6: =H6 -> 295 | AI6: =$H6*0.8 -> 236 | AJ6: =$H6*0.35 -> 103.25 | AK6: =$H6*0.3 -> 88.5 | AL6: =$H6*0.25 -> 73.75 | AM6: =$H6*0.175 -> 51.625 | AN6: =$H6*0.25 -> 73.75 | AO6: =$H6*0.125 -> 36.875 | AP6: =$H6*0.15 -> 44.25 | AQ6: =$H6*0.1 -> 29.5 | AR6: =$H6*0.2 -> 59 | AS6: =$H6*0.7 -> 206.5 | AT6: =$H6*1.2 -> 354 | AU6: =$H6*0.75 -> 221.25 | AV6: =$H6*0.35 -> 103.25 | AW6: =$H6*0.65 -> 191.75 | AX6: =$H6*0.6 -> 177 | AY6: =$H6*0.55 -> 162.25 | AZ6: =$H6*0.55 -> 162.25 | BA6: =$H6*0.55 -> 162.25 | BB6: =$H6*0.25 -> 73.75 | BC6: =$H6*0.25 -> 73.75 | BD6: =$H6*0.35 -> 103.25 | BE6: =$H6*0.3 -> 88.5 | BF6: =$H6*0.25 -> 73.75 | BG6: =$H6*0.15 -> 44.25 | BH6: =$H6*0.15 -> 44.25 | BI6: =$H6*0.75 -> 221.25 | BJ6: =$H6*0.8 -> 236 | BK6: =$H6*0.35 -> 103.25 | BL6: =$H6*0.35 -> 103.25 | BM6: =$H6*0.8 -> 236 | BN6: =$H6*0.5 -> 147.5 | BO6: =$H6*0.5 -> 147.5 | BP6: =$H6*0.2 -> 59 | BQ6: =$H6*0.15 -> 44.25 | BR6: =$H6*0.15 -> 44.25 | BS6: =$H6*0.2 -> 59 | BT6: =$H6*0.2 -> 59 | BU6: =$H6*0.2 -> 59 | BV6: =$H6*0.2 -> 59 | BW6: =$H6*0.15 -> 44.25 | BX6: =$H6*0.15 -> 44.25 | BY6: =$H6*0.6 -> 177 | BZ6: =$H6*0.4 -> 118 | CA6: =$H6*0.15 -> 44.25 | CB6: =$H6*0.4 -> 118 | CC6: =$H6*0.35 -> 103.25 | CD6: =$H6*0.2 -> 59 | CE6: =$H6*0.35 -> 103.25 | CF6: =$H6*0.2 -> 59 | CG6: =$H6*0.2 -> 59 | CH6: =$H6*0.2 -> 59 | CI6: =$H6*0.6 -> 177 | CJ6: =$H6*0.2 -> 59 | CK6: =$H6*0.6 -> 177 | CL6: =$H6*0.3 -> 88.5 | CM6: =$I6 -> 255 | CN6: =$I6*0.9 -> 229.5 | CO6: =$I6*0.7 -> 178.5 | CP6: =$I6*0.7 -> 178.5 | CQ6: =$I6*0.65 -> 165.75 | CR6: =$I6*0.7 -> 178.5 | CS6: =$I6*0.7 -> 178.5 | CT6: =$G6*0.75 -> 311.25 | CU6: =$I6*0.5 -> 127.5 | CV6: =$I6*0.35 -> 89.25 | CW6: =$I6*0.35 -> 89.25 | CX6: =$I6*0.25 -> 63.75 | CY6: =$I6*0.25 -> 63.75 | CZ6: =$G6*0.33 -> 136.95 | DA6: =$G6*0.33 -> 136.95 | DB6: =$G6*0.33 -> 136.95 | DC6: =$G6*0.75 -> 311.25 | DD6: =$I6*0.4 -> 102 | DE6: =$I6*1.25 -> 318.75 | DF6: =$I6*0.7 -> 178.5 | DG6: =$I6*1 -> 255 | DH6: =$I6*1.5 -> 382.5
A7: 4 | D7: 1 | E7: 1 | F7: 1 | J7: =$G7*0.8 -> 0 | K7: =G7 -> 0 | L7: =$G7*0.5 -> 0 | M7: =$G7*0.4 -> 0 | N7: =$G7*1.2 -> 0 | O7: =$G7*1.2 -> 0 | P7: =$G7*1.33 -> 0 | Q7: =$G7*1.15 -> 0 | R7: =$G7*1 -> 0 | S7: =$G7*1 -> 0 | T7: =$G7*0.5 -> 0 | U7: =$G7*0.5 -> 0 | V7: =$G7*0.2 -> 0 | W7: =$G7*0.4 -> 0 | X7: =$G7*1.5 -> 0 | Y7: =$G7*0.45 -> 0 | Z7: =$G7*0.3 -> 0 | AA7: =$G7*0.2 -> 0 | AB7: =$G7*0.4 -> 0 | AC7: =$G7*0.65 -> 0 | AD7: =$G7*0.5 -> 0 | AE7: =$G7*0.75 -> 0 | AF7: =$G7*0.4 -> 0 | AG7: =$G7*0.25 -> 0 | AH7: =H7 -> 0 | AI7: =$H7*0.8 -> 0 | AJ7: =$H7*0.35 -> 0 | AK7: =$H7*0.3 -> 0 | AL7: =$H7*0.25 -> 0 | AM7: =$H7*0.175 -> 0 | AN7: =$H7*0.25 -> 0 | AO7: =$H7*0.125 -> 0 | AP7: =$H7*0.15 -> 0 | AQ7: =$H7*0.1 -> 0 | AR7: =$H7*0.2 -> 0 | AS7: =$H7*0.7 -> 0 | AT7: =$H7*1.2 -> 0 | AU7: =$H7*0.75 -> 0 | AV7: =$H7*0.35 -> 0 | AW7: =$H7*0.65 -> 0 | AX7: =$H7*0.6 -> 0 | AY7: =$H7*0.55 -> 0 | AZ7: =$H7*0.55 -> 0 | BA7: =$H7*0.55 -> 0 | BB7: =$H7*0.25 -> 0 | BC7: =$H7*0.25 -> 0 | BD7: =$H7*0.35 -> 0 | BE7: =$H7*0.3 -> 0 | BF7: =$H7*0.25 -> 0 | BG7: =$H7*0.15 -> 0 | BH7: =$H7*0.15 -> 0 | BI7: =$H7*0.75 -> 0 | BJ7: =$H7*0.8 -> 0 | BK7: =$H7*0.35 -> 0 | BL7: =$H7*0.35 -> 0 | BM7: =$H7*0.8 -> 0 | BN7: =$H7*0.5 -> 0 | BO7: =$H7*0.5 -> 0 | BP7: =$H7*0.2 -> 0 | BQ7: =$H7*0.15 -> 0 | BR7: =$H7*0.15 -> 0 | BS7: =$H7*0.2 -> 0 | BT7: =$H7*0.2 -> 0 | BU7: =$H7*0.2 -> 0 | BV7: =$H7*0.2 -> 0 | BW7: =$H7*0.15 -> 0 | BX7: =$H7*0.15 -> 0 | BY7: =$H7*0.6 -> 0 | BZ7: =$H7*0.4 -> 0 | CA7: =$H7*0.15 -> 0 | CB7: =$H7*0.4 -> 0 | CC7: =$H7*0.35 -> 0 | CD7: =$H7*0.2 -> 0 | CE7: =$H7*0.35 -> 0 | CF7: =$H7*0.2 -> 0 | CG7: =$H7*0.2 -> 0 | CH7: =$H7*0.2 -> 0 | CI7: =$H7*0.6 -> 0 | CJ7: =$H7*0.2 -> 0 | CK7: =$H7*0.6 -> 0 | CL7: =$H7*0.3 -> 0 | CM7: =$I7 -> 0 | CN7: =$I7*0.9 -> 0 | CO7: =$I7*0.7 -> 0 | CP7: =$I7*0.7 -> 0 | CQ7: =$I7*0.65 -> 0 | CR7: =$I7*0.7 -> 0 | CS7: =$I7*0.7 -> 0 | CT7: =$G7*0.75 -> 0 | CU7: =$I7*0.5 -> 0 | CV7: =$I7*0.35 -> 0 | CW7: =$I7*0.35 -> 0 | CX7: =$I7*0.25 -> 0 | CY7: =$I7*0.25 -> 0 | CZ7: =$G7*0.33 -> 0 | DA7: =$G7*0.33 -> 0 | DB7: =$G7*0.33 -> 0 | DC7: =$G7*0.75 -> 0 | DD7: =$I7*0.4 -> 0 | DE7: =$I7*1.25 -> 0 | DF7: =$I7*0.7 -> 0 | DG7: =$I7*1 -> 0 | DH7: =$I7*1.5 -> 0
A8: 5 | D8: 1 | E8: 1 | F8: 1 | J8: =$G8*0.8 -> 0 | K8: =G8 -> 0 | L8: =$G8*0.5 -> 0 | M8: =$G8*0.4 -> 0 | N8: =$G8*1.2 -> 0 | O8: =$G8*1.2 -> 0 | P8: =$G8*1.33 -> 0 | Q8: =$G8*1.15 -> 0 | R8: =$G8*1 -> 0 | S8: =$G8*1 -> 0 | T8: =$G8*0.5 -> 0 | U8: =$G8*0.5 -> 0 | V8: =$G8*0.2 -> 0 | W8: =$G8*0.4 -> 0 | X8: =$G8*1.5 -> 0 | Y8: =$G8*0.45 -> 0 | Z8: =$G8*0.3 -> 0 | AA8: =$G8*0.2 -> 0 | AB8: =$G8*0.4 -> 0 | AC8: =$G8*0.65 -> 0 | AD8: =$G8*0.5 -> 0 | AE8: =$G8*0.75 -> 0 | AF8: =$G8*0.4 -> 0 | AG8: =$G8*0.25 -> 0 | AH8: =H8 -> 0 | AI8: =$H8*0.8 -> 0 | AJ8: =$H8*0.35 -> 0 | AK8: =$H8*0.3 -> 0 | AL8: =$H8*0.25 -> 0 | AM8: =$H8*0.175 -> 0 | AN8: =$H8*0.25 -> 0 | AO8: =$H8*0.125 -> 0 | AP8: =$H8*0.15 -> 0 | AQ8: =$H8*0.1 -> 0 | AR8: =$H8*0.2 -> 0 | AS8: =$H8*0.7 -> 0 | AT8: =$H8*1.2 -> 0 | AU8: =$H8*0.75 -> 0 | AV8: =$H8*0.35 -> 0 | AW8: =$H8*0.65 -> 0 | AX8: =$H8*0.6 -> 0 | AY8: =$H8*0.55 -> 0 | AZ8: =$H8*0.55 -> 0 | BA8: =$H8*0.55 -> 0 | BB8: =$H8*0.25 -> 0 | BC8: =$H8*0.25 -> 0 | BD8: =$H8*0.35 -> 0 | BE8: =$H8*0.3 -> 0 | BF8: =$H8*0.25 -> 0 | BG8: =$H8*0.15 -> 0 | BH8: =$H8*0.15 -> 0 | BI8: =$H8*0.75 -> 0 | BJ8: =$H8*0.8 -> 0 | BK8: =$H8*0.35 -> 0 | BL8: =$H8*0.35 -> 0 | BM8: =$H8*0.8 -> 0 | BN8: =$H8*0.5 -> 0 | BO8: =$H8*0.5 -> 0 | BP8: =$H8*0.2 -> 0 | BQ8: =$H8*0.15 -> 0 | BR8: =$H8*0.15 -> 0 | BS8: =$H8*0.2 -> 0 | BT8: =$H8*0.2 -> 0 | BU8: =$H8*0.2 -> 0 | BV8: =$H8*0.2 -> 0 | BW8: =$H8*0.15 -> 0 | BX8: =$H8*0.15 -> 0 | BY8: =$H8*0.6 -> 0 | BZ8: =$H8*0.4 -> 0 | CA8: =$H8*0.15 -> 0 | CB8: =$H8*0.4 -> 0 | CC8: =$H8*0.35 -> 0 | CD8: =$H8*0.2 -> 0 | CE8: =$H8*0.35 -> 0 | CF8: =$H8*0.2 -> 0 | CG8: =$H8*0.2 -> 0 | CH8: =$H8*0.2 -> 0 | CI8: =$H8*0.6 -> 0 | CJ8: =$H8*0.2 -> 0 | CK8: =$H8*0.6 -> 0 | CL8: =$H8*0.3 -> 0 | CM8: =$I8 -> 0 | CN8: =$I8*0.9 -> 0 | CO8: =$I8*0.7 -> 0 | CP8: =$I8*0.7 -> 0 | CQ8: =$I8*0.65 -> 0 | CR8: =$I8*0.7 -> 0 | CS8: =$I8*0.7 -> 0 | CT8: =$G8*0.75 -> 0 | CU8: =$I8*0.5 -> 0 | CV8: =$I8*0.35 -> 0 | CW8: =$I8*0.35 -> 0 | CX8: =$I8*0.25 -> 0 | CY8: =$I8*0.25 -> 0 | CZ8: =$G8*0.33 -> 0 | DA8: =$G8*0.33 -> 0 | DB8: =$G8*0.33 -> 0 | DC8: =$G8*0.75 -> 0 | DD8: =$I8*0.4 -> 0 | DE8: =$I8*1.25 -> 0 | DF8: =$I8*0.7 -> 0 | DG8: =$I8*1 -> 0 | DH8: =$I8*1.5 -> 0
A9: 6 | D9: 1 | E9: 1 | F9: 1 | J9: =$G9*0.8 -> 0 | K9: =G9 -> 0 | L9: =$G9*0.5 -> 0 | M9: =$G9*0.4 -> 0 | N9: =$G9*1.2 -> 0 | O9: =$G9*1.2 -> 0 | P9: =$G9*1.33 -> 0 | Q9: =$G9*1.15 -> 0 | R9: =$G9*1 -> 0 | S9: =$G9*1 -> 0 | T9: =$G9*0.5 -> 0 | U9: =$G9*0.5 -> 0 | V9: =$G9*0.2 -> 0 | W9: =$G9*0.4 -> 0 | X9: =$G9*1.5 -> 0 | Y9: =$G9*0.45 -> 0 | Z9: =$G9*0.3 -> 0 | AA9: =$G9*0.2 -> 0 | AB9: =$G9*0.4 -> 0 | AC9: =$G9*0.65 -> 0 | AD9: =$G9*0.5 -> 0 | AE9: =$G9*0.75 -> 0 | AF9: =$G9*0.4 -> 0 | AG9: =$G9*0.25 -> 0 | AH9: =H9 -> 0 | AI9: =$H9*0.8 -> 0 | AJ9: =$H9*0.35 -> 0 | AK9: =$H9*0.3 -> 0 | AL9: =$H9*0.25 -> 0 | AM9: =$H9*0.175 -> 0 | AN9: =$H9*0.25 -> 0 | AO9: =$H9*0.125 -> 0 | AP9: =$H9*0.15 -> 0 | AQ9: =$H9*0.1 -> 0 | AR9: =$H9*0.2 -> 0 | AS9: =$H9*0.7 -> 0 | AT9: =$H9*1.2 -> 0 | AU9: =$H9*0.75 -> 0 | AV9: =$H9*0.35 -> 0 | AW9: =$H9*0.65 -> 0 | AX9: =$H9*0.6 -> 0 | AY9: =$H9*0.55 -> 0 | AZ9: =$H9*0.55 -> 0 | BA9: =$H9*0.55 -> 0 | BB9: =$H9*0.25 -> 0 | BC9: =$H9*0.25 -> 0 | BD9: =$H9*0.35 -> 0 | BE9: =$H9*0.3 -> 0 | BF9: =$H9*0.25 -> 0 | BG9: =$H9*0.15 -> 0 | BH9: =$H9*0.15 -> 0 | BI9: =$H9*0.75 -> 0 | BJ9: =$H9*0.8 -> 0 | BK9: =$H9*0.35 -> 0 | BL9: =$H9*0.35 -> 0 | BM9: =$H9*0.8 -> 0 | BN9: =$H9*0.5 -> 0 | BO9: =$H9*0.5 -> 0 | BP9: =$H9*0.2 -> 0 | BQ9: =$H9*0.15 -> 0 | BR9: =$H9*0.15 -> 0 | BS9: =$H9*0.2 -> 0 | BT9: =$H9*0.2 -> 0 | BU9: =$H9*0.2 -> 0 | BV9: =$H9*0.2 -> 0 | BW9: =$H9*0.15 -> 0 | BX9: =$H9*0.15 -> 0 | BY9: =$H9*0.6 -> 0 | BZ9: =$H9*0.4 -> 0 | CA9: =$H9*0.15 -> 0 | CB9: =$H9*0.4 -> 0 | CC9: =$H9*0.35 -> 0 | CD9: =$H9*0.2 -> 0 | CE9: =$H9*0.35 -> 0 | CF9: =$H9*0.2 -> 0 | CG9: =$H9*0.2 -> 0 | CH9: =$H9*0.2 -> 0 | CI9: =$H9*0.6 -> 0 | CJ9: =$H9*0.2 -> 0 | CK9: =$H9*0.6 -> 0 | CL9: =$H9*0.3 -> 0 | CM9: =$I9 -> 0 | CN9: =$I9*0.9 -> 0 | CO9: =$I9*0.7 -> 0 | CP9: =$I9*0.7 -> 0 | CQ9: =$I9*0.65 -> 0 | CR9: =$I9*0.7 -> 0 | CS9: =$I9*0.7 -> 0 | CT9: =$G9*0.75 -> 0 | CU9: =$I9*0.5 -> 0 | CV9: =$I9*0.35 -> 0 | CW9: =$I9*0.35 -> 0 | CX9: =$I9*0.25 -> 0 | CY9: =$I9*0.25 -> 0 | CZ9: =$G9*0.33 -> 0 | DA9: =$G9*0.33 -> 0 | DB9: =$G9*0.33 -> 0 | DC9: =$G9*0.75 -> 0 | DD9: =$I9*0.4 -> 0 | DE9: =$I9*1.25 -> 0 | DF9: =$I9*0.7 -> 0 | DG9: =$I9*1 -> 0 | DH9: =$I9*1.5 -> 0
A10: 7 | D10: 1 | E10: 1 | F10: 1 | J10: =$G10*0.8 -> 0 | K10: =G10 -> 0 | L10: =$G10*0.5 -> 0 | M10: =$G10*0.4 -> 0 | N10: =$G10*1.2 -> 0 | O10: =$G10*1.2 -> 0 | P10: =$G10*1.33 -> 0 | Q10: =$G10*1.15 -> 0 | R10: =$G10*1 -> 0 | S10: =$G10*1 -> 0 | T10: =$G10*0.5 -> 0 | U10: =$G10*0.5 -> 0 | V10: =$G10*0.2 -> 0 | W10: =$G10*0.4 -> 0 | X10: =$G10*1.5 -> 0 | Y10: =$G10*0.45 -> 0 | Z10: =$G10*0.3 -> 0 | AA10: =$G10*0.2 -> 0 | AB10: =$G10*0.4 -> 0 | AC10: =$G10*0.65 -> 0 | AD10: =$G10*0.5 -> 0 | AE10: =$G10*0.75 -> 0 | AF10: =$G10*0.4 -> 0 | AG10: =$G10*0.25 -> 0 | AH10: =H10 -> 0 | AI10: =$H10*0.8 -> 0 | AJ10: =$H10*0.35 -> 0 | AK10: =$H10*0.3 -> 0 | AL10: =$H10*0.25 -> 0 | AM10: =$H10*0.175 -> 0 | AN10: =$H10*0.25 -> 0 | AO10: =$H10*0.125 -> 0 | AP10: =$H10*0.15 -> 0 | AQ10: =$H10*0.1 -> 0 | AR10: =$H10*0.2 -> 0 | AS10: =$H10*0.7 -> 0 | AT10: =$H10*1.2 -> 0 | AU10: =$H10*0.75 -> 0 | AV10: =$H10*0.35 -> 0 | AW10: =$H10*0.65 -> 0 | AX10: =$H10*0.6 -> 0 | AY10: =$H10*0.55 -> 0 | AZ10: =$H10*0.55 -> 0 | BA10: =$H10*0.55 -> 0 | BB10: =$H10*0.25 -> 0 | BC10: =$H10*0.25 -> 0 | BD10: =$H10*0.35 -> 0 | BE10: =$H10*0.3 -> 0 | BF10: =$H10*0.25 -> 0 | BG10: =$H10*0.15 -> 0 | BH10: =$H10*0.15 -> 0 | BI10: =$H10*0.75 -> 0 | BJ10: =$H10*0.8 -> 0 | BK10: =$H10*0.35 -> 0 | BL10: =$H10*0.35 -> 0 | BM10: =$H10*0.8 -> 0 | BN10: =$H10*0.5 -> 0 | BO10: =$H10*0.5 -> 0 | BP10: =$H10*0.2 -> 0 | BQ10: =$H10*0.15 -> 0 | BR10: =$H10*0.15 -> 0 | BS10: =$H10*0.2 -> 0 | BT10: =$H10*0.2 -> 0 | BU10: =$H10*0.2 -> 0 | BV10: =$H10*0.2 -> 0 | BW10: =$H10*0.15 -> 0 | BX10: =$H10*0.15 -> 0 | BY10: =$H10*0.6 -> 0 | BZ10: =$H10*0.4 -> 0 | CA10: =$H10*0.15 -> 0 | CB10: =$H10*0.4 -> 0 | CC10: =$H10*0.35 -> 0 | CD10: =$H10*0.2 -> 0 | CE10: =$H10*0.35 -> 0 | CF10: =$H10*0.2 -> 0 | CG10: =$H10*0.2 -> 0 | CH10: =$H10*0.2 -> 0 | CI10: =$H10*0.6 -> 0 | CJ10: =$H10*0.2 -> 0 | CK10: =$H10*0.6 -> 0 | CL10: =$H10*0.3 -> 0 | CM10: =$I10 -> 0 | CN10: =$I10*0.9 -> 0 | CO10: =$I10*0.7 -> 0 | CP10: =$I10*0.7 -> 0 | CQ10: =$I10*0.65 -> 0 | CR10: =$I10*0.7 -> 0 | CS10: =$I10*0.7 -> 0 | CT10: =$G10*0.75 -> 0 | CU10: =$I10*0.5 -> 0 | CV10: =$I10*0.35 -> 0 | CW10: =$I10*0.35 -> 0 | CX10: =$I10*0.25 -> 0 | CY10: =$I10*0.25 -> 0 | CZ10: =$G10*0.33 -> 0 | DA10: =$G10*0.33 -> 0 | DB10: =$G10*0.33 -> 0 | DC10: =$G10*0.75 -> 0 | DD10: =$I10*0.4 -> 0 | DE10: =$I10*1.25 -> 0 | DF10: =$I10*0.7 -> 0 | DG10: =$I10*1 -> 0 | DH10: =$I10*1.5 -> 0

Sheet Exercises
B2: Secondary
B3: OLYMPIC | C3: CHEST | D3: BACK | E3: LEGS | F3: HAMSTRINGS | G3: BICEPS | H3: TRICEPS | I3: ABDOMINALS | J3: PREHAB | K3: GRIP | L3: SHOULDERS | M3: CALVES | N3: RESTORATION | O3: NECK | P3: MANUAL | Q3: Plyometrics | R3: Explosive chest | S3: Iso | T3: Miscellaneous 1 | U3: Miscellaneous 2 | V3: Miscellaneous 3
B4: oly | C4: chest | D4: back | E4: legs | F4: ham | G4: bi | H4: tri | I4: abs | J4: prehab | K4: grip | L4: shoulder | M4: calf | N4: rest | O4: neck | P4: manual | Q4: Plyo_leg | R4: Plyo_chest | S4: iso | T4: Misc_1 | U4: Misc_2 | V4: Misc_3
A6: To purchase software visit xlathlete.com | B6: Clean | C6: Bench Press | D6: Back Ext | E6: Back Drop Squat | F6: SL Reverse Hyper | G6: Bar Curl | H6: Band Tricep Extension | I6: Alt V Up | J6: 4 WY BND Ankle Kicks | K6: Bam Bams | L6: Arnold Press | M6: Ankle Band Work | N6: Bulgarian Split Squat Iso | O6: Manual 4-Way Neck | P6: Manual 4-Way Neck | Q6: 1/2 Squat Jump | R6: Band Speed Press | S6: Balance SL Iso Squat
B7: Clean & Jerk | C7: Bench Throw | D7: Back Ext DB Row | E7: Back Power Step Up | F7: 3 Way Ham Press | G7: Bicep Curl Band | H7: Close Grip Bench | I7: Alt V Up Iso Hold | J7: 90 90 Glute Iso Hold | K7: Gripper | L7: Band Lying External Rotation | M7: Anterior Tibialis Band | N7: Band Hip Traction | O7: 1 Way Neck | P7: Manual Arm Abduction | Q7: Accelerated Band Half Box SL Jump | R7: Bench Throw | S7: Bench Dip Iso Hold
B8: Clean Pulls | C8: Close Grip Bench | D8: Back Ext DB Twisting Row | E8: Back Squat | F8: 3 Way Ham Touch | G8: Bicep Curl Shock | H8: Close Grip Push Up | I8: Alternating Superman | J8: 90 90 Groin Iso Hold | K8: Partner Pipe Twist | L8: Band Lying Internal Rotation | M8: Calf Raises | N8: Glute Ham Hang | O8: 2 Way Neck | P8: Manual Bench Press | Q8: Accelerated Band Half Box SL Jump Pause | R8: Chest Drop Plyo Push Up | S8: Bench Glute Lift Iso
B9: DB Hang Clean | C9: DB Bench | D9: BB BO Row | E9: Balance SL Squat | F9: 3 Way Ham Touch Med Ball | G9: Chin Up | H9: DB Pro Sup Thoat | I9: Bicycle Crunch | J9: Balance SL Squat | K9: Plate Flip | L9: Cuban Press | M9: DB SL Calf Raise | N9: Isometric Split | O9: 4 Way neck | P9: Manual Bicep Curl | Q9: Accelerated Band Half Lunge Pause Jump | R9: Clap Push Up | S9: Bicep Curl Iso Hold
B10: DB Jerk | C10: DB Fly | D10: Chin Up | E10: Bulgarian Split Squat | F10: Assisted Nordic Ham Curls | G10: Concentration Curl | H10: DB Sup Pro Throat | I10: Closed Lunge V Band Twist | J10: Ball Bent Knee Glute Lift | K10: Plate Hold | L10: Cuban Press Figure 8 | M10: Leg Press Calf Raise | N10: Laying Relaxation | O10: Neck Bridge 4 way | P10: Manual Clamshell | Q10: Accelerated Band Half Lunge Reactive Jump | R10: Close Grip Bench Press Throw | S10: Bulgarian Split Squat Iso
B11: DB Push Press | C11: DB Incline Press | D11: DB BO Row | E11: Cross Over Step Up | F11: Ball Band Leg Curls | G11: DB Curl | H11: DB Throat Press | I11: Cobra | J11: Band Adduction | K11: Plate Pinchers | L11: Cuban Press Incline | N11: Laying Wall Shakes | O11: Neck Bridge 2 way | P11: Manual Leg Abduction | Q11: Accelerated Band Half SL Jump Eccentric | R11: Decline push up Drops | S11: Chest Iso Hold

Sheet LineSystem
B3: NAME | C3: REPS | D3: % | E3: % | F3: SETS
I5: To purchase software visit xlathlete.com
B6: Double warm up | C6: 5,3 | D6: 0.5 | E6: 0.67 | F6: 1,1
B7: s1- 1 78-80% | C7: 1 | D7: 0.78 | E7: 0.8 | F7: 1
B8: s1- 5 75-80% | C8: 5 | D8: 0.75 | E8: 0.8 | F8: 1
B9: s1- 5 80-82.5% | C9: 5 | D9: 0.8 | E9: 0.825 | F9: 1
B10: s1- 8 70-75% | C10: 8 | D10: 0.7 | E10: 0.75 | F10: 1
B11: s1- 8 75-80% | C11: 8 | D11: 0.75 | E11: 0.8 | F11: 1
B12: s1-10 65-70% | C12: 10 | D12: 0.65 | E12: 0.7 | F12: 1
B13: s1-10 70-75% | C13: 10 | D13: 0.7 | E13: 0.75 | F13: 1
B14: s1-12 65-70% | C14: 12 | D14: 0.65 | E14: 0.7 | F14: 1
B15: s1-12 70-75% | C15: 12 | D15: 0.7 | E15: 0.75 | F15: 1
B16: s1-15 65-70% | C16: 15 | D16: 0.65 | E16: 0.7 | F16: 1
B17: s1-20 65-70% | C17: 20 | D17: 0.65 | E17: 0.7 | F17: 1
B18: s2- 1 87.5-92.5% | C18: 1 | D18: 0.875 | E18: 0.925 | F18: 2
... B95: s5-20 50-60% | C95: 20 | D95: 0.65 | E95: 0.7 | F95: 5

Sheet Notes
A2: 0:0:0:0
A3: 0:0:0:0:10:10 | C3: To purchase software visit xlathlete.com
A4: 0:0:0:0:17:10
A5: 0:0:0:0:25:12
A6: 0:0:X:0:32:30
A7: 0:0:X:0:40:30
A8: 0:1:0:10
A9: 0:10:0:0
A10: 0:12:0:0
A11: 0:15:0:0
A12: 0:2:0:0
A13: 0:4:0:0
A14: 0:5:0:0
A15: 0:5:0:30
... A59: X:X:X:X:32:30

Sheet Builder_Template
B1: Created by: | C1: Tad Johnson | D1: Athlete: | E1: =Print_Template!E1 -> Tad | R1: =VLOOKUP($E$1,jerseylookup,2,FALSE) -> 22 | W1: Maxes | Z1: Squat | AB1: =VLOOKUP(E1,tablelist,6,FALSE) -> 415 | AF1: Bench | AG1: =VLOOKUP(E1,tablelist,7,FALSE) -> 295 | AK1: Power Clean | AN1: =VLOOKUP(E1,tablelist,8,FALSE) -> 255
B3: To purchase software visit xlathlete.com
L4: Team Name
A10: =VLOOKUP($E$1,nrlookup,3,FALSE) -> 1 | D10: Day 1 | F10: Week 1 | L10: Week 2 | O10: =VLOOKUP($E$1,nrlookup,4,FALSE) -> 1 | R10: Day 3 | T10: Week 1 | Z10: Week 2 | AC10: =VLOOKUP($E$1,nrlookup,5,FALSE) -> 1 | AF10: Day 5 | AH10: Week 1 | AN10: Week 2
B11: Class | C11: Cycle 1 | F11: Reps | I11: Load | L11: Sets | M11: Notes | P11: Class | Q11: Cycle 1 | T11: Reps | W11: Load | Z11: Sets | AA11: Notes | AD11: Class | AE11: Cycle 1 | AH11: Reps | AK11: Load | AN11: Sets | AO11: Notes
A12: =IF(D12>0,INDEX(maxdata,MATCH($E$1,namelist,0),MATCH(D12,exercise,0))*IF(A$10>0,A$10,1),0) -> 295 | B12: chest | C12: s3- 8 75-80% | D12: Bench Press | F12: =IF(C12>0,VLOOKUP(C12,linesystem,2,FALSE),"") -> 8 | G12: =IF(C12>0,VLOOKUP(C12,linesystem,3,FALSE),"") -> 0.75 | H12: =IF(C12>0,VLOOKUP(C12,linesystem,4,FALSE),"") -> 0.8 | I12: =IF(AND(F12>0,A12>0),MROUND(A12*G12*IF(A$10>0,1,1),5),IF(AND(F12>0,A12=0),MROUND(G12*IF(A$10>0,A$10,1),0.05),0)) -> 220 | K12: =IF(AND(F12>0,A12>0),MROUND(A12*H12*IF(A$10>0,1,1),5),IF(AND(F12>0,A12=0),MROUND(H12*IF(A$10>0,A$10,1),0.05),0)) -> 235 | L12: =IF(C12>0,VLOOKUP(C12,linesystem,5,FALSE),"") -> 3 | O12: =IF(R12>0,INDEX(maxdata,MATCH($E$1,namelist,0),MATCH(R12,exercise,0))*IF(O$10>0,O$10,1),0) -> 0 | T12: =IF(Q12>0,VLOOKUP(Q12,linesystem,2,FALSE),"") | U12: =IF(P12>0,VLOOKUP(Q12,linesystem,3,FALSE),"") | V12: =IF(P12>0,VLOOKUP(Q12,linesystem,4,FALSE),"") | W12: =IF(AND(T12>0,O12>0),MROUND(O12*U12*IF($O$10>0,1,1),5),IF(AND(T12>0,Q12=0),MROUND(U12*IF(O$10>0,O$10,1),0.05),0)) -> #VALUE! | Y12: =IF(AND(T12>0,O12>0),MROUND(O12*V12*IF($O$10>0,1,1),5),IF(AND(T12>0,Q12=0),MROUND(V12*IF(O$10>0,O$10,1),0.05),0)) -> #VALUE! | Z12: =IF(Q12>0,VLOOKUP(Q12,linesystem,5,FALSE),"") | AC12: =IF(AF12>0,INDEX(maxdata,MATCH($E$1,namelist,0),MATCH(AF12,exercise,0))*IF(AC$10>0,AC$10,1),0) -> 0 | AH12: =IF(AE12>0,VLOOKUP(AE12,linesystem,2,FALSE),"") | AI12: =IF(AE12>0,VLOOKUP(AE12,linesystem,3,FALSE),"") | AJ12: =IF(AE12>0,VLOOKUP(AE12,linesystem,4,FALSE),"") | AK12: =IF(AND(AH12>0,AC12>0),MROUND(AC12*AI12*IF($O$10>0,1,1),5),IF(AND(AH12>0,AE12=0),MROUND(AI12*IF(AC$10>0,AC$10,1),0.05),0)) -> #VALUE! | AM12: =IF(AND(AH12>0,AC12>0),MROUND(AC12*AJ12*IF($O$10>0,1,1),5),IF(AND(AH12>0,AE12=0),MROUND(AJ12*IF(AC$10>0,AC$10,1),0.05),0)) -> #VALUE! | AN12: =IF(AE12>0,VLOOKUP(AE12,linesystem,5,FALSE),"")
B13: pair w/ | D13: =IF(AND(D12>0,D14>0),B13,"") -> pair w/ | P13: pair w/ | R13: =IF(AND(R12>0,R14>0),P13,"") | U13: =IF(P13>0,VLOOKUP(Q13,linesystem,3,FALSE),"") -> #N/A | V13: =IF(P13>0,VLOOKUP(Q13,linesystem,4,FALSE),"") -> #N/A | AD13: pair w/ | AF13: =IF(AND(AF12>0,AF14>0),AD13,"")
A14: =IF(D14>0,INDEX(maxdata,MATCH($E$1,namelist,0),MATCH(D14,exercise,0))*IF(A$10>0,A$10,1),0) -> 191.75 | B14: back | C14: s3-12 65-70% | D14: BB BO Row | F14: =IF(C14>0,VLOOKUP(C14,linesystem,2,FALSE),"") -> 12 | G14: =IF(C14>0,VLOOKUP(C14,linesystem,3,FALSE),"") -> 0.65 | H14: =IF(C14>0,VLOOKUP(C14,linesystem,4,FALSE),"") -> 0.7 | I14: =IF(AND(F14>0,A14>0),MROUND(A14*G14*IF(A$10>0,1,1),5),IF(AND(F14>0,A14=0),MROUND(G14*IF(A$10>0,A$10,1),0.05),0)) -> 125 | K14: =IF(AND(F14>0,A14>0),MROUND(A14*H14*IF(A$10>0,1,1),5),IF(AND(F14>0,A14=0),MROUND(H14*IF(A$10>0,A$10,1),0.05),0)) -> 135 | L14: =IF(C14>0,VLOOKUP(C14,linesystem,5,FALSE),"") -> 3 | O14: =IF(R14>0,INDEX(maxdata,MATCH($E$1,namelist,0),MATCH(R14,exercise,0))*IF(O$10>0,O$10,1),0) -> 0 | T14: =IF(Q14>0,VLOOKUP(Q14,linesystem,2,FALSE),"") | U14: =IF(P14>0,VLOOKUP(Q14,linesystem,3,FALSE),"") | V14: =IF(P14>0,VLOOKUP(Q14,linesystem,4,FALSE),"") | W14: =IF(AND(T14>0,O14>0),MROUND(O14*U14*IF($O$10>0,1,1),5),IF(AND(T14>0,Q14=0),MROUND(U14*IF(O$10>0,O$10,1),0.05),0)) -> #VALUE! | Y14: =IF(AND(T14>0,O14>0),MROUND(O14*V14*IF($O$10>0,1,1),5),IF(AND(T14>0,Q14=0),MROUND(V14*IF(O$10>0,O$10,1),0.05),0)) -> #VALUE! | Z14: =IF(Q14>0,VLOOKUP(Q14,linesystem,5,FALSE),"") | AC14: =IF(AF14>0,INDEX(maxdata,MATCH($E$1,namelist,0),MATCH(AF14,exercise,0))*IF(AC$10>0,AC$10,1),0) -> 0 | AH14: =IF(AE14>0,VLOOKUP(AE14,linesystem,2,FALSE),"") | AI14: =IF(AE14>0,VLOOKUP(AE14,linesystem,3,FALSE),"") | AJ14: =IF(AE14>0,VLOOKUP(AE14,linesystem,4,FALSE),"") | AK14: =IF(AND(AH14>0,AC14>0),MROUND(AC14*AI14*IF($O$10>0,1,1),5),IF(AND(AH14>0,AE14=0),MROUND(AI14*IF(AC$10>0,AC$10,1),0.05),0)) -> #VALUE! | AM14: =IF(AND(AH14>0,AC14>0),MROUND(AC14*AJ14*IF($O$10>0,1,1),5),IF(AND(AH14>0,AE14=0),MROUND(AJ14*IF(AC$10>0,AC$10,1),0.05),0)) -> #VALUE! | AN14: =IF(AE14>0,VLOOKUP(AE14,linesystem,5,FALSE),"")
B15: pair w/ | D15: =IF(AND(D14>0,D16>0),B15,"") -> pair w/ | P15: pair w/ | R15: =IF(AND(R14>0,R16>0),P15,"") | U15: =IF(P15>0,VLOOKUP(Q15,linesystem,3,FALSE),"") -> #N/A | V15: =IF(P15>0,VLOOKUP(Q15,linesystem,4,FALSE),"") -> #N/A | AD15: pair w/ | AF15: =IF(AND(AF14>0,AF16>0),AD15,"")
A16: =IF(D16>0,INDEX(maxdata,MATCH($E$1,namelist,0),MATCH(D16,exercise,0))*IF(A$10>0,A$10,1),0) -> 124.5 | B16: ham | C16: s3- 6 80-82.5% | D16: SL Reverse Hyper | F16: =IF(C16>0,VLOOKUP(C16,linesystem,2,FALSE),"") -> 6 | G16: =IF(C16>0,VLOOKUP(C16,linesystem,3,FALSE),"") -> 0.8 | H16: =IF(C16>0,VLOOKUP(C16,linesystem,4,FALSE),"") -> 0.825 | I16: =IF(AND(F16>0,A16>0),MROUND(A16*G16*IF(A$10>0,1,1),5),IF(AND(F16>0,A16=0),MROUND(G16*IF(A$10>0,A$10,1),0.05),0)) -> 100 | K16: =IF(AND(F16>0,A16>0),MROUND(A16*H16*IF(A$10>0,1,1),5),IF(AND(F16>0,A16=0),MROUND(H16*IF(A$10>0,A$10,1),0.05),0)) -> 105 | L16: =IF(C16>0,VLOOKUP(C16,linesystem,5,FALSE),"") -> 3 | O16: =IF(R16>0,INDEX(maxdata,MATCH($E$1,namelist,0),MATCH(R16,exercise,0))*IF(O$10>0,O$10,1),0) -> 0 | T16: =IF(Q16>0,VLOOKUP(Q16,linesystem,2,FALSE),"") | U16: =IF(P16>0,VLOOKUP(Q16,linesystem,3,FALSE),"") | V16: =IF(P16>0,VLOOKUP(Q16,linesystem,4,FALSE),"") | W16: =IF(AND(T16>0,O16>0),MROUND(O16*U16*IF($O$10>0,1,1),5),IF(AND(T16>0,Q16=0),MROUND(U16*IF(O$10>0,O$10,1),0.05),0)) -> #VALUE! | Y16: =IF(AND(T16>0,O16>0),MROUND(O16*V16*IF($O$10>0,1,1),5),IF(AND(T16>0,Q16=0),MROUND(V16*IF(O$10>0,O$10,1),0.05),0)) -> #VALUE! | Z16: =IF(Q16>0,VLOOKUP(Q16,linesystem,5,FALSE),"") | AC16: =IF(AF16>0,INDEX(maxdata,MATCH($E$1,namelist,0),MATCH(AF16,exercise,0))*IF(AC$10>0,AC$10,1),0) -> 0 | AH16: =IF(AE16>0,VLOOKUP(AE16,linesystem,2,FALSE),"") | AI16: =IF(AE16>0,VLOOKUP(AE16,linesystem,3,FALSE),"") | AJ16: =IF(AE16>0,VLOOKUP(AE16,linesystem,4,FALSE),"") | AK16: =IF(AND(AH16>0,AC16>0),MROUND(AC16*AI16*IF($O$10>0,1,1),5),IF(AND(AH16>0,AE16=0),MROUND(AI16*IF(AC$10>0,AC$10,1),0.05),0)) -> #VALUE! | AM16: =IF(AND(AH16>0,AC16>0),MROUND(AC16*AJ16*IF($O$10>0,1,1),5),IF(AND(AH16>0,AE16=0),MROUND(AJ16*IF(AC$10>0,AC$10,1),0.05),0)) -> #VALUE! | AN16: =IF(AE16>0,VLOOKUP(AE16,linesystem,5,FALSE),"")
A17: =IF(D17>0,INDEX(maxdata,MATCH($E$1,namelist,0),MATCH(D17,exercise,0))*IF(A$10>0,A$10,1),0) -> 59 | B17: shoulder | C17: s3- 8 70-75% | D17: Arnold Press | F17: =IF(C17>0,VLOOKUP(C17,linesystem,2,FALSE),"") -> 8 | G17: =IF(C17>0,VLOOKUP(C17,linesystem,3,FALSE),"") -> 0.7 | H17: =IF(C17>0,VLOOKUP(C17,linesystem,4,FALSE),"") -> 0.75 | I17: =IF(AND(F17>0,A17>0),MROUND(A17*G17*IF(A$10>0,1,1),5),IF(AND(F17>0,A17=0),MROUND(G17*IF(A$10>0,A$10,1),0.05),0)) -> 40 | K17: =IF(AND(F17>0,A17>0),MROUND(A17*H17*IF(A$10>0,1,1),5),IF(AND(F17>0,A17=0),MROUND(H17*IF(A$10>0,A$10,1),0.05),0)) -> 45 | L17: =IF(C17>0,VLOOKUP(C17,linesystem,5,FALSE),"") -> 3 | O17: =IF(R17>0,INDEX(maxdata,MATCH($E$1,namelist,0),MATCH(R17,exercise,0))*IF(O$10>0,O$10,1),0) -> 0 | T17: =IF(Q17>0,VLOOKUP(Q17,linesystem,2,FALSE),"") | U17: =IF(P17>0,VLOOKUP(Q17,linesystem,3,FALSE),"") | V17: =IF(P17>0,VLOOKUP(Q17,linesystem,4,FALSE),"") | W17: =IF(AND(T17>0,O17>0),MROUND(O17*U17*IF($O$10>0,1,1),5),IF(AND(T17>0,Q17=0),MROUND(U17*IF(O$10>0,O$10,1),0.05),0)) -> #VALUE! | Y17: =IF(AND(T17>0,O17>0),MROUND(O17*V17*IF($O$10>0,1,1),5),IF(AND(T17>0,Q17=0),MROUND(V17*IF(O$10>0,O$10,1),0.05),0)) -> #VALUE! | Z17: =IF(Q17>0,VLOOKUP(Q17,linesystem,5,FALSE),"") | AC17: =IF(AF17>0,INDEX(maxdata,MATCH($E$1,namelist,0),MATCH(AF17,exercise,0))*IF(AC$10>0,AC$10,1),0) -> 0 | AH17: =IF(AE17>0,VLOOKUP(AE17,linesystem,2,FALSE),"") | AI17: =IF(AE17>0,VLOOKUP(AE17,linesystem,3,FALSE),"") | AJ17: =IF(AE17>0,VLOOKUP(AE17,linesystem,4,FALSE),"") | AK17: =IF(AND(AH17>0,AC17>0),MROUND(AC17*AI17*IF($O$10>0,1,1),5),IF(AND(AH17>0,AE17=0),MROUND(AI17*IF(AC$10>0,AC$10,1),0.05),0)) -> #VALUE! | AM17: =IF(AND(AH17>0,AC17>0),MROUND(AC17*AJ17*IF($O$10>0,1,1),5),IF(AND(AH17>0,AE17=0),MROUND(AJ17*IF(AC$10>0,AC$10,1),0.05),0)) -> #VALUE! | AN17: =IF(AE17>0,VLOOKUP(AE17,linesystem,5,FALSE),"")
B18: pair w/ | D18: =IF(AND(D17>0,D19>0),B18,"") | P18: pair w/ | R18: =IF(AND(R17>0,R19>0),P18,"") | U18: =IF(P18>0,VLOOKUP(Q18,linesystem,3,FALSE),"") -> #N/A | V18: =IF(P18>0,VLOOKUP(Q18,linesystem,4,FALSE),"") -> #N/A | AD18: pair w/ | AF18: =IF(AND(AF17>0,AF19>0),AD18,"")
A19: =IF(D19>0,INDEX(maxdata,MATCH($E$1,namelist,0),MATCH(D19,exercise,0))*IF(A$10>0,A$10,1),0) -> 0 | F19: =IF(C19>0,VLOOKUP(C19,linesystem,2,FALSE),"") | G19: =IF(C19>0,VLOOKUP(C19,linesystem,3,FALSE),"") | H19: =IF(C19>0,VLOOKUP(C19,linesystem,4,FALSE),"") | I19: =IF(AND(F19>0,A19>0),MROUND(A19*G19*IF(A$10>0,1,1),5),IF(AND(F19>0,A19=0),MROUND(G19*IF(A$10>0,A$10,1),0.05),0)) -> #VALUE! | K19: =IF(AND(F19>0,A19>0),MROUND(A19*H19*IF(A$10>0,1,1),5),IF(AND(F19>0,A19=0),MROUND(H19*IF(A$10>0,A$10,1),0.05),0)) -> #VALUE! | L19: =IF(C19>0,VLOOKUP(C19,linesystem,5,FALSE),"") | O19: =IF(R19>0,INDEX(maxdata,MATCH($E$1,namelist,0),MATCH(R19,exercise,0))*IF(O$10>0,O$10,1),0) -> 0 | T19: =IF(Q19>0,VLOOKUP(Q19,linesystem,2,FALSE),"") | U19: =IF(P19>0,VLOOKUP(Q19,linesystem,3,FALSE),"") | V19: =IF(P19>0,VLOOKUP(Q19,linesystem,4,FALSE),"") | W19: =IF(AND(T19>0,O19>0),MROUND(O19*U19*IF($O$10>0,1,1),5),IF(AND(T19>0,Q19=0),MROUND(U19*IF(O$10>0,O$10,1),0.05),0)) -> #VALUE! | Y19: =IF(AND(T19>0,O19>0),MROUND(O19*V19*IF($O$10>0,1,1),5),IF(AND(T19>0,Q19=0),MROUND(V19*IF(O$10>0,O$10,1),0.05),0)) -> #VALUE! | Z19: =IF(Q19>0,VLOOKUP(Q19,linesystem,5,FALSE),"") | AC19: =IF(AF19>0,INDEX(maxdata,MATCH($E$1,namelist,0),MATCH(AF19,exercise,0))*IF(AC$10>0,AC$10,1),0) -> 0 | AH19: =IF(AE19>0,VLOOKUP(AE19,linesystem,2,FALSE),"") | AI19: =IF(AE19>0,VLOOKUP(AE19,linesystem,3,FALSE),"") | AJ19: =IF(AE19>0,VLOOKUP(AE19,linesystem,4,FALSE),"") | AK19: =IF(AND(AH19>0,AC19>0),MROUND(AC19*AI19*IF($O$10>0,1,1),5),IF(AND(AH19>0,AE19=0),MROUND(AI19*IF(AC$10>0,AC$10,1),0.05),0)) -> #VALUE! | AM19: =IF(AND(AH19>0,AC19>0),MROUND(AC19*AJ19*IF($O$10>0,1,1),5),IF(AND(AH19>0,AE19=0),MROUND(AJ19*IF(AC$10>0,AC$10,1),0.05),0)) -> #VALUE! | AN19: =IF(AE19>0,VLOOKUP(AE19,linesystem,5,FALSE),"")
B20: pair w/ | D20: =IF(AND(D19>0,D21>0),B20,"") | P20: pair w/ | R20: =IF(AND(R19>0,R21>0),P20,"") | U20: =IF(P20>0,VLOOKUP(Q20,linesystem,3,FALSE),"") -> #N/A | V20: =IF(P20>0,VLOOKUP(Q20,linesystem,4,FALSE),"") -> #N/A | AD20: pair w/ | AF20: =IF(AND(AF19>0,AF21>0),AD20,"")
A21: =IF(D21>0,INDEX(maxdata,MATCH($E$1,namelist,0),MATCH(D21,exercise,0))*IF(A$10>0,A$10,1),0) -> 0 | F21: =IF(C21>0,VLOOKUP(C21,linesystem,2,FALSE),"") | G21: =IF(C21>0,VLOOKUP(C21,linesystem,3,FALSE),"") | H21: =IF(C21>0,VLOOKUP(C21,linesystem,4,FALSE),"") | I21: =IF(AND(F21>0,A21>0),MROUND(A21*G21*IF(A$10>0,1,1),5),IF(AND(F21>0,A21=0),MROUND(G21*IF(A$10>0,A$10,1),0.05),0)) -> #VALUE! | K21: =IF(AND(F21>0,A21>0),MROUND(A21*H21*IF(A$10>0,1,1),5),IF(AND(F21>0,A21=0),MROUND(H21*IF(A$10>0,A$10,1),0.05),0)) -> #VALUE! | L21: =IF(C21>0,VLOOKUP(C21,linesystem,5,FALSE),"") | O21: =IF(R21>0,INDEX(maxdata,MATCH($E$1,namelist,0),MATCH(R21,exercise,0))*IF(O$10>0,O$10,1),0) -> 0 | T21: =IF(Q21>0,VLOOKUP(Q21,linesystem,2,FALSE),"") | U21: =IF(P21>0,VLOOKUP(Q21,linesystem,3,FALSE),"") | V21: =IF(P21>0,VLOOKUP(Q21,linesystem,4,FALSE),"") | W21: =IF(AND(T21>0,O21>0),MROUND(O21*U21*IF($O$10>0,1,1),5),IF(AND(T21>0,Q21=0),MROUND(U21*IF(O$10>0,O$10,1),0.05),0)) -> #VALUE! | Y21: =IF(AND(T21>0,O21>0),MROUND(O21*V21*IF($O$10>0,1,1),5),IF(AND(T21>0,Q21=0),MROUND(V21*IF(O$10>0,O$10,1),0.05),0)) -> #VALUE! | Z21: =IF(Q21>0,VLOOKUP(Q21,linesystem,5,FALSE),"") | AC21: =IF(AF21>0,INDEX(maxdata,MATCH($E$1,namelist,0),MATCH(AF21,exercise,0))*IF(AC$10>0,AC$10,1),0) -> 0 | AH21: =IF(AE21>0,VLOOKUP(AE21,linesystem,2,FALSE),"") | AI21: =IF(AE21>0,VLOOKUP(AE21,linesystem,3,FALSE),"") | AJ21: =IF(AE21>0,VLOOKUP(AE21,linesystem,4,FALSE),"") | AK21: =IF(AND(AH21>0,AC21>0),MROUND(AC21*AI21*IF($O$10>0,1,1),5),IF(AND(AH21>0,AE21=0),MROUND(AI21*IF(AC$10>0,AC$10,1),0.05),0)) -> #VALUE! | AM21: =IF(AND(AH21>0,AC21>0),MROUND(AC21*AJ21*IF($O$10>0,1,1),5),IF(AND(AH21>0,AE21=0),MROUND(AJ21*IF(AC$10>0,AC$10,1),0.05),0)) -> #VALUE! | AN21: =IF(AE21>0,VLOOKUP(AE21,linesystem,5,FALSE),"")
A22: =IF(D22>0,INDEX(maxdata,MATCH($E$1,namelist,0),MATCH(D22,exercise,0))*IF(A$10>0,A$10,1),0) -> 0 | F22: =IF(C22>0,VLOOKUP(C22,linesystem,2,FALSE),"") | G22: =IF(C22>0,VLOOKUP(C22,linesystem,3,FALSE),"") | H22: =IF(C22>0,VLOOKUP(C22,linesystem,4,FALSE),"") | I22: =IF(AND(F22>0,A22>0),MROUND(A22*G22*IF(A$10>0,1,1),5),IF(AND(F22>0,A22=0),MROUND(G22*IF(A$10>0,A$10,1),0.05),0)) -> #VALUE! | K22: =IF(AND(F22>0,A22>0),MROUND(A22*H22*IF(A$10>0,1,1),5),IF(AND(F22>0,A22=0),MROUND(H22*IF(A$10>0,A$10,1),0.05),0)) -> #VALUE! | L22: =IF(C22>0,VLOOKUP(C22,linesystem,5,FALSE),"") | O22: =IF(R22>0,INDEX(maxdata,MATCH($E$1,namelist,0),MATCH(R22,exercise,0))*IF(O$10>0,O$10,1),0) -> 0 | T22: =IF(Q22>0,VLOOKUP(Q22,linesystem,2,FALSE),"") | U22: =IF(P22>0,VLOOKUP(Q22,linesystem,3,FALSE),"") | V22: =IF(P22>0,VLOOKUP(Q22,linesystem,4,FALSE),"") | W22: =IF(AND(T22>0,O22>0),MROUND(O22*U22*IF($O$10>0,1,1),5),IF(AND(T22>0,Q22=0),MROUND(U22*IF(O$10>0,O$10,1),0.05),0)) -> #VALUE! | Y22: =IF(AND(T22>0,O22>0),MROUND(O22*V22*IF($O$10>0,1,1),5),IF(AND(T22>0,Q22=0),MROUND(V22*IF(O$10>0,O$10,1),0.05),0)) -> #VALUE! | Z22: =IF(Q22>0,VLOOKUP(Q22,linesystem,5,FALSE),"") | AC22: =IF(AF22>0,INDEX(maxdata,MATCH($E$1,namelist,0),MATCH(AF22,exercise,0))*IF(AC$10>0,AC$10,1),0) -> 0 | AH22: =IF(AE22>0,VLOOKUP(AE22,linesystem,2,FALSE),"") | AI22: =IF(AE22>0,VLOOKUP(AE22,linesystem,3,FALSE),"") | AJ22: =IF(AE22>0,VLOOKUP(AE22,linesystem,4,FALSE),"") | AK22: =IF(AND(AH22>0,AC22>0),MROUND(AC22*AI22*IF($O$10>0,1,1),5),IF(AND(AH22>0,AE22=0),MROUND(AI22*IF(AC$10>0,AC$10,1),0.05),0)) -> #VALUE! | AM22: =IF(AND(AH22>0,AC22>0),MROUND(AC22*AJ22*IF($O$10>0,1,1),5),IF(AND(AH22>0,AE22=0),MROUND(AJ22*IF(AC$10>0,AC$10,1),0.05),0)) -> #VALUE! | AN22: =IF(AE22>0,VLOOKUP(AE22,linesystem,5,FALSE),"")
B23: pair w/ | D23: =IF(AND(D22>0,D24>0),B23,"") | P23: pair w/ | R23: =IF(AND(R22>0,R24>0),P23,"") | U23: =IF(P23>0,VLOOKUP(Q23,linesystem,3,FALSE),"") -> #N/A | V23: =IF(P23>0,VLOOKUP(Q23,linesystem,4,FALSE),"") -> #N/A | AD23: pair w/ | AF23: =IF(AND(AF22>0,AF24>0),AD23,"")
A24: =IF(D24>0,INDEX(maxdata,MATCH($E$1,namelist,0),MATCH(D24,exercise,0))*IF(A$10>0,A$10,1),0) -> 0 | F24: =IF(C24>0,VLOOKUP(C24,linesystem,2,FALSE),"") | G24: =IF(C24>0,VLOOKUP(C24,linesystem,3,FALSE),"") | H24: =IF(C24>0,VLOOKUP(C24,linesystem,4,FALSE),"") | I24: =IF(AND(F24>0,A24>0),MROUND(A24*G24*IF(A$10>0,1,1),5),IF(AND(F24>0,A24=0),MROUND(G24*IF(A$10>0,A$10,1),0.05),0)) -> #VALUE! | K24: =IF(AND(F24>0,A24>0),MROUND(A24*H24*IF(A$10>0,1,1),5),IF(AND(F24>0,A24=0),MROUND(H24*IF(A$10>0,A$10,1),0.05),0)) -> #VALUE! | L24: =IF(C24>0,VLOOKUP(C24,linesystem,5,FALSE),"") | O24: =IF(R24>0,INDEX(maxdata,MATCH($E$1,namelist,0),MATCH(R24,exercise,0))*IF(O$10>0,O$10,1),0) -> 0 | T24: =IF(Q24>0,VLOOKUP(Q24,linesystem,2,FALSE),"") | U24: =IF(P24>0,VLOOKUP(Q24,linesystem,3,FALSE),"") | V24: =IF(P24>0,VLOOKUP(Q24,linesystem,4,FALSE),"") | W24: =IF(AND(T24>0,O24>0),MROUND(O24*U24*IF($O$10>0,1,1),5),IF(AND(T24>0,Q24=0),MROUND(U24*IF(O$10>0,O$10,1),0.05),0)) -> #VALUE! | Y24: =IF(AND(T24>0,O24>0),MROUND(O24*V24*IF($O$10>0,1,1),5),IF(AND(T24>0,Q24=0),MROUND(V24*IF(O$10>0,O$10,1),0.05),0)) -> #VALUE! | Z24: =IF(Q24>0,VLOOKUP(Q24,linesystem,5,FALSE),"") | AC24: =IF(AF24>0,INDEX(maxdata,MATCH($E$1,namelist,0),MATCH(AF24,exercise,0))*IF(AC$10>0,AC$10,1),0) -> 0 | AH24: =IF(AE24>0,VLOOKUP(AE24,linesystem,2,FALSE),"") | AI24: =IF(AE24>0,VLOOKUP(AE24,linesystem,3,FALSE),"") | AJ24: =IF(AE24>0,VLOOKUP(AE24,linesystem,4,FALSE),"") | AK24: =IF(AND(AH24>0,AC24>0),MROUND(AC24*AI24*IF($O$10>0,1,1),5),IF(AND(AH24>0,AE24=0),MROUND(AI24*IF(AC$10>0,AC$10,1),0.05),0)) -> #VALUE! | AM24: =IF(AND(AH24>0,AC24>0),MROUND(AC24*AJ24*IF($O$10>0,1,1),5),IF(AND(AH24>0,AE24=0),MROUND(AJ24*IF(AC$10>0,AC$10,1),0.05),0)) -> #VALUE! | AN24: =IF(AE24>0,VLOOKUP(AE24,linesystem,5,FALSE),"")
B25: pair w/ | D25: =IF(AND(D24>0,D26>0),B25,"") | P25: pair w/ | R25: =IF(AND(R24>0,R26>0),P25,"") | U25: =IF(P25>0,VLOOKUP(Q25,linesystem,3,FALSE),"") -> #N/A | V25: =IF(P25>0,VLOOKUP(Q25,linesystem,4,FALSE),"") -> #N/A | AD25: pair w/ | AF25: =IF(AND(AF24>0,AF26>0),AD25,"")
A26: =IF(D26>0,INDEX(maxdata,MATCH($E$1,namelist,0),MATCH(D26,exercise,0))*IF(A$10>0,A$10,1),0) -> 0 | F26: =IF(C26>0,VLOOKUP(C26,linesystem,2,FALSE),"") | G26: =IF(C26>0,VLOOKUP(C26,linesystem,3,FALSE),"") | H26: =IF(C26>0,VLOOKUP(C26,linesystem,4,FALSE),"") | I26: =IF(AND(F26>0,A26>0),MROUND(A26*G26*IF(A$10>0,1,1),5),IF(AND(F26>0,A26=0),MROUND(G26*IF(A$10>0,A$10,1),0.05),0)) -> #VALUE! | K26: =IF(AND(F26>0,A26>0),MROUND(A26*H26*IF(A$10>0,1,1),5),IF(AND(F26>0,A26=0),MROUND(H26*IF(A$10>0,A$10,1),0.05),0)) -> #VALUE! | L26: =IF(C26>0,VLOOKUP(C26,linesystem,5,FALSE),"") | O26: =IF(R26>0,INDEX(maxdata,MATCH($E$1,namelist,0),MATCH(R26,exercise,0))*IF(O$10>0,O$10,1),0) -> 0 | T26: =IF(Q26>0,VLOOKUP(Q26,linesystem,2,FALSE),"") | U26: =IF(P26>0,VLOOKUP(Q26,linesystem,3,FALSE),"") | V26: =IF(P26>0,VLOOKUP(Q26,linesystem,4,FALSE),"") | W26: =IF(AND(T26>0,O26>0),MROUND(O26*U26*IF($O$10>0,1,1),5),IF(AND(T26>0,Q26=0),MROUND(U26*IF(O$10>0,O$10,1),0.05),0)) -> #VALUE! | Y26: =IF(AND(T26>0,O26>0),MROUND(O26*V26*IF($O$10>0,1,1),5),IF(AND(T26>0,Q26=0),MROUND(V26*IF(O$10>0,O$10,1),0.05),0)) -> #VALUE! | Z26: =IF(Q26>0,VLOOKUP(Q26,linesystem,5,FALSE),"") | AC26: =IF(AF26>0,INDEX(maxdata,MATCH($E$1,namelist,0),MATCH(AF26,exercise,0))*IF(AC$10>0,AC$10,1),0) -> 0 | AH26: =IF(AE26>0,VLOOKUP(AE26,linesystem,2,FALSE),"") | AI26: =IF(AE26>0,VLOOKUP(AE26,linesystem,3,FALSE),"") | AJ26: =IF(AE26>0,VLOOKUP(AE26,linesystem,4,FALSE),"") | AK26: =IF(AND(AH26>0,AC26>0),MROUND(AC26*AI26*IF($O$10>0,1,1),5),IF(AND(AH26>0,AE26=0),MROUND(AI26*IF(AC$10>0,AC$10,1),0.05),0)) -> #VALUE! | AM26: =IF(AND(AH26>0,AC26>0),MROUND(AC26*AJ26*IF($O$10>0,1,1),5),IF(AND(AH26>0,AE26=0),MROUND(AJ26*IF(AC$10>0,AC$10,1),0.05),0)) -> #VALUE! | AN26: =IF(AE26>0,VLOOKUP(AE26,linesystem,5,FALSE),"")
A27: =IF(D27>0,INDEX(maxdata,MATCH($E$1,namelist,0),MATCH(D27,exercise,0))*IF(A$10>0,A$10,1),0) -> 0 | F27: =IF(C27>0,VLOOKUP(C27,linesystem,2,FALSE),"") | G27: =IF(C27>0,VLOOKUP(C27,linesystem,3,FALSE),"") | H27: =IF(C27>0,VLOOKUP(C27,linesystem,4,FALSE),"") | I27: =IF(AND(F27>0,A27>0),MROUND(A27*G27*IF(A$10>0,1,1),5),IF(AND(F27>0,A27=0),MROUND(G27*IF(A$10>0,A$10,1),0.05),0)) -> #VALUE! | K27: =IF(AND(F27>0,A27>0),MROUND(A27*H27*IF(A$10>0,1,1),5),IF(AND(F27>0,A27=0),MROUND(H27*IF(A$10>0,A$10,1),0.05),0)) -> #VALUE! | L27: =IF(C27>0,VLOOKUP(C27,linesystem,5,FALSE),"") | O27: =IF(R27>0,INDEX(maxdata,MATCH($E$1,namelist,0),MATCH(R27,exercise,0))*IF(O$10>0,O$10,1),0) -> 0 | T27: =IF(Q27>0,VLOOKUP(Q27,linesystem,2,FALSE),"") | U27: =IF(P27>0,VLOOKUP(Q27,linesystem,3,FALSE),"") | V27: =IF(P27>0,VLOOKUP(Q27,linesystem,4,FALSE),"") | W27: =IF(AND(T27>0,O27>0),MROUND(O27*U27*IF($O$10>0,1,1),5),IF(AND(T27>0,Q27=0),MROUND(U27*IF(O$10>0,O$10,1),0.05),0)) -> #VALUE! | Y27: =IF(AND(T27>0,O27>0),MROUND(O27*V27*IF($O$10>0,1,1),5),IF(AND(T27>0,Q27=0),MROUND(V27*IF(O$10>0,O$10,1),0.05),0)) -> #VALUE! | Z27: =IF(Q27>0,VLOOKUP(Q27,linesystem,5,FALSE),"") | AC27: =IF(AF27>0,INDEX(maxdata,MATCH($E$1,namelist,0),MATCH(AF27,exercise,0))*IF(AC$10>0,AC$10,1),0) -> 0 | AH27: =IF(AE27>0,VLOOKUP(AE27,linesystem,2,FALSE),"") | AI27: =IF(AE27>0,VLOOKUP(AE27,linesystem,3,FALSE),"") | AJ27: =IF(AE27>0,VLOOKUP(AE27,linesystem,4,FALSE),"") | AK27: =IF(AND(AH27>0,AC27>0),MROUND(AC27*AI27*IF($O$10>0,1,1),5),IF(AND(AH27>0,AE27=0),MROUND(AI27*IF(AC$10>0,AC$10,1),0.05),0)) -> #VALUE! | AM27: =IF(AND(AH27>0,AC27>0),MROUND(AC27*AJ27*IF($O$10>0,1,1),5),IF(AND(AH27>0,AE27=0),MROUND(AJ27*IF(AC$10>0,AC$10,1),0.05),0)) -> #VALUE! | AN27: =IF(AE27>0,VLOOKUP(AE27,linesystem,5,FALSE),"")
B28: pair w/ | D28: =IF(AND(D27>0,D29>0),B28,"") | P28: pair w/ | R28: =IF(AND(R27>0,R29>0),P28,"") | U28: =IF(P28>0,VLOOKUP(Q28,linesystem,3,FALSE),"") -> #N/A | V28: =IF(P28>0,VLOOKUP(Q28,linesystem,4,FALSE),"") -> #N/A | AD28: pair w/ | AF28: =IF(AND(AF27>0,AF29>0),AD28,"")
A29: =IF(D29>0,INDEX(maxdata,MATCH($E$1,namelist,0),MATCH(D29,exercise,0))*IF(A$10>0,A$10,1),0) -> 0 | F29: =IF(C29>0,VLOOKUP(C29,linesystem,2,FALSE),"") | G29: =IF(C29>0,VLOOKUP(C29,linesystem,3,FALSE),"") | H29: =IF(C29>0,VLOOKUP(C29,linesystem,4,FALSE),"") | I29: =IF(AND(F29>0,A29>0),MROUND(A29*G29*IF(A$10>0,1,1),5),IF(AND(F29>0,A29=0),MROUND(G29*IF(A$10>0,A$10,1),0.05),0)) -> #VALUE! | K29: =IF(AND(F29>0,A29>0),MROUND(A29*H29*IF(A$10>0,1,1),5),IF(AND(F29>0,A29=0),MROUND(H29*IF(A$10>0,A$10,1),0.05),0)) -> #VALUE! | L29: =IF(C29>0,VLOOKUP(C29,linesystem,5,FALSE),"") | O29: =IF(R29>0,INDEX(maxdata,MATCH($E$1,namelist,0),MATCH(R29,exercise,0))*IF(O$10>0,O$10,1),0) -> 0 | T29: =IF(Q29>0,VLOOKUP(Q29,linesystem,2,FALSE),"") | U29: =IF(P29>0,VLOOKUP(Q29,linesystem,3,FALSE),"") | V29: =IF(P29>0,VLOOKUP(Q29,linesystem,4,FALSE),"") | W29: =IF(AND(T29>0,O29>0),MROUND(O29*U29*IF($O$10>0,1,1),5),IF(AND(T29>0,Q29=0),MROUND(U29*IF(O$10>0,O$10,1),0.05),0)) -> #VALUE! | Y29: =IF(AND(T29>0,O29>0),MROUND(O29*V29*IF($O$10>0,1,1),5),IF(AND(T29>0,Q29=0),MROUND(V29*IF(O$10>0,O$10,1),0.05),0)) -> #VALUE! | Z29: =IF(Q29>0,VLOOKUP(Q29,linesystem,5,FALSE),"") | AC29: =IF(AF29>0,INDEX(maxdata,MATCH($E$1,namelist,0),MATCH(AF29,exercise,0))*IF(AC$10>0,AC$10,1),0) -> 0 | AH29: =IF(AE29>0,VLOOKUP(AE29,linesystem,2,FALSE),"") | AI29: =IF(AE29>0,VLOOKUP(AE29,linesystem,3,FALSE),"") | AJ29: =IF(AE29>0,VLOOKUP(AE29,linesystem,4,FALSE),"") | AK29: =IF(AND(AH29>0,AC29>0),MROUND(AC29*AI29*IF($O$10>0,1,1),5),IF(AND(AH29>0,AE29=0),MROUND(AI29*IF(AC$10>0,AC$10,1),0.05),0)) -> #VALUE! | AM29: =IF(AND(AH29>0,AC29>0),MROUND(AC29*AJ29*IF($O$10>0,1,1),5),IF(AND(AH29>0,AE29=0),MROUND(AJ29*IF(AC$10>0,AC$10,1),0.05),0)) -> #VALUE! | AN29: =IF(AE29>0,VLOOKUP(AE29,linesystem,5,FALSE),"")
B30: pair w/ | D30: =IF(AND(D29>0,D31>0),B30,"") | P30: pair w/ | R30: =IF(AND(R29>0,R31>0),P30,"") | U30: =IF(P30>0,VLOOKUP(Q30,linesystem,3,FALSE),"") -> #N/A | V30: =IF(P30>0,VLOOKUP(Q30,linesystem,4,FALSE),"") -> #N/A | AD30: pair w/ | AF30: =IF(AND(AF29>0,AF31>0),AD30,"")
A31: =IF(D31>0,INDEX(maxdata,MATCH($E$1,namelist,0),MATCH(D31,exercise,0))*IF(A$10>0,A$10,1),0) -> 0 | F31: =IF(C31>0,VLOOKUP(C31,linesystem,2,FALSE),"") | G31: =IF(C31>0,VLOOKUP(C31,linesystem,3,FALSE),"") | H31: =IF(C31>0,VLOOKUP(C31,linesystem,4,FALSE),"") | I31: =IF(AND(F31>0,A31>0),MROUND(A31*G31*IF(A$10>0,1,1),5),IF(AND(F31>0,A31=0),MROUND(G31*IF(A$10>0,A$10,1),0.05),0)) -> #VALUE! | K31: =IF(AND(F31>0,A31>0),MROUND(A31*H31*IF(A$10>0,1,1),5),IF(AND(F31>0,A31=0),MROUND(H31*IF(A$10>0,A$10,1),0.05),0)) -> #VALUE! | L31: =IF(C31>0,VLOOKUP(C31,linesystem,5,FALSE),"") | O31: =IF(R31>0,INDEX(maxdata,MATCH($E$1,namelist,0),MATCH(R31,exercise,0))*IF(O$10>0,O$10,1),0) -> 0 | T31: =IF(Q31>0,VLOOKUP(Q31,linesystem,2,FALSE),"") | U31: =IF(P31>0,VLOOKUP(Q31,linesystem,3,FALSE),"") | V31: =IF(P31>0,VLOOKUP(Q31,linesystem,4,FALSE),"") | W31: =IF(AND(T31>0,O31>0),MROUND(O31*U31*IF($O$10>0,1,1),5),IF(AND(T31>0,Q31=0),MROUND(U31*IF(O$10>0,O$10,1),0.05),0)) -> #VALUE! | Y31: =IF(AND(T31>0,O31>0),MROUND(O31*V31*IF($O$10>0,1,1),5),IF(AND(T31>0,Q31=0),MROUND(V31*IF(O$10>0,O$10,1),0.05),0)) -> #VALUE! | Z31: =IF(Q31>0,VLOOKUP(Q31,linesystem,5,FALSE),"") | AC31: =IF(AF31>0,INDEX(maxdata,MATCH($E$1,namelist,0),MATCH(AF31,exercise,0))*IF(AC$10>0,AC$10,1),0) -> 0 | AH31: =IF(AE31>0,VLOOKUP(AE31,linesystem,2,FALSE),"") | AI31: =IF(AE31>0,VLOOKUP(AE31,linesystem,3,FALSE),"") | AJ31: =IF(AE31>0,VLOOKUP(AE31,linesystem,4,FALSE),"") | AK31: =IF(AND(AH31>0,AC31>0),MROUND(AC31*AI31*IF($O$10>0,1,1),5),IF(AND(AH31>0,AE31=0),MROUND(AI31*IF(AC$10>0,AC$10,1),0.05),0)) -> #VALUE! | AM31: =IF(AND(AH31>0,AC31>0),MROUND(AC31*AJ31*IF($O$10>0,1,1),5),IF(AND(AH31>0,AE31=0),MROUND(AJ31*IF(AC$10>0,AC$10,1),0.05),0)) -> #VALUE! | AN31: =IF(AE31>0,VLOOKUP(AE31,linesystem,5,FALSE),"")
A32: =IF(D32>0,INDEX(maxdata,MATCH($E$1,namelist,0),MATCH(D32,exercise,0))*IF(A$10>0,A$10,1),0) -> 0 | F32: =IF(C32>0,VLOOKUP(C32,linesystem,2,FALSE),"") | G32: =IF(C32>0,VLOOKUP(C32,linesystem,3,FALSE),"") | H32: =IF(C32>0,VLOOKUP(C32,linesystem,4,FALSE),"") | I32: =IF(AND(F32>0,A32>0),MROUND(A32*G32*IF(A$10>0,1,1),5),IF(AND(F32>0,A32=0),MROUND(G32*IF(A$10>0,A$10,1),0.05),0)) -> #VALUE! | K32: =IF(AND(F32>0,A32>0),MROUND(A32*H32*IF(A$10>0,1,1),5),IF(AND(F32>0,A32=0),MROUND(H32*IF(A$10>0,A$10,1),0.05),0)) -> #VALUE! | L32: =IF(C32>0,VLOOKUP(C32,linesystem,5,FALSE),"") | O32: =IF(R32>0,INDEX(maxdata,MATCH($E$1,namelist,0),MATCH(R32,exercise,0))*IF(O$10>0,O$10,1),0) -> 0 | T32: =IF(Q32>0,VLOOKUP(Q32,linesystem,2,FALSE),"") | U32: =IF(P32>0,VLOOKUP(Q32,linesystem,3,FALSE),"") | V32: =IF(P32>0,VLOOKUP(Q32,linesystem,4,FALSE),"") | W32: =IF(AND(T32>0,O32>0),MROUND(O32*U32*IF($O$10>0,1,1),5),IF(AND(T32>0,Q32=0),MROUND(U32*IF(O$10>0,O$10,1),0.05),0)) -> #VALUE! | Y32: =IF(AND(T32>0,O32>0),MROUND(O32*V32*IF($O$10>0,1,1),5),IF(AND(T32>0,Q32=0),MROUND(V32*IF(O$10>0,O$10,1),0.05),0)) -> #VALUE! | Z32: =IF(Q32>0,VLOOKUP(Q32,linesystem,5,FALSE),"") | AC32: =IF(AF32>0,INDEX(maxdata,MATCH($E$1,namelist,0),MATCH(AF32,exercise,0))*IF(AC$10>0,AC$10,1),0) -> 0 | AH32: =IF(AE32>0,VLOOKUP(AE32,linesystem,2,FALSE),"") | AI32: =IF(AE32>0,VLOOKUP(AE32,linesystem,3,FALSE),"") | AJ32: =IF(AE32>0,VLOOKUP(AE32,linesystem,4,FALSE),"") | AK32: =IF(AND(AH32>0,AC32>0),MROUND(AC32*AI32*IF($O$10>0,1,1),5),IF(AND(AH32>0,AE32=0),MROUND(AI32*IF(AC$10>0,AC$10,1),0.05),0)) -> #VALUE! | AM32: =IF(AND(AH32>0,AC32>0),MROUND(AC32*AJ32*IF($O$10>0,1,1),5),IF(AND(AH32>0,AE32=0),MROUND(AJ32*IF(AC$10>0,AC$10,1),0.05),0)) -> #VALUE! | AN32: =IF(AE32>0,VLOOKUP(AE32,linesystem,5,FALSE),"")
B33: pair w/ | D33: =IF(AND(D32>0,D34>0),B33,"") | P33: pair w/ | R33: =IF(AND(R32>0,R34>0),P33,"") | U33: =IF(P33>0,VLOOKUP(Q33,linesystem,3,FALSE),"") -> #N/A | V33: =IF(P33>0,VLOOKUP(Q33,linesystem,4,FALSE),"") -> #N/A | AD33: pair w/ | AF33: =IF(AND(AF32>0,AF34>0),AD33,"")
A34: =IF(D34>0,INDEX(maxdata,MATCH($E$1,namelist,0),MATCH(D34,exercise,0))*IF(A$10>0,A$10,1),0) -> 0 | F34: =IF(C34>0,VLOOKUP(C34,linesystem,2,FALSE),"") | G34: =IF(C34>0,VLOOKUP(C34,linesystem,3,FALSE),"") | H34: =IF(C34>0,VLOOKUP(C34,linesystem,4,FALSE),"") | I34: =IF(AND(F34>0,A34>0),MROUND(A34*G34*IF(A$10>0,1,1),5),IF(AND(F34>0,A34=0),MROUND(G34*IF(A$10>0,A$10,1),0.05),0)) -> #VALUE! | K34: =IF(AND(F34>0,A34>0),MROUND(A34*H34*IF(A$10>0,1,1),5),IF(AND(F34>0,A34=0),MROUND(H34*IF(A$10>0,A$10,1),0.05),0)) -> #VALUE! | L34: =IF(C34>0,VLOOKUP(C34,linesystem,5,FALSE),"") | O34: =IF(R34>0,INDEX(maxdata,MATCH($E$1,namelist,0),MATCH(R34,exercise,0))*IF(O$10>0,O$10,1),0) -> 0 | T34: =IF(Q34>0,VLOOKUP(Q34,linesystem,2,FALSE),"") | U34: =IF(P34>0,VLOOKUP(Q34,linesystem,3,FALSE),"") | V34: =IF(P34>0,VLOOKUP(Q34,linesystem,4,FALSE),"") | W34: =IF(AND(T34>0,O34>0),MROUND(O34*U34*IF($O$10>0,1,1),5),IF(AND(T34>0,Q34=0),MROUND(U34*IF(O$10>0,O$10,1),0.05),0)) -> #VALUE! | Y34: =IF(AND(T34>0,O34>0),MROUND(O34*V34*IF($O$10>0,1,1),5),IF(AND(T34>0,Q34=0),MROUND(V34*IF(O$10>0,O$10,1),0.05),0)) -> #VALUE! | Z34: =IF(Q34>0,VLOOKUP(Q34,linesystem,5,FALSE),"") | AC34: =IF(AF34>0,INDEX(maxdata,MATCH($E$1,namelist,0),MATCH(AF34,exercise,0))*IF(AC$10>0,AC$10,1),0) -> 0 | AH34: =IF(AE34>0,VLOOKUP(AE34,linesystem,2,FALSE),"") | AI34: =IF(AE34>0,VLOOKUP(AE34,linesystem,3,FALSE),"") | AJ34: =IF(AE34>0,VLOOKUP(AE34,linesystem,4,FALSE),"") | AK34: =IF(AND(AH34>0,AC34>0),MROUND(AC34*AI34*IF($O$10>0,1,1),5),IF(AND(AH34>0,AE34=0),MROUND(AI34*IF(AC$10>0,AC$10,1),0.05),0)) -> #VALUE! | AM34: =IF(AND(AH34>0,AC34>0),MROUND(AC34*AJ34*IF($O$10>0,1,1),5),IF(AND(AH34>0,AE34=0),MROUND(AJ34*IF(AC$10>0,AC$10,1),0.05),0)) -> #VALUE! | AN34: =IF(AE34>0,VLOOKUP(AE34,linesystem,5,FALSE),"")
B35: pair w/ | D35: =IF(AND(D34>0,D36>0),B35,"") | P35: pair w/ | R35: =IF(AND(R34>0,R36>0),P35,"") | U35: =IF(P35>0,VLOOKUP(Q35,linesystem,3,FALSE),"") -> #N/A | V35: =IF(P35>0,VLOOKUP(Q35,linesystem,4,FALSE),"") -> #N/A | AD35: pair w/ | AF35: =IF(AND(AF34>0,AF36>0),AD35,"")
A36: =IF(D36>0,INDEX(maxdata,MATCH($E$1,namelist,0),MATCH(D36,exercise,0))*IF(A$10>0,A$10,1),0) -> 0 | F36: =IF(C36>0,VLOOKUP(C36,linesystem,2,FALSE),"") | G36: =IF(C36>0,VLOOKUP(C36,linesystem,3,FALSE),"") | H36: =IF(C36>0,VLOOKUP(C36,linesystem,4,FALSE),"") | I36: =IF(AND(F36>0,A36>0),MROUND(A36*G36*IF(A$10>0,1,1),5),IF(AND(F36>0,A36=0),MROUND(G36*IF(A$10>0,A$10,1),0.05),0)) -> #VALUE! | K36: =IF(AND(F36>0,A36>0),MROUND(A36*H36*IF(A$10>0,1,1),5),IF(AND(F36>0,A36=0),MROUND(H36*IF(A$10>0,A$10,1),0.05),0)) -> #VALUE! | L36: =IF(C36>0,VLOOKUP(C36,linesystem,5,FALSE),"") | O36: =IF(R36>0,INDEX(maxdata,MATCH($E$1,namelist,0),MATCH(R36,exercise,0))*IF(O$10>0,O$10,1),0) -> 0 | T36: =IF(Q36>0,VLOOKUP(Q36,linesystem,2,FALSE),"") | U36: =IF(P36>0,VLOOKUP(Q36,linesystem,3,FALSE),"") | V36: =IF(P36>0,VLOOKUP(Q36,linesystem,4,FALSE),"") | W36: =IF(AND(T36>0,O36>0),MROUND(O36*U36*IF($O$10>0,1,1),5),IF(AND(T36>0,Q36=0),MROUND(U36*IF(O$10>0,O$10,1),0.05),0)) -> #VALUE! | Y36: =IF(AND(T36>0,O36>0),MROUND(O36*V36*IF($O$10>0,1,1),5),IF(AND(T36>0,Q36=0),MROUND(V36*IF(O$10>0,O$10,1),0.05),0)) -> #VALUE! | Z36: =IF(Q36>0,VLOOKUP(Q36,linesystem,5,FALSE),"") | AC36: =IF(AF36>0,INDEX(maxdata,MATCH($E$1,namelist,0),MATCH(AF36,exercise,0))*IF(AC$10>0,AC$10,1),0) -> 0 | AH36: =IF(AE36>0,VLOOKUP(AE36,linesystem,2,FALSE),"") | AI36: =IF(AE36>0,VLOOKUP(AE36,linesystem,3,FALSE),"") | AJ36: =IF(AE36>0,VLOOKUP(AE36,linesystem,4,FALSE),"") | AK36: =IF(AND(AH36>0,AC36>0),MROUND(AC36*AI36*IF($O$10>0,1,1),5),IF(AND(AH36>0,AE36=0),MROUND(AI36*IF(AC$10>0,AC$10,1),0.05),0)) -> #VALUE! | AM36: =IF(AND(AH36>0,AC36>0),MROUND(AC36*AJ36*IF($O$10>0,1,1),5),IF(AND(AH36>0,AE36=0),MROUND(AJ36*IF(AC$10>0,AC$10,1),0.05),0)) -> #VALUE! | AN36: =IF(AE36>0,VLOOKUP(AE36,linesystem,5,FALSE),"")
A37: =IF(D37>0,INDEX(maxdata,MATCH($E$1,namelist,0),MATCH(D37,exercise,0))*IF(A$10>0,A$10,1),0) -> 0 | F37: =IF(C37>0,VLOOKUP(C37,linesystem,2,FALSE),"") | G37: =IF(C37>0,VLOOKUP(C37,linesystem,3,FALSE),"") | H37: =IF(C37>0,VLOOKUP(C37,linesystem,4,FALSE),"") | I37: =IF(AND(F37>0,A37>0),MROUND(A37*G37*IF(A$10>0,1,1),5),IF(AND(F37>0,A37=0),MROUND(G37*IF(A$10>0,A$10,1),0.05),0)) -> #VALUE! | K37: =IF(AND(F37>0,A37>0),MROUND(A37*H37*IF(A$10>0,1,1),5),IF(AND(F37>0,A37=0),MROUND(H37*IF(A$10>0,A$10,1),0.05),0)) -> #VALUE! | L37: =IF(C37>0,VLOOKUP(C37,linesystem,5,FALSE),"") | O37: =IF(R37>0,INDEX(maxdata,MATCH($E$1,namelist,0),MATCH(R37,exercise,0))*IF(O$10>0,O$10,1),0) -> 0 | T37: =IF(Q37>0,VLOOKUP(Q37,linesystem,2,FALSE),"") | U37: =IF(P37>0,VLOOKUP(Q37,linesystem,3,FALSE),"") | V37: =IF(P37>0,VLOOKUP(Q37,linesystem,4,FALSE),"") | W37: =IF(AND(T37>0,O37>0),MROUND(O37*U37*IF($O$10>0,1,1),5),IF(AND(T37>0,Q37=0),MROUND(U37*IF(O$10>0,O$10,1),0.05),0)) -> #VALUE! | Y37: =IF(AND(T37>0,O37>0),MROUND(O37*V37*IF($O$10>0,1,1),5),IF(AND(T37>0,Q37=0),MROUND(V37*IF(O$10>0,O$10,1),0.05),0)) -> #VALUE! | Z37: =IF(Q37>0,VLOOKUP(Q37,linesystem,5,FALSE),"") | AC37: =IF(AF37>0,INDEX(maxdata,MATCH($E$1,namelist,0),MATCH(AF37,exercise,0))*IF(AC$10>0,AC$10,1),0) -> 0 | AH37: =IF(AE37>0,VLOOKUP(AE37,linesystem,2,FALSE),"") | AI37: =IF(AE37>0,VLOOKUP(AE37,linesystem,3,FALSE),"") | AJ37: =IF(AE37>0,VLOOKUP(AE37,linesystem,4,FALSE),"") | AK37: =IF(AND(AH37>0,AC37>0),MROUND(AC37*AI37*IF($O$10>0,1,1),5),IF(AND(AH37>0,AE37=0),MROUND(AI37*IF(AC$10>0,AC$10,1),0.05),0)) -> #VALUE! | AM37: =IF(AND(AH37>0,AC37>0),MROUND(AC37*AJ37*IF($O$10>0,1,1),5),IF(AND(AH37>0,AE37=0),MROUND(AJ37*IF(AC$10>0,AC$10,1),0.05),0)) -> #VALUE! | AN37: =IF(AE37>0,VLOOKUP(AE37,linesystem,5,FALSE),"")
B38: pair w/ | D38: =IF(AND(D37>0,D39>0),B38,"") | P38: pair w/ | R38: =IF(AND(R37>0,R39>0),P38,"") | U38: =IF(P38>0,VLOOKUP(Q38,linesystem,3,FALSE),"") -> #N/A | V38: =IF(P38>0,VLOOKUP(Q38,linesystem,4,FALSE),"") -> #N/A | AD38: pair w/ | AF38: =IF(AND(AF37>0,AF39>0),AD38,"")
A39: =IF(D39>0,INDEX(maxdata,MATCH($E$1,namelist,0),MATCH(D39,exercise,0))*IF(A$10>0,A$10,1),0) -> 0 | F39: =IF(C39>0,VLOOKUP(C39,linesystem,2,FALSE),"") | G39: =IF(C39>0,VLOOKUP(C39,linesystem,3,FALSE),"") | H39: =IF(C39>0,VLOOKUP(C39,linesystem,4,FALSE),"") | I39: =IF(AND(F39>0,A39>0),MROUND(A39*G39*IF(A$10>0,1,1),5),IF(AND(F39>0,A39=0),MROUND(G39*IF(A$10>0,A$10,1),0.05),0)) -> #VALUE! | K39: =IF(AND(F39>0,A39>0),MROUND(A39*H39*IF(A$10>0,1,1),5),IF(AND(F39>0,A39=0),MROUND(H39*IF(A$10>0,A$10,1),0.05),0)) -> #VALUE! | L39: =IF(C39>0,VLOOKUP(C39,linesystem,5,FALSE),"") | O39: =IF(R39>0,INDEX(maxdata,MATCH($E$1,namelist,0),MATCH(R39,exercise,0))*IF(O$10>0,O$10,1),0) -> 0 | T39: =IF(Q39>0,VLOOKUP(Q39,linesystem,2,FALSE),"") | U39: =IF(P39>0,VLOOKUP(Q39,linesystem,3,FALSE),"") | V39: =IF(P39>0,VLOOKUP(Q39,linesystem,4,FALSE),"") | W39: =IF(AND(T39>0,O39>0),MROUND(O39*U39*IF($O$10>0,1,1),5),IF(AND(T39>0,Q39=0),MROUND(U39*IF(O$10>0,O$10,1),0.05),0)) -> #VALUE! | Y39: =IF(AND(T39>0,O39>0),MROUND(O39*V39*IF($O$10>0,1,1),5),IF(AND(T39>0,Q39=0),MROUND(V39*IF(O$10>0,O$10,1),0.05),0)) -> #VALUE! | Z39: =IF(Q39>0,VLOOKUP(Q39,linesystem,5,FALSE),"") | AC39: =IF(AF39>0,INDEX(maxdata,MATCH($E$1,namelist,0),MATCH(AF39,exercise,0))*IF(AC$10>0,AC$10,1),0) -> 0 | AH39: =IF(AE39>0,VLOOKUP(AE39,linesystem,2,FALSE),"") | AI39: =IF(AE39>0,VLOOKUP(AE39,linesystem,3,FALSE),"") | AJ39: =IF(AE39>0,VLOOKUP(AE39,linesystem,4,FALSE),"") | AK39: =IF(AND(AH39>0,AC39>0),MROUND(AC39*AI39*IF($O$10>0,1,1),5),IF(AND(AH39>0,AE39=0),MROUND(AI39*IF(AC$10>0,AC$10,1),0.05),0)) -> #VALUE! | AM39: =IF(AND(AH39>0,AC39>0),MROUND(AC39*AJ39*IF($O$10>0,1,1),5),IF(AND(AH39>0,AE39=0),MROUND(AJ39*IF(AC$10>0,AC$10,1),0.05),0)) -> #VALUE! | AN39: =IF(AE39>0,VLOOKUP(AE39,linesystem,5,FALSE),"")
B40: pair w/ | D40: =IF(AND(D39>0,D41>0),B40,"") | P40: pair w/ | R40: =IF(AND(R39>0,R41>0),P40,"") | U40: =IF(P40>0,VLOOKUP(Q40,linesystem,3,FALSE),"") -> #N/A | V40: =IF(P40>0,VLOOKUP(Q40,linesystem,4,FALSE),"") -> #N/A | AD40: pair w/ | AF40: =IF(AND(AF39>0,AF41>0),AD40,"")
A41: =IF(D41>0,INDEX(maxdata,MATCH($E$1,namelist,0),MATCH(D41,exercise,0))*IF(A$10>0,A$10,1),0) -> 0 | F41: =IF(C41>0,VLOOKUP(C41,linesystem,2,FALSE),"") | G41: =IF(C41>0,VLOOKUP(C41,linesystem,3,FALSE),"") | H41: =IF(C41>0,VLOOKUP(C41,linesystem,4,FALSE),"") | I41: =IF(AND(F41>0,A41>0),MROUND(A41*G41*IF(A$10>0,1,1),5),IF(AND(F41>0,A41=0),MROUND(G41*IF(A$10>0,A$10,1),0.05),0)) -> #VALUE! | K41: =IF(AND(F41>0,A41>0),MROUND(A41*H41*IF(A$10>0,1,1),5),IF(AND(F41>0,A41=0),MROUND(H41*IF(A$10>0,A$10,1),0.05),0)) -> #VALUE! | L41: =IF(C41>0,VLOOKUP(C41,linesystem,5,FALSE),"") | O41: =IF(R41>0,INDEX(maxdata,MATCH($E$1,namelist,0),MATCH(R41,exercise,0))*IF(O$10>0,O$10,1),0) -> 0 | T41: =IF(Q41>0,VLOOKUP(Q41,linesystem,2,FALSE),"") | U41: =IF(P41>0,VLOOKUP(Q41,linesystem,3,FALSE),"") | V41: =IF(P41>0,VLOOKUP(Q41,linesystem,4,FALSE),"") | W41: =IF(AND(T41>0,O41>0),MROUND(O41*U41*IF($O$10>0,1,1),5),IF(AND(T41>0,Q41=0),MROUND(U41*IF(O$10>0,O$10,1),0.05),0)) -> #VALUE! | Y41: =IF(AND(T41>0,O41>0),MROUND(O41*V41*IF($O$10>0,1,1),5),IF(AND(T41>0,Q41=0),MROUND(V41*IF(O$10>0,O$10,1),0.05),0)) -> #VALUE! | Z41: =IF(Q41>0,VLOOKUP(Q41,linesystem,5,FALSE),"") | AC41: =IF(AF41>0,INDEX(maxdata,MATCH($E$1,namelist,0),MATCH(AF41,exercise,0))*IF(AC$10>0,AC$10,1),0) -> 0 | AH41: =IF(AE41>0,VLOOKUP(AE41,linesystem,2,FALSE),"") | AI41: =IF(AE41>0,VLOOKUP(AE41,linesystem,3,FALSE),"") | AJ41: =IF(AE41>0,VLOOKUP(AE41,linesystem,4,FALSE),"") | AK41: =IF(AND(AH41>0,AC41>0),MROUND(AC41*AI41*IF($O$10>0,1,1),5),IF(AND(AH41>0,AE41=0),MROUND(AI41*IF(AC$10>0,AC$10,1),0.05),0)) -> #VALUE! | AM41: =IF(AND(AH41>0,AC41>0),MROUND(AC41*AJ41*IF($O$10>0,1,1),5),IF(AND(AH41>0,AE41=0),MROUND(AJ41*IF(AC$10>0,AC$10,1),0.05),0)) -> #VALUE! | AN41: =IF(AE41>0,VLOOKUP(AE41,linesystem,5,FALSE),"")
A42: =IF(D42>0,INDEX(maxdata,MATCH($E$1,namelist,0),MATCH(D42,exercise,0))*IF(A$10>0,A$10,1),0) -> 0 | F42: =IF(C42>0,VLOOKUP(C42,linesystem,2,FALSE),"") | G42: =IF(C42>0,VLOOKUP(C42,linesystem,3,FALSE),"") | H42: =IF(C42>0,VLOOKUP(C42,linesystem,4,FALSE),"") | I42: =IF(AND(F42>0,A42>0),MROUND(A42*G42*IF(A$10>0,1,1),5),IF(AND(F42>0,A42=0),MROUND(G42*IF(A$10>0,A$10,1),0.05),0)) -> #VALUE! | K42: =IF(AND(F42>0,A42>0),MROUND(A42*H42*IF(A$10>0,1,1),5),IF(AND(F42>0,A42=0),MROUND(H42*IF(A$10>0,A$10,1),0.05),0)) -> #VALUE! | L42: =IF(C42>0,VLOOKUP(C42,linesystem,5,FALSE),"") | O42: =IF(R42>0,INDEX(maxdata,MATCH($E$1,namelist,0),MATCH(R42,exercise,0))*IF(O$10>0,O$10,1),0) -> 0 | T42: =IF(Q42>0,VLOOKUP(Q42,linesystem,2,FALSE),"") | U42: =IF(P42>0,VLOOKUP(Q42,linesystem,3,FALSE),"") | V42: =IF(P42>0,VLOOKUP(Q42,linesystem,4,FALSE),"") | W42: =IF(AND(T42>0,O42>0),MROUND(O42*U42*IF($O$10>0,1,1),5),IF(AND(T42>0,Q42=0),MROUND(U42*IF(O$10>0,O$10,1),0.05),0)) -> #VALUE! | Y42: =IF(AND(T42>0,O42>0),MROUND(O42*V42*IF($O$10>0,1,1),5),IF(AND(T42>0,Q42=0),MROUND(V42*IF(O$10>0,O$10,1),0.05),0)) -> #VALUE! | Z42: =IF(Q42>0,VLOOKUP(Q42,linesystem,5,FALSE),"") | AC42: =IF(AF42>0,INDEX(maxdata,MATCH($E$1,namelist,0),MATCH(AF42,exercise,0))*IF(AC$10>0,AC$10,1),0) -> 0 | AH42: =IF(AE42>0,VLOOKUP(AE42,linesystem,2,FALSE),"") | AI42: =IF(AE42>0,VLOOKUP(AE42,linesystem,3,FALSE),"") | AJ42: =IF(AE42>0,VLOOKUP(AE42,linesystem,4,FALSE),"") | AK42: =IF(AND(AH42>0,AC42>0),MROUND(AC42*AI42*IF($O$10>0,1,1),5),IF(AND(AH42>0,AE42=0),MROUND(AI42*IF(AC$10>0,AC$10,1),0.05),0)) -> #VALUE! | AM42: =IF(AND(AH42>0,AC42>0),MROUND(AC42*AJ42*IF($O$10>0,1,1),5),IF(AND(AH42>0,AE42=0),MROUND(AJ42*IF(AC$10>0,AC$10,1),0.05),0)) -> #VALUE! | AN42: =IF(AE42>0,VLOOKUP(AE42,linesystem,5,FALSE),"")
B43: pair w/ | D43: =IF(AND(D42>0,D44>0),B43,"") | P43: pair w/ | R43: =IF(AND(R42>0,R44>0),P43,"") | U43: =IF(P43>0,VLOOKUP(Q43,linesystem,3,FALSE),"") -> #N/A | V43: =IF(P43>0,VLOOKUP(Q43,linesystem,4,FALSE),"") -> #N/A | AD43: pair w/ | AF43: =IF(AND(AF42>0,AF44>0),AD43,"")
A44: =IF(D44>0,INDEX(maxdata,MATCH($E$1,namelist,0),MATCH(D44,exercise,0))*IF(A$10>0,A$10,1),0) -> 0 | F44: =IF(C44>0,VLOOKUP(C44,linesystem,2,FALSE),"") | G44: =IF(C44>0,VLOOKUP(C44,linesystem,3,FALSE),"") | H44: =IF(C44>0,VLOOKUP(C44,linesystem,4,FALSE),"") | I44: =IF(AND(F44>0,A44>0),MROUND(A44*G44*IF(A$10>0,1,1),5),IF(AND(F44>0,A44=0),MROUND(G44*IF(A$10>0,A$10,1),0.05),0)) -> #VALUE! | K44: =IF(AND(F44>0,A44>0),MROUND(A44*H44*IF(A$10>0,1,1),5),IF(AND(F44>0,A44=0),MROUND(H44*IF(A$10>0,A$10,1),0.05),0)) -> #VALUE! | L44: =IF(C44>0,VLOOKUP(C44,linesystem,5,FALSE),"") | O44: =IF(R44>0,INDEX(maxdata,MATCH($E$1,namelist,0),MATCH(R44,exercise,0))*IF(O$10>0,O$10,1),0) -> 0 | T44: =IF(Q44>0,VLOOKUP(Q44,linesystem,2,FALSE),"") | U44: =IF(P44>0,VLOOKUP(Q44,linesystem,3,FALSE),"") | V44: =IF(P44>0,VLOOKUP(Q44,linesystem,4,FALSE),"") | W44: =IF(AND(T44>0,O44>0),MROUND(O44*U44*IF($O$10>0,1,1),5),IF(AND(T44>0,Q44=0),MROUND(U44*IF(O$10>0,O$10,1),0.05),0)) -> #VALUE! | Y44: =IF(AND(T44>0,O44>0),MROUND(O44*V44*IF($O$10>0,1,1),5),IF(AND(T44>0,Q44=0),MROUND(V44*IF(O$10>0,O$10,1),0.05),0)) -> #VALUE! | Z44: =IF(Q44>0,VLOOKUP(Q44,linesystem,5,FALSE),"") | AC44: =IF(AF44>0,INDEX(maxdata,MATCH($E$1,namelist,0),MATCH(AF44,exercise,0))*IF(AC$10>0,AC$10,1),0) -> 0 | AH44: =IF(AE44>0,VLOOKUP(AE44,linesystem,2,FALSE),"") | AI44: =IF(AE44>0,VLOOKUP(AE44,linesystem,3,FALSE),"") | AJ44: =IF(AE44>0,VLOOKUP(AE44,linesystem,4,FALSE),"") | AK44: =IF(AND(AH44>0,AC44>0),MROUND(AC44*AI44*IF($O$10>0,1,1),5),IF(AND(AH44>0,AE44=0),MROUND(AI44*IF(AC$10>0,AC$10,1),0.05),0)) -> #VALUE! | AM44: =IF(AND(AH44>0,AC44>0),MROUND(AC44*AJ44*IF($O$10>0,1,1),5),IF(AND(AH44>0,AE44=0),MROUND(AJ44*IF(AC$10>0,AC$10,1),0.05),0)) -> #VALUE! | AN44: =IF(AE44>0,VLOOKUP(AE44,linesystem,5,FALSE),"")
B45: pair w/ | D45: =IF(AND(D44>0,D46>0),B45,"") | P45: pair w/ | R45: =IF(AND(R44>0,R46>0),P45,"") | U45: =IF(P45>0,VLOOKUP(Q45,linesystem,3,FALSE),"") -> #N/A | V45: =IF(P45>0,VLOOKUP(Q45,linesystem,4,FALSE),"") -> #N/A | AD45: pair w/ | AF45: =IF(AND(AF44>0,AF46>0),AD45,"")
A46: =IF(D46>0,INDEX(maxdata,MATCH($E$1,namelist,0),MATCH(D46,exercise,0))*IF(A$10>0,A$10,1),0) -> 0 | F46: =IF(C46>0,VLOOKUP(C46,linesystem,2,FALSE),"") | G46: =IF(C46>0,VLOOKUP(C46,linesystem,3,FALSE),"") | H46: =IF(C46>0,VLOOKUP(C46,linesystem,4,FALSE),"") | I46: =IF(AND(F46>0,A46>0),MROUND(A46*G46*IF(A$10>0,1,1),5),IF(AND(F46>0,A46=0),MROUND(G46*IF(A$10>0,A$10,1),0.05),0)) -> #VALUE! | K46: =IF(AND(F46>0,A46>0),MROUND(A46*H46*IF(A$10>0,1,1),5),IF(AND(F46>0,A46=0),MROUND(H46*IF(A$10>0,A$10,1),0.05),0)) -> #VALUE! | L46: =IF(C46>0,VLOOKUP(C46,linesystem,5,FALSE),"") | O46: =IF(R46>0,INDEX(maxdata,MATCH($E$1,namelist,0),MATCH(R46,exercise,0))*IF(O$10>0,O$10,1),0) -> 0 | T46: =IF(Q46>0,VLOOKUP(Q46,linesystem,2,FALSE),"") | U46: =IF(P46>0,VLOOKUP(Q46,linesystem,3,FALSE),"") | V46: =IF(P46>0,VLOOKUP(Q46,linesystem,4,FALSE),"") | W46: =IF(AND(T46>0,O46>0),MROUND(O46*U46*IF($O$10>0,1,1),5),IF(AND(T46>0,Q46=0),MROUND(U46*IF(O$10>0,O$10,1),0.05),0)) -> #VALUE! | Y46: =IF(AND(T46>0,O46>0),MROUND(O46*V46*IF($O$10>0,1,1),5),IF(AND(T46>0,Q46=0),MROUND(V46*IF(O$10>0,O$10,1),0.05),0)) -> #VALUE! | Z46: =IF(Q46>0,VLOOKUP(Q46,linesystem,5,FALSE),"") | AC46: =IF(AF46>0,INDEX(maxdata,MATCH($E$1,namelist,0),MATCH(AF46,exercise,0))*IF(AC$10>0,AC$10,1),0) -> 0 | AH46: =IF(AE46>0,VLOOKUP(AE46,linesystem,2,FALSE),"") | AI46: =IF(AE46>0,VLOOKUP(AE46,linesystem,3,FALSE),"") | AJ46: =IF(AE46>0,VLOOKUP(AE46,linesystem,4,FALSE),"") | AK46: =IF(AND(AH46>0,AC46>0),MROUND(AC46*AI46*IF($O$10>0,1,1),5),IF(AND(AH46>0,AE46=0),MROUND(AI46*IF(AC$10>0,AC$10,1),0.05),0)) -> #VALUE! | AM46: =IF(AND(AH46>0,AC46>0),MROUND(AC46*AJ46*IF($O$10>0,1,1),5),IF(AND(AH46>0,AE46=0),MROUND(AJ46*IF(AC$10>0,AC$10,1),0.05),0)) -> #VALUE! | AN46: =IF(AE46>0,VLOOKUP(AE46,linesystem,5,FALSE),"")
D62: =D12 -> Bench Press | E62: =F12 -> 8 | F62: =I12 -> 220 | I62: =K12 -> 235 | K62: =L12 -> 3 | L62: =M12 -> 0 | R62: =R12 -> 0 | S62: =T12 | T62: =W12 -> #VALUE! | W62: =Y12 -> #VALUE! | Y62: =Z12 | Z62: =AA12 -> 0 | AF62: =AF12 -> 0 | AG62: =AH12 | AH62: =AK12 -> #VALUE! | AK62: =AM12 -> #VALUE! | AM62: =AN12 | AN62: =AO12 -> 0
D63: =D13 -> pair w/ | E63: =F13 -> 0 | F63: =I13 -> 0 | I63: =K13 -> 0 | K63: =L13 -> 0 | L63: =M13 -> 0 | R63: =R13 | S63: =T13 -> 0 | T63: =W13 -> 0 | W63: =Y13 -> 0 | Y63: =Z13 -> 0 | Z63: =AA13 -> 0 | AF63: =AF13 | AG63: =AH13 -> 0 | AH63: =AK13 -> 0 | AK63: =AM13 -> 0 | AM63: =AN13 -> 0 | AN63: =AO13 -> 0
D64: =D14 -> BB BO Row | E64: =F14 -> 12 | F64: =I14 -> 125 | I64: =K14 -> 135 | K64: =L14 -> 3 | L64: =M14 -> 0 | R64: =R14 -> 0 | S64: =T14 | T64: =W14 -> #VALUE! | W64: =Y14 -> #VALUE! | Y64: =Z14 | Z64: =AA14 -> 0 | AF64: =AF14 -> 0 | AG64: =AH14 | AH64: =AK14 -> #VALUE! | AK64: =AM14 -> #VALUE! | AM64: =AN14 | AN64: =AO14 -> 0
D65: =D15 -> pair w/ | E65: =F15 -> 0 | F65: =I15 -> 0 | I65: =K15 -> 0 | K65: =L15 -> 0 | L65: =M15 -> 0 | R65: =R15 | S65: =T15 -> 0 | T65: =W15 -> 0 | W65: =Y15 -> 0 | Y65: =Z15 -> 0 | Z65: =AA15 -> 0 | AF65: =AF15 | AG65: =AH15 -> 0 | AH65: =AK15 -> 0 | AK65: =AM15 -> 0 | AM65: =AN15 -> 0 | AN65: =AO15 -> 0
D66: =D16 -> SL Reverse Hyper | E66: =F16 -> 6 | F66: =I16 -> 100 | I66: =K16 -> 105 | K66: =L16 -> 3 | L66: =M16 -> 0 | R66: =R16 -> 0 | S66: =T16 | T66: =W16 -> #VALUE! | W66: =Y16 -> #VALUE! | Y66: =Z16 | Z66: =AA16 -> 0 | AF66: =AF16 -> 0 | AG66: =AH16 | AH66: =AK16 -> #VALUE! | AK66: =AM16 -> #VALUE! | AM66: =AN16 | AN66: =AO16 -> 0
D67: =D17 -> Arnold Press | E67: =F17 -> 8 | F67: =I17 -> 40 | I67: =K17 -> 45 | K67: =L17 -> 3 | L67: =M17 -> 0 | R67: =R17 -> 0 | S67: =T17 | T67: =W17 -> #VALUE! | W67: =Y17 -> #VALUE! | Y67: =Z17 | Z67: =AA17 -> 0 | AF67: =AF17 -> 0 | AG67: =AH17 | AH67: =AK17 -> #VALUE! | AK67: =AM17 -> #VALUE! | AM67: =AN17 | AN67: =AO17 -> 0
D68: =D18 | E68: =F18 -> 0 | F68: =I18 -> 0 | I68: =K18 -> 0 | K68: =L18 -> 0 | L68: =M18 -> 0 | R68: =R18 | S68: =T18 -> 0 | T68: =W18 -> 0 | W68: =Y18 -> 0 | Y68: =Z18 -> 0 | Z68: =AA18 -> 0 | AF68: =AF18 | AG68: =AH18 -> 0 | AH68: =AK18 -> 0 | AK68: =AM18 -> 0 | AM68: =AN18 -> 0 | AN68: =AO18 -> 0
D69: =D19 -> 0 | E69: =F19 | F69: =I19 -> #VALUE! | I69: =K19 -> #VALUE! | K69: =L19 | L69: =M19 -> 0 | R69: =R19 -> 0 | S69: =T19 | T69: =W19 -> #VALUE! | W69: =Y19 -> #VALUE! | Y69: =Z19 | Z69: =AA19 -> 0 | AF69: =AF19 -> 0 | AG69: =AH19 | AH69: =AK19 -> #VALUE! | AK69: =AM19 -> #VALUE! | AM69: =AN19 | AN69: =AO19 -> 0
D70: =D20 | E70: =F20 -> 0 | F70: =I20 -> 0 | I70: =K20 -> 0 | K70: =L20 -> 0 | L70: =M20 -> 0 | R70: =R20 | S70: =T20 -> 0 | T70: =W20 -> 0 | W70: =Y20 -> 0 | Y70: =Z20 -> 0 | Z70: =AA20 -> 0 | AF70: =AF20 | AG70: =AH20 -> 0 | AH70: =AK20 -> 0 | AK70: =AM20 -> 0 | AM70: =AN20 -> 0 | AN70: =AO20 -> 0
D71: =D21 -> 0 | E71: =F21 | F71: =I21 -> #VALUE! | I71: =K21 -> #VALUE! | K71: =L21 | L71: =M21 -> 0 | R71: =R21 -> 0 | S71: =T21 | T71: =W21 -> #VALUE! | W71: =Y21 -> #VALUE! | Y71: =Z21 | Z71: =AA21 -> 0 | AF71: =AF21 -> 0 | AG71: =AH21 | AH71: =AK21 -> #VALUE! | AK71: =AM21 -> #VALUE! | AM71: =AN21 | AN71: =AO21 -> 0
D72: =D22 -> 0 | E72: =F22 | F72: =I22 -> #VALUE! | I72: =K22 -> #VALUE! | K72: =L22 | L72: =M22 -> 0 | R72: =R22 -> 0 | S72: =T22 | T72: =W22 -> #VALUE! | W72: =Y22 -> #VALUE! | Y72: =Z22 | Z72: =AA22 -> 0 | AF72: =AF22 -> 0 | AG72: =AH22 | AH72: =AK22 -> #VALUE! | AK72: =AM22 -> #VALUE! | AM72: =AN22 | AN72: =AO22 -> 0
D73: =D23 | E73: =F23 -> 0 | F73: =I23 -> 0 | I73: =K23 -> 0 | K73: =L23 -> 0 | L73: =M23 -> 0 | R73: =R23 | S73: =T23 -> 0 | T73: =W23 -> 0 | W73: =Y23 -> 0 | Y73: =Z23 -> 0 | Z73: =AA23 -> 0 | AF73: =AF23 | AG73: =AH23 -> 0 | AH73: =AK23 -> 0 | AK73: =AM23 -> 0 | AM73: =AN23 -> 0 | AN73: =AO23 -> 0
... D97: =D47 -> 0 | E97: =F47 -> 0 | F97: =I47 -> 0 | I97: =K47 -> 0 | K97: =L47 -> 0 | L97: =M47 -> 0 | R97: =R47 -> 0 | S97: =T47 -> 0 | T97: =W47 -> 0 | W97: =Y47 -> 0 | Y97: =Z47 -> 0 | Z97: =AA47 -> 0 | AF97: =AF47 -> 0 | AG97: =AH47 -> 0 | AH97: =AK47 -> 0 | AK97: =AM47 -> 0 | AM97: =AN47 -> 0 | AN97: =AO47 -> 0
D98: =#REF! -> #REF! | E98: =#REF! -> #REF! | F98: =#REF! -> #REF! | I98: =#REF! -> #REF! | K98: =#REF! -> #REF! | L98: =#REF! -> #REF! | R98: =#REF! -> #REF! | S98: =#REF! -> #REF! | T98: =#REF! -> #REF! | W98: =#REF! -> #REF! | Y98: =#REF! -> #REF! | Z98: =#REF! -> #REF! | AF98: =#REF! -> #REF! | AG98: =#REF! -> #REF! | AH98: =#REF! -> #REF! | AK98: =#REF! -> #REF! | AM98: =#REF! -> #REF! | AN98: =#REF! -> #REF!
D99: =D49 -> 0 | E99: =F49 -> 0 | F99: =I49 -> 0 | I99: =K49 -> 0 | K99: =L49 -> 0 | L99: =M49 -> 0 | R99: =R49 -> 0 | S99: =T49 -> 0 | T99: =W49 -> 0 | W99: =Y49 -> 0 | Y99: =Z49 -> 0 | Z99: =AA49 -> 0 | AF99: =AF49 -> 0 | AG99: =AH49 -> 0 | AH99: =AK49 -> 0 | AK99: =AM49 -> 0 | AM99: =AN49 -> 0 | AN99: =AO49 -> 0
D100: =D50 -> 0 | E100: =F50 -> 0 | F100: =I50 -> 0 | I100: =K50 -> 0 | K100: =L50 -> 0 | L100: =M50 -> 0 | R100: =R50 -> 0 | S100: =T50 -> 0 | T100: =W50 -> 0 | W100: =Y50 -> 0 | Y100: =Z50 -> 0 | Z100: =AA50 -> 0 | AF100: =AF50 -> 0 | AG100: =AH50 -> 0 | AH100: =AK50 -> 0 | AK100: =AM50 -> 0 | AM100: =AN50 -> 0 | AN100: =AO50 -> 0
D101: =D51 -> 0 | E101: =F51 -> 0 | F101: =I51 -> 0 | I101: =K51 -> 0 | K101: =L51 -> 0 | L101: =M51 -> 0 | R101: =R51 -> 0 | S101: =T51 -> 0 | T101: =W51 -> 0 | W101: =Y51 -> 0 | Y101: =Z51 -> 0 | Z101: =AA51 -> 0 | AF101: =AF51 -> 0 | AG101: =AH51 -> 0 | AH101: =AK51 -> 0 | AK101: =AM51 -> 0 | AM101: =AN51 -> 0 | AN101: =AO51 -> 0
D102: =D52 -> 0 | E102: =F52 -> 0 | F102: =I52 -> 0 | I102: =K52 -> 0 | K102: =L52 -> 0 | L102: =M52 -> 0 | R102: =R52 -> 0 | S102: =T52 -> 0 | T102: =W52 -> 0 | W102: =Y52 -> 0 | Y102: =Z52 -> 0 | Z102: =AA52 -> 0 | AF102: =AF52 -> 0 | AG102: =AH52 -> 0 | AH102: =AK52 -> 0 | AK102: =AM52 -> 0 | AM102: =AN52 -> 0 | AN102: =AO52 -> 0
D103: =D53 -> 0 | E103: =F53 -> 0 | F103: =I53 -> 0 | I103: =K53 -> 0 | K103: =L53 -> 0 | L103: =M53 -> 0 | R103: =R53 -> 0 | S103: =T53 -> 0 | T103: =W53 -> 0 | W103: =Y53 -> 0 | Y103: =Z53 -> 0 | Z103: =AA53 -> 0 | AF103: =AF53 -> 0 | AG103: =AH53 -> 0 | AH103: =AK53 -> 0 | AK103: =AM53 -> 0 | AM103: =AN53 -> 0 | AN103: =AO53 -> 0
D104: =D54 -> 0 | E104: =F54 -> 0 | F104: =I54 -> 0 | I104: =K54 -> 0 | K104: =L54 -> 0 | L104: =M54 -> 0 | R104: =R54 -> 0 | S104: =T54 -> 0 | T104: =W54 -> 0 | W104: =Y54 -> 0 | Y104: =Z54 -> 0 | Z104: =AA54 -> 0 | AF104: =AF54 -> 0 | AG104: =AH54 -> 0 | AH104: =AK54 -> 0 | AK104: =AM54 -> 0 | AM104: =AN54 -> 0 | AN104: =AO54 -> 0
D105: =D55 -> 0 | E105: =F55 -> 0 | F105: =I55 -> 0 | I105: =K55 -> 0 | K105: =L55 -> 0 | L105: =M55 -> 0 | R105: =R55 -> 0 | S105: =T55 -> 0 | T105: =W55 -> 0 | W105: =Y55 -> 0 | Y105: =Z55 -> 0 | Z105: =AA55 -> 0 | AF105: =AF55 -> 0 | AG105: =AH55 -> 0 | AH105: =AK55 -> 0 | AK105: =AM55 -> 0 | AM105: =AN55 -> 0 | AN105: =AO55 -> 0
D106: =D56 -> 0 | E106: =F56 -> 0 | F106: =I56 -> 0 | I106: =K56 -> 0 | K106: =L56 -> 0 | L106: =M56 -> 0 | R106: =R56 -> 0 | S106: =T56 -> 0 | T106: =W56 -> 0 | W106: =Y56 -> 0 | Y106: =Z56 -> 0 | Z106: =AA56 -> 0 | AF106: =AF56 -> 0 | AG106: =AH56 -> 0 | AH106: =AK56 -> 0 | AK106: =AM56 -> 0 | AM106: =AN56 -> 0 | AN106: =AO56 -> 0
D107: =D57 -> 0 | E107: =F57 -> 0 | F107: =I57 -> 0 | I107: =K57 -> 0 | K107: =L57 -> 0 | L107: =M57 -> 0 | R107: =R57 -> 0 | S107: =T57 -> 0 | T107: =W57 -> 0 | W107: =Y57 -> 0 | Y107: =Z57 -> 0 | Z107: =AA57 -> 0 | AF107: =AF57 -> 0 | AG107: =AH57 -> 0 | AH107: =AK57 -> 0 | AK107: =AM57 -> 0 | AM107: =AN57 -> 0 | AN107: =AO57 -> 0
D108: =D58 -> 0 | E108: =F58 -> 0 | F108: =I58 -> 0 | I108: =K58 -> 0 | K108: =L58 -> 0 | L108: =M58 -> 0 | R108: =R58 -> 0 | S108: =T58 -> 0 | T108: =W58 -> 0 | W108: =Y58 -> 0 | Y108: =Z58 -> 0 | Z108: =AA58 -> 0 | AF108: =AF58 -> 0 | AG108: =AH58 -> 0 | AH108: =AK58 -> 0 | AK108: =AM58 -> 0 | AM108: =AN58 -> 0 | AN108: =AO58 -> 0
D109: =D59 -> 0 | E109: =F59 -> 0 | F109: =I59 -> 0 | I109: =K59 -> 0 | K109: =L59 -> 0 | L109: =M59 -> 0 | R109: =R59 -> 0 | S109: =T59 -> 0 | T109: =W59 -> 0 | W109: =Y59 -> 0 | Y109: =Z59 -> 0 | Z109: =AA59 -> 0 | AF109: =AF59 -> 0 | AG109: =AH59 -> 0 | AH109: =AK59 -> 0 | AK109: =AM59 -> 0 | AM109: =AN59 -> 0 | AN109: =AO59 -> 0
D110: =D60 -> 0 | E110: =F60 -> 0 | F110: =I60 -> 0 | I110: =K60 -> 0 | K110: =L60 -> 0 | L110: =M60 -> 0 | R110: =R60 -> 0 | S110: =T60 -> 0 | T110: =W60 -> 0 | W110: =Y60 -> 0 | Y110: =Z60 -> 0 | Z110: =AA60 -> 0 | AF110: =AF60 -> 0 | AG110: =AH60 -> 0 | AH110: =AK60 -> 0 | AK110: =AM60 -> 0 | AM110: =AN60 -> 0 | AN110: =AO60 -> 0
D111: =D61 -> 0 | E111: =F61 -> 0 | F111: =I61 -> 0 | I111: =K61 -> 0 | K111: =L61 -> 0 | L111: =M61 -> 0 | R111: =R61 -> 0 | S111: =T61 -> 0 | T111: =W61 -> 0 | W111: =Y61 -> 0 | Y111: =Z61 -> 0 | Z111: =AA61 -> 0 | AF111: =AF61 -> 0 | AG111: =AH61 -> 0 | AH111: =AK61 -> 0 | AK111: =AM61 -> 0 | AM111: =AN61 -> 0 | AN111: =AO61 -> 0

Sheet Print_Template
D1: Athlete: | E1: Tad | R1: =VLOOKUP($E$1,jerseylookup,2,FALSE) -> 22 | W1: Maxes | Z1: Squat | AB1: =VLOOKUP(E1,tablelist,6,FALSE) -> 415 | AF1: Bench | AG1: =VLOOKUP(E1,tablelist,7,FALSE) -> 295 | AK1: Power Clean | AN1: =VLOOKUP(E1,tablelist,8,FALSE) -> 255
D4: To purchase software visit xlathlete.com | L4: =Builder_Template!L4 -> Team Name
C10: =VLOOKUP($E$1,nrlookup,3,FALSE) -> 1 | D10: =Builder_Template!D10 -> Day 1 | F10: =Builder_Template!F10 -> Week 1 | L10: =Builder_Template!L10 -> Week 2 | O10: =VLOOKUP($E$1,nrlookup,4,FALSE) -> 1 | R10: Day 3 | T10: Week 1 | Z10: Week 2 | AC10: =VLOOKUP($E$1,nrlookup,5,FALSE) -> 1 | AF10: Day 5 | AH10: Week 1 | AN10: Week 2
A11: Class | B11: Cycle 1 | F11: Reps | I11: Load | L11: Sets | M11: Notes | P11: Class | Q11: Cycle 1 | T11: Reps | W11: Load | Z11: Sets | AA11: Notes | AD11: Class | AE11: Cycle 1 | AH11: Reps | AK11: Load | AN11: Sets | AO11: Notes
C12: =IF(D12>0,INDEX(maxdata,MATCH($E$1,namelist,0),MATCH(D12,exercise,0))*IF(C$10>0,C$10,1),0) -> 295 | D12: =Builder_Template!D62 -> Bench Press | F12: =Builder_Template!E62 -> 8 | G12: =IF(B12>0,VLOOKUP(B12,linesystem,3,FALSE),"") | H12: =IF(B12>0,VLOOKUP(B12,linesystem,4,FALSE),"") | I12: =Builder_Template!F62 -> 220 | K12: =Builder_Template!I62 -> 235 | L12: =Builder_Template!K62 -> 3 | M12: =Builder_Template!L62 -> 0 | O12: =IF(R12>0,INDEX(maxdata,MATCH($E$1,namelist,0),MATCH(R12,exercise,0))*IF(O$10>0,O$10,1),0) -> 0 | R12: =Builder_Template!R62 -> 0 | T12: =Builder_Template!S62 | U12: =IF(P12>0,VLOOKUP(Q12,linesystem,3,FALSE),"") | V12: =IF(P12>0,VLOOKUP(Q12,linesystem,4,FALSE),"") | W12: =Builder_Template!T62 -> #VALUE! | Y12: =Builder_Template!W62 -> #VALUE! | Z12: =Builder_Template!Y62 | AA12: =Builder_Template!Z62 -> 0 | AC12: =IF(AF12>0,INDEX(maxdata,MATCH($E$1,namelist,0),MATCH(AF12,exercise,0))*IF(AC$10>0,AC$10,1),0) -> 0 | AF12: =Builder_Template!AF62 -> 0 | AH12: =Builder_Template!AG62 | AI12: =IF(AD12>0,VLOOKUP(AE12,linesystem,3,FALSE),"") | AJ12: =IF(AD12>0,VLOOKUP(AE12,linesystem,4,FALSE),"") | AK12: =Builder_Template!AH62 -> #VALUE! | AM12: =Builder_Template!AK62 -> #VALUE! | AN12: =Builder_Template!AM62 | AO12: =Builder_Template!AN62 -> 0
A13: pair w/ | D13: =Builder_Template!D63 -> pair w/ | M13: =Builder_Template!L63 -> 0 | P13: pair w/ | R13: =Builder_Template!R63 | U13: =IF(P13>0,VLOOKUP(Q13,linesystem,3,FALSE),"") -> #N/A | V13: =IF(P13>0,VLOOKUP(Q13,linesystem,4,FALSE),"") -> #N/A | AA13: =Builder_Template!Z63 -> 0 | AD13: pair w/ | AF13: =Builder_Template!AF63 | AI13: =IF(AD13>0,VLOOKUP(AE13,linesystem,3,FALSE),"") -> #N/A | AJ13: =IF(AD13>0,VLOOKUP(AE13,linesystem,4,FALSE),"") -> #N/A | AO13: =Builder_Template!AN63 -> 0
C14: =IF(D14>0,INDEX(maxdata,MATCH($E$1,namelist,0),MATCH(D14,exercise,0))*IF(C$10>0,C$10,1),0) -> 191.75 | D14: =Builder_Template!D64 -> BB BO Row | F14: =Builder_Template!E64 -> 12 | G14: =IF(B14>0,VLOOKUP(B14,linesystem,3,FALSE),"") | H14: =IF(B14>0,VLOOKUP(B14,linesystem,4,FALSE),"") | I14: =Builder_Template!F64 -> 125 | K14: =Builder_Template!I64 -> 135 | L14: =Builder_Template!K64 -> 3 | M14: =Builder_Template!L64 -> 0 | O14: =IF(R14>0,INDEX(maxdata,MATCH($E$1,namelist,0),MATCH(R14,exercise,0))*IF(O$10>0,O$10,1),0) -> 0 | R14: =Builder_Template!R64 -> 0 | T14: =Builder_Template!S64 | U14: =IF(P14>0,VLOOKUP(Q14,linesystem,3,FALSE),"") | V14: =IF(P14>0,VLOOKUP(Q14,linesystem,4,FALSE),"") | W14: =Builder_Template!T64 -> #VALUE! | Y14: =Builder_Template!W64 -> #VALUE! | Z14: =Builder_Template!Y64 | AA14: =Builder_Template!Z64 -> 0 | AC14: =IF(AF14>0,INDEX(maxdata,MATCH($E$1,namelist,0),MATCH(AF14,exercise,0))*IF(AC$10>0,AC$10,1),0) -> 0 | AF14: =Builder_Template!AF64 -> 0 | AH14: =Builder_Template!AG64 | AI14: =IF(AD14>0,VLOOKUP(AE14,linesystem,3,FALSE),"") | AJ14: =IF(AD14>0,VLOOKUP(AE14,linesystem,4,FALSE),"") | AK14: =Builder_Template!AH64 -> #VALUE! | AM14: =Builder_Template!AK64 -> #VALUE! | AN14: =Builder_Template!AM64 | AO14: =Builder_Template!AN64 -> 0
A15: pair w/ | D15: =Builder_Template!D65 -> pair w/ | M15: =Builder_Template!L65 -> 0 | P15: pair w/ | R15: =Builder_Template!R65 | U15: =IF(P15>0,VLOOKUP(Q15,linesystem,3,FALSE),"") -> #N/A | V15: =IF(P15>0,VLOOKUP(Q15,linesystem,4,FALSE),"") -> #N/A | AA15: =Builder_Template!Z65 -> 0 | AD15: pair w/ | AF15: =Builder_Template!AF65 | AI15: =IF(AD15>0,VLOOKUP(AE15,linesystem,3,FALSE),"") -> #N/A | AJ15: =IF(AD15>0,VLOOKUP(AE15,linesystem,4,FALSE),"") -> #N/A | AO15: =Builder_Template!AN65 -> 0
C16: =IF(D16>0,INDEX(maxdata,MATCH($E$1,namelist,0),MATCH(D16,exercise,0))*IF(C$10>0,C$10,1),0) -> 124.5 | D16: =Builder_Template!D66 -> SL Reverse Hyper | F16: =Builder_Template!E66 -> 6 | G16: =IF(B16>0,VLOOKUP(B16,linesystem,3,FALSE),"") | H16: =IF(B16>0,VLOOKUP(B16,linesystem,4,FALSE),"") | I16: =Builder_Template!F66 -> 100 | K16: =Builder_Template!I66 -> 105 | L16: =Builder_Template!K66 -> 3 | M16: =Builder_Template!L66 -> 0 | O16: =IF(R16>0,INDEX(maxdata,MATCH($E$1,namelist,0),MATCH(R16,exercise,0))*IF(O$10>0,O$10,1),0) -> 0 | R16: =Builder_Template!R66 -> 0 | T16: =Builder_Template!S66 | U16: =IF(P16>0,VLOOKUP(Q16,linesystem,3,FALSE),"") | V16: =IF(P16>0,VLOOKUP(Q16,linesystem,4,FALSE),"") | W16: =Builder_Template!T66 -> #VALUE! | Y16: =Builder_Template!W66 -> #VALUE! | Z16: =Builder_Template!Y66 | AA16: =Builder_Template!Z66 -> 0 | AC16: =IF(AF16>0,INDEX(maxdata,MATCH($E$1,namelist,0),MATCH(AF16,exercise,0))*IF(AC$10>0,AC$10,1),0) -> 0 | AF16: =Builder_Template!AF66 -> 0 | AH16: =Builder_Template!AG66 | AI16: =IF(AD16>0,VLOOKUP(AE16,linesystem,3,FALSE),"") | AJ16: =IF(AD16>0,VLOOKUP(AE16,linesystem,4,FALSE),"") | AK16: =Builder_Template!AH66 -> #VALUE! | AM16: =Builder_Template!AK66 -> #VALUE! | AN16: =Builder_Template!AM66 | AO16: =Builder_Template!AN66 -> 0
C17: =IF(D17>0,INDEX(maxdata,MATCH($E$1,namelist,0),MATCH(D17,exercise,0))*IF(C$10>0,C$10,1),0) -> 59 | D17: =Builder_Template!D67 -> Arnold Press | F17: =Builder_Template!E67 -> 8 | G17: =IF(B17>0,VLOOKUP(B17,linesystem,3,FALSE),"") | H17: =IF(B17>0,VLOOKUP(B17,linesystem,4,FALSE),"") | I17: =Builder_Template!F67 -> 40 | K17: =Builder_Template!I67 -> 45 | L17: =Builder_Template!K67 -> 3 | M17: =Builder_Template!L67 -> 0 | O17: =IF(R17>0,INDEX(maxdata,MATCH($E$1,namelist,0),MATCH(R17,exercise,0))*IF(O$10>0,O$10,1),0) -> 0 | R17: =Builder_Template!R67 -> 0 | T17: =Builder_Template!S67 | U17: =IF(P17>0,VLOOKUP(Q17,linesystem,3,FALSE),"") | V17: =IF(P17>0,VLOOKUP(Q17,linesystem,4,FALSE),"") | W17: =Builder_Template!T67 -> #VALUE! | Y17: =Builder_Template!W67 -> #VALUE! | Z17: =Builder_Template!Y67 | AA17: =Builder_Template!Z67 -> 0 | AC17: =IF(AF17>0,INDEX(maxdata,MATCH($E$1,namelist,0),MATCH(AF17,exercise,0))*IF(AC$10>0,AC$10,1),0) -> 0 | AF17: =Builder_Template!AF67 -> 0 | AH17: =Builder_Template!AG67 | AI17: =IF(AD17>0,VLOOKUP(AE17,linesystem,3,FALSE),"") | AJ17: =IF(AD17>0,VLOOKUP(AE17,linesystem,4,FALSE),"") | AK17: =Builder_Template!AH67 -> #VALUE! | AM17: =Builder_Template!AK67 -> #VALUE! | AN17: =Builder_Template!AM67 | AO17: =Builder_Template!AN67 -> 0
A18: pair w/ | D18: =Builder_Template!D68 | M18: =Builder_Template!L68 -> 0 | P18: pair w/ | R18: =Builder_Template!R68 | U18: =IF(P18>0,VLOOKUP(Q18,linesystem,3,FALSE),"") -> #N/A | V18: =IF(P18>0,VLOOKUP(Q18,linesystem,4,FALSE),"") -> #N/A | AA18: =Builder_Template!Z68 -> 0 | AD18: pair w/ | AF18: =Builder_Template!AF68 | AI18: =IF(AD18>0,VLOOKUP(AE18,linesystem,3,FALSE),"") -> #N/A | AJ18: =IF(AD18>0,VLOOKUP(AE18,linesystem,4,FALSE),"") -> #N/A | AO18: =Builder_Template!AN68 -> 0
C19: =IF(D19>0,INDEX(maxdata,MATCH($E$1,namelist,0),MATCH(D19,exercise,0))*IF(C$10>0,C$10,1),0) -> 0 | D19: =Builder_Template!D69 -> 0 | F19: =Builder_Template!E69 | G19: =IF(B19>0,VLOOKUP(B19,linesystem,3,FALSE),"") | H19: =IF(B19>0,VLOOKUP(B19,linesystem,4,FALSE),"") | I19: =Builder_Template!F69 -> #VALUE! | K19: =Builder_Template!I69 -> #VALUE! | L19: =Builder_Template!K69 | M19: =Builder_Template!L69 -> 0 | O19: =IF(R19>0,INDEX(maxdata,MATCH($E$1,namelist,0),MATCH(R19,exercise,0))*IF(O$10>0,O$10,1),0) -> 0 | R19: =Builder_Template!R69 -> 0 | T19: =Builder_Template!S69 | U19: =IF(P19>0,VLOOKUP(Q19,linesystem,3,FALSE),"") | V19: =IF(P19>0,VLOOKUP(Q19,linesystem,4,FALSE),"") | W19: =Builder_Template!T69 -> #VALUE! | Y19: =Builder_Template!W69 -> #VALUE! | Z19: =Builder_Template!Y69 | AA19: =Builder_Template!Z69 -> 0 | AC19: =IF(AF19>0,INDEX(maxdata,MATCH($E$1,namelist,0),MATCH(AF19,exercise,0))*IF(AC$10>0,AC$10,1),0) -> 0 | AF19: =Builder_Template!AF69 -> 0 | AH19: =Builder_Template!AG69 | AI19: =IF(AD19>0,VLOOKUP(AE19,linesystem,3,FALSE),"") | AJ19: =IF(AD19>0,VLOOKUP(AE19,linesystem,4,FALSE),"") | AK19: =Builder_Template!AH69 -> #VALUE! | AM19: =Builder_Template!AK69 -> #VALUE! | AN19: =Builder_Template!AM69 | AO19: =Builder_Template!AN69 -> 0
A20: pair w/ | D20: =Builder_Template!D70 | M20: =Builder_Template!L70 -> 0 | P20: pair w/ | R20: =Builder_Template!R70 | U20: =IF(P20>0,VLOOKUP(Q20,linesystem,3,FALSE),"") -> #N/A | V20: =IF(P20>0,VLOOKUP(Q20,linesystem,4,FALSE),"") -> #N/A | AA20: =Builder_Template!Z70 -> 0 | AD20: pair w/ | AF20: =Builder_Template!AF70 | AI20: =IF(AD20>0,VLOOKUP(AE20,linesystem,3,FALSE),"") -> #N/A | AJ20: =IF(AD20>0,VLOOKUP(AE20,linesystem,4,FALSE),"") -> #N/A | AO20: =Builder_Template!AN70 -> 0
C21: =IF(D21>0,INDEX(maxdata,MATCH($E$1,namelist,0),MATCH(D21,exercise,0))*IF(C$10>0,C$10,1),0) -> 0 | D21: =Builder_Template!D71 -> 0 | F21: =Builder_Template!E71 | G21: =IF(B21>0,VLOOKUP(B21,linesystem,3,FALSE),"") | H21: =IF(B21>0,VLOOKUP(B21,linesystem,4,FALSE),"") | I21: =Builder_Template!F71 -> #VALUE! | K21: =Builder_Template!I71 -> #VALUE! | L21: =Builder_Template!K71 | M21: =Builder_Template!L71 -> 0 | O21: =IF(R21>0,INDEX(maxdata,MATCH($E$1,namelist,0),MATCH(R21,exercise,0))*IF(O$10>0,O$10,1),0) -> 0 | R21: =Builder_Template!R71 -> 0 | T21: =Builder_Template!S71 | U21: =IF(P21>0,VLOOKUP(Q21,linesystem,3,FALSE),"") | V21: =IF(P21>0,VLOOKUP(Q21,linesystem,4,FALSE),"") | W21: =Builder_Template!T71 -> #VALUE! | Y21: =Builder_Template!W71 -> #VALUE! | Z21: =Builder_Template!Y71 | AA21: =Builder_Template!Z71 -> 0 | AC21: =IF(AF21>0,INDEX(maxdata,MATCH($E$1,namelist,0),MATCH(AF21,exercise,0))*IF(AC$10>0,AC$10,1),0) -> 0 | AF21: =Builder_Template!AF71 -> 0 | AH21: =Builder_Template!AG71 | AI21: =IF(AD21>0,VLOOKUP(AE21,linesystem,3,FALSE),"") | AJ21: =IF(AD21>0,VLOOKUP(AE21,linesystem,4,FALSE),"") | AK21: =Builder_Template!AH71 -> #VALUE! | AM21: =Builder_Template!AK71 -> #VALUE! | AN21: =Builder_Template!AM71 | AO21: =Builder_Template!AN71 -> 0
C22: =IF(D22>0,INDEX(maxdata,MATCH($E$1,namelist,0),MATCH(D22,exercise,0))*IF(C$10>0,C$10,1),0) -> 0 | D22: =Builder_Template!D72 -> 0 | F22: =Builder_Template!E72 | G22: =IF(B22>0,VLOOKUP(B22,linesystem,3,FALSE),"") | H22: =IF(B22>0,VLOOKUP(B22,linesystem,4,FALSE),"") | I22: =Builder_Template!F72 -> #VALUE! | K22: =Builder_Template!I72 -> #VALUE! | L22: =Builder_Template!K72 | M22: =Builder_Template!L72 -> 0 | O22: =IF(R22>0,INDEX(maxdata,MATCH($E$1,namelist,0),MATCH(R22,exercise,0))*IF(O$10>0,O$10,1),0) -> 0 | R22: =Builder_Template!R72 -> 0 | T22: =Builder_Template!S72 | U22: =IF(P22>0,VLOOKUP(Q22,linesystem,3,FALSE),"") | V22: =IF(P22>0,VLOOKUP(Q22,linesystem,4,FALSE),"") | W22: =Builder_Template!T72 -> #VALUE! | Y22: =Builder_Template!W72 -> #VALUE! | Z22: =Builder_Template!Y72 | AA22: =Builder_Template!Z72 -> 0 | AC22: =IF(AF22>0,INDEX(maxdata,MATCH($E$1,namelist,0),MATCH(AF22,exercise,0))*IF(AC$10>0,AC$10,1),0) -> 0 | AF22: =Builder_Template!AF72 -> 0 | AH22: =Builder_Template!AG72 | AI22: =IF(AD22>0,VLOOKUP(AE22,linesystem,3,FALSE),"") | AJ22: =IF(AD22>0,VLOOKUP(AE22,linesystem,4,FALSE),"") | AK22: =Builder_Template!AH72 -> #VALUE! | AM22: =Builder_Template!AK72 -> #VALUE! | AN22: =Builder_Template!AM72 | AO22: =Builder_Template!AN72 -> 0
A23: pair w/ | D23: =Builder_Template!D73 | M23: =Builder_Template!L73 -> 0 | P23: pair w/ | R23: =Builder_Template!R73 | U23: =IF(P23>0,VLOOKUP(Q23,linesystem,3,FALSE),"") -> #N/A | V23: =IF(P23>0,VLOOKUP(Q23,linesystem,4,FALSE),"") -> #N/A | AA23: =Builder_Template!Z73 -> 0 | AD23: pair w/ | AF23: =Builder_Template!AF73 | AI23: =IF(AD23>0,VLOOKUP(AE23,linesystem,3,FALSE),"") -> #N/A | AJ23: =IF(AD23>0,VLOOKUP(AE23,linesystem,4,FALSE),"") -> #N/A | AO23: =Builder_Template!AN73 -> 0
C24: =IF(D24>0,INDEX(maxdata,MATCH($E$1,namelist,0),MATCH(D24,exercise,0))*IF(C$10>0,C$10,1),0) -> 0 | D24: =Builder_Template!D74 -> 0 | F24: =Builder_Template!E74 | G24: =IF(B24>0,VLOOKUP(B24,linesystem,3,FALSE),"") | H24: =IF(B24>0,VLOOKUP(B24,linesystem,4,FALSE),"") | I24: =Builder_Template!F74 -> #VALUE! | K24: =Builder_Template!I74 -> #VALUE! | L24: =Builder_Template!K74 | M24: =Builder_Template!L74 -> 0 | O24: =IF(R24>0,INDEX(maxdata,MATCH($E$1,namelist,0),MATCH(R24,exercise,0))*IF(O$10>0,O$10,1),0) -> 0 | R24: =Builder_Template!R74 -> 0 | T24: =Builder_Template!S74 | U24: =IF(P24>0,VLOOKUP(Q24,linesystem,3,FALSE),"") | V24: =IF(P24>0,VLOOKUP(Q24,linesystem,4,FALSE),"") | W24: =Builder_Template!T74 -> #VALUE! | Y24: =Builder_Template!W74 -> #VALUE! | Z24: =Builder_Template!Y74 | AA24: =Builder_Template!Z74 -> 0 | AC24: =IF(AF24>0,INDEX(maxdata,MATCH($E$1,namelist,0),MATCH(AF24,exercise,0))*IF(AC$10>0,AC$10,1),0) -> 0 | AF24: =Builder_Template!AF74 -> 0 | AH24: =Builder_Template!AG74 | AI24: =IF(AD24>0,VLOOKUP(AE24,linesystem,3,FALSE),"") | AJ24: =IF(AD24>0,VLOOKUP(AE24,linesystem,4,FALSE),"") | AK24: =Builder_Template!AH74 -> #VALUE! | AM24: =Builder_Template!AK74 -> #VALUE! | AN24: =Builder_Template!AM74 | AO24: =Builder_Template!AN74 -> 0
A25: pair w/ | D25: =Builder_Template!D75 | M25: =Builder_Template!L75 -> 0 | P25: pair w/ | R25: =Builder_Template!R75 | U25: =IF(P25>0,VLOOKUP(Q25,linesystem,3,FALSE),"") -> #N/A | V25: =IF(P25>0,VLOOKUP(Q25,linesystem,4,FALSE),"") -> #N/A | AA25: =Builder_Template!Z75 -> 0 | AD25: pair w/ | AF25: =Builder_Template!AF75 | AI25: =IF(AD25>0,VLOOKUP(AE25,linesystem,3,FALSE),"") -> #N/A | AJ25: =IF(AD25>0,VLOOKUP(AE25,linesystem,4,FALSE),"") -> #N/A | AO25: =Builder_Template!AN75 -> 0
C26: =IF(D26>0,INDEX(maxdata,MATCH($E$1,namelist,0),MATCH(D26,exercise,0))*IF(C$10>0,C$10,1),0) -> 0 | D26: =Builder_Template!D76 -> 0 | F26: =Builder_Template!E76 | G26: =IF(B26>0,VLOOKUP(B26,linesystem,3,FALSE),"") | H26: =IF(B26>0,VLOOKUP(B26,linesystem,4,FALSE),"") | I26: =Builder_Template!F76 -> #VALUE! | K26: =Builder_Template!I76 -> #VALUE! | L26: =Builder_Template!K76 | M26: =Builder_Template!L76 -> 0 | O26: =IF(R26>0,INDEX(maxdata,MATCH($E$1,namelist,0),MATCH(R26,exercise,0))*IF(O$10>0,O$10,1),0) -> 0 | R26: =Builder_Template!R76 -> 0 | T26: =Builder_Template!S76 | U26: =IF(P26>0,VLOOKUP(Q26,linesystem,3,FALSE),"") | V26: =IF(P26>0,VLOOKUP(Q26,linesystem,4,FALSE),"") | W26: =Builder_Template!T76 -> #VALUE! | Y26: =Builder_Template!W76 -> #VALUE! | Z26: =Builder_Template!Y76 | AA26: =Builder_Template!Z76 -> 0 | AC26: =IF(AF26>0,INDEX(maxdata,MATCH($E$1,namelist,0),MATCH(AF26,exercise,0))*IF(AC$10>0,AC$10,1),0) -> 0 | AF26: =Builder_Template!AF76 -> 0 | AH26: =Builder_Template!AG76 | AI26: =IF(AD26>0,VLOOKUP(AE26,linesystem,3,FALSE),"") | AJ26: =IF(AD26>0,VLOOKUP(AE26,linesystem,4,FALSE),"") | AK26: =Builder_Template!AH76 -> #VALUE! | AM26: =Builder_Template!AK76 -> #VALUE! | AN26: =Builder_Template!AM76 | AO26: =Builder_Template!AN76 -> 0
C27: =IF(D27>0,INDEX(maxdata,MATCH($E$1,namelist,0),MATCH(D27,exercise,0))*IF(C$10>0,C$10,1),0) -> 0 | D27: =Builder_Template!D77 -> 0 | F27: =Builder_Template!E77 | G27: =IF(B27>0,VLOOKUP(B27,linesystem,3,FALSE),"") | H27: =IF(B27>0,VLOOKUP(B27,linesystem,4,FALSE),"") | I27: =Builder_Template!F77 -> #VALUE! | K27: =Builder_Template!I77 -> #VALUE! | L27: =Builder_Template!K77 | M27: =Builder_Template!L77 -> 0 | O27: =IF(R27>0,INDEX(maxdata,MATCH($E$1,namelist,0),MATCH(R27,exercise,0))*IF(O$10>0,O$10,1),0) -> 0 | R27: =Builder_Template!R77 -> 0 | T27: =Builder_Template!S77 | U27: =IF(P27>0,VLOOKUP(Q27,linesystem,3,FALSE),"") | V27: =IF(P27>0,VLOOKUP(Q27,linesystem,4,FALSE),"") | W27: =Builder_Template!T77 -> #VALUE! | Y27: =Builder_Template!W77 -> #VALUE! | Z27: =Builder_Template!Y77 | AA27: =Builder_Template!Z77 -> 0 | AC27: =IF(AF27>0,INDEX(maxdata,MATCH($E$1,namelist,0),MATCH(AF27,exercise,0))*IF(AC$10>0,AC$10,1),0) -> 0 | AF27: =Builder_Template!AF77 -> 0 | AH27: =Builder_Template!AG77 | AI27: =IF(AD27>0,VLOOKUP(AE27,linesystem,3,FALSE),"") | AJ27: =IF(AD27>0,VLOOKUP(AE27,linesystem,4,FALSE),"") | AK27: =Builder_Template!AH77 -> #VALUE! | AM27: =Builder_Template!AK77 -> #VALUE! | AN27: =Builder_Template!AM77 | AO27: =Builder_Template!AN77 -> 0
A28: pair w/ | D28: =Builder_Template!D78 | M28: =Builder_Template!L78 -> 0 | P28: pair w/ | R28: =Builder_Template!R78 | U28: =IF(P28>0,VLOOKUP(Q28,linesystem,3,FALSE),"") -> #N/A | V28: =IF(P28>0,VLOOKUP(Q28,linesystem,4,FALSE),"") -> #N/A | AA28: =Builder_Template!Z78 -> 0 | AD28: pair w/ | AF28: =Builder_Template!AF78 | AI28: =IF(AD28>0,VLOOKUP(AE28,linesystem,3,FALSE),"") -> #N/A | AJ28: =IF(AD28>0,VLOOKUP(AE28,linesystem,4,FALSE),"") -> #N/A | AO28: =Builder_Template!AN78 -> 0
C29: =IF(D29>0,INDEX(maxdata,MATCH($E$1,namelist,0),MATCH(D29,exercise,0))*IF(C$10>0,C$10,1),0) -> 0 | D29: =Builder_Template!D79 -> 0 | F29: =Builder_Template!E79 | G29: =IF(B29>0,VLOOKUP(B29,linesystem,3,FALSE),"") | H29: =IF(B29>0,VLOOKUP(B29,linesystem,4,FALSE),"") | I29: =Builder_Template!F79 -> #VALUE! | K29: =Builder_Template!I79 -> #VALUE! | L29: =Builder_Template!K79 | M29: =Builder_Template!L79 -> 0 | O29: =IF(R29>0,INDEX(maxdata,MATCH($E$1,namelist,0),MATCH(R29,exercise,0))*IF(O$10>0,O$10,1),0) -> 0 | R29: =Builder_Template!R79 -> 0 | T29: =Builder_Template!S79 | U29: =IF(P29>0,VLOOKUP(Q29,linesystem,3,FALSE),"") | V29: =IF(P29>0,VLOOKUP(Q29,linesystem,4,FALSE),"") | W29: =Builder_Template!T79 -> #VALUE! | Y29: =Builder_Template!W79 -> #VALUE! | Z29: =Builder_Template!Y79 | AA29: =Builder_Template!Z79 -> 0 | AC29: =IF(AF29>0,INDEX(maxdata,MATCH($E$1,namelist,0),MATCH(AF29,exercise,0))*IF(AC$10>0,AC$10,1),0) -> 0 | AF29: =Builder_Template!AF79 -> 0 | AH29: =Builder_Template!AG79 | AI29: =IF(AD29>0,VLOOKUP(AE29,linesystem,3,FALSE),"") | AJ29: =IF(AD29>0,VLOOKUP(AE29,linesystem,4,FALSE),"") | AK29: =Builder_Template!AH79 -> #VALUE! | AM29: =Builder_Template!AK79 -> #VALUE! | AN29: =Builder_Template!AM79 | AO29: =Builder_Template!AN79 -> 0
A30: pair w/ | D30: =Builder_Template!D80 | M30: =Builder_Template!L80 -> 0 | P30: pair w/ | R30: =Builder_Template!R80 | U30: =IF(P30>0,VLOOKUP(Q30,linesystem,3,FALSE),"") -> #N/A | V30: =IF(P30>0,VLOOKUP(Q30,linesystem,4,FALSE),"") -> #N/A | AA30: =Builder_Template!Z80 -> 0 | AD30: pair w/ | AF30: =Builder_Template!AF80 | AI30: =IF(AD30>0,VLOOKUP(AE30,linesystem,3,FALSE),"") -> #N/A | AJ30: =IF(AD30>0,VLOOKUP(AE30,linesystem,4,FALSE),"") -> #N/A | AO30: =Builder_Template!AN80 -> 0
C31: =IF(D31>0,INDEX(maxdata,MATCH($E$1,namelist,0),MATCH(D31,exercise,0))*IF(C$10>0,C$10,1),0) -> 0 | D31: =Builder_Template!D81 -> 0 | F31: =Builder_Template!E81 | G31: =IF(B31>0,VLOOKUP(B31,linesystem,3,FALSE),"") | H31: =IF(B31>0,VLOOKUP(B31,linesystem,4,FALSE),"") | I31: =Builder_Template!F81 -> #VALUE! | K31: =Builder_Template!I81 -> #VALUE! | L31: =Builder_Template!K81 | M31: =Builder_Template!L81 -> 0 | O31: =IF(R31>0,INDEX(maxdata,MATCH($E$1,namelist,0),MATCH(R31,exercise,0))*IF(O$10>0,O$10,1),0) -> 0 | R31: =Builder_Template!R81 -> 0 | T31: =Builder_Template!S81 | U31: =IF(P31>0,VLOOKUP(Q31,linesystem,3,FALSE),"") | V31: =IF(P31>0,VLOOKUP(Q31,linesystem,4,FALSE),"") | W31: =Builder_Template!T81 -> #VALUE! | Y31: =Builder_Template!W81 -> #VALUE! | Z31: =Builder_Template!Y81 | AA31: =Builder_Template!Z81 -> 0 | AC31: =IF(AF31>0,INDEX(maxdata,MATCH($E$1,namelist,0),MATCH(AF31,exercise,0))*IF(AC$10>0,AC$10,1),0) -> 0 | AF31: =Builder_Template!AF81 -> 0 | AH31: =Builder_Template!AG81 | AI31: =IF(AD31>0,VLOOKUP(AE31,linesystem,3,FALSE),"") | AJ31: =IF(AD31>0,VLOOKUP(AE31,linesystem,4,FALSE),"") | AK31: =Builder_Template!AH81 -> #VALUE! | AM31: =Builder_Template!AK81 -> #VALUE! | AN31: =Builder_Template!AM81 | AO31: =Builder_Template!AN81 -> 0
C32: =IF(D32>0,INDEX(maxdata,MATCH($E$1,namelist,0),MATCH(D32,exercise,0))*IF(C$10>0,C$10,1),0) -> 0 | D32: =Builder_Template!D82 -> 0 | F32: =Builder_Template!E82 | G32: =IF(B32>0,VLOOKUP(B32,linesystem,3,FALSE),"") | H32: =IF(B32>0,VLOOKUP(B32,linesystem,4,FALSE),"") | I32: =Builder_Template!F82 -> #VALUE! | K32: =Builder_Template!I82 -> #VALUE! | L32: =Builder_Template!K82 | M32: =Builder_Template!L82 -> 0 | O32: =IF(R32>0,INDEX(maxdata,MATCH($E$1,namelist,0),MATCH(R32,exercise,0))*IF(O$10>0,O$10,1),0) -> 0 | R32: =Builder_Template!R82 -> 0 | T32: =Builder_Template!S82 | U32: =IF(P32>0,VLOOKUP(Q32,linesystem,3,FALSE),"") | V32: =IF(P32>0,VLOOKUP(Q32,linesystem,4,FALSE),"") | W32: =Builder_Template!T82 -> #VALUE! | Y32: =Builder_Template!W82 -> #VALUE! | Z32: =Builder_Template!Y82 | AA32: =Builder_Template!Z82 -> 0 | AC32: =IF(AF32>0,INDEX(maxdata,MATCH($E$1,namelist,0),MATCH(AF32,exercise,0))*IF(AC$10>0,AC$10,1),0) -> 0 | AF32: =Builder_Template!AF82 -> 0 | AH32: =Builder_Template!AG82 | AI32: =IF(AD32>0,VLOOKUP(AE32,linesystem,3,FALSE),"") | AJ32: =IF(AD32>0,VLOOKUP(AE32,linesystem,4,FALSE),"") | AK32: =Builder_Template!AH82 -> #VALUE! | AM32: =Builder_Template!AK82 -> #VALUE! | AN32: =Builder_Template!AM82 | AO32: =Builder_Template!AN82 -> 0
A33: pair w/ | D33: =Builder_Template!D83 | M33: =Builder_Template!L83 -> 0 | P33: pair w/ | R33: =Builder_Template!R83 | U33: =IF(P33>0,VLOOKUP(Q33,linesystem,3,FALSE),"") -> #N/A | V33: =IF(P33>0,VLOOKUP(Q33,linesystem,4,FALSE),"") -> #N/A | AA33: =Builder_Template!Z83 -> 0 | AD33: pair w/ | AF33: =Builder_Template!AF83 | AI33: =IF(AD33>0,VLOOKUP(AE33,linesystem,3,FALSE),"") -> #N/A | AJ33: =IF(AD33>0,VLOOKUP(AE33,linesystem,4,FALSE),"") -> #N/A | AO33: =Builder_Template!AN83 -> 0
C34: =IF(D34>0,INDEX(maxdata,MATCH($E$1,namelist,0),MATCH(D34,exercise,0))*IF(C$10>0,C$10,1),0) -> 0 | D34: =Builder_Template!D84 -> 0 | F34: =Builder_Template!E84 | G34: =IF(B34>0,VLOOKUP(B34,linesystem,3,FALSE),"") | H34: =IF(B34>0,VLOOKUP(B34,linesystem,4,FALSE),"") | I34: =Builder_Template!F84 -> #VALUE! | K34: =Builder_Template!I84 -> #VALUE! | L34: =Builder_Template!K84 | M34: =Builder_Template!L84 -> 0 | O34: =IF(R34>0,INDEX(maxdata,MATCH($E$1,namelist,0),MATCH(R34,exercise,0))*IF(O$10>0,O$10,1),0) -> 0 | R34: =Builder_Template!R84 -> 0 | T34: =Builder_Template!S84 | U34: =IF(P34>0,VLOOKUP(Q34,linesystem,3,FALSE),"") | V34: =IF(P34>0,VLOOKUP(Q34,linesystem,4,FALSE),"") | W34: =Builder_Template!T84 -> #VALUE! | Y34: =Builder_Template!W84 -> #VALUE! | Z34: =Builder_Template!Y84 | AA34: =Builder_Template!Z84 -> 0 | AC34: =IF(AF34>0,INDEX(maxdata,MATCH($E$1,namelist,0),MATCH(AF34,exercise,0))*IF(AC$10>0,AC$10,1),0) -> 0 | AF34: =Builder_Template!AF84 -> 0 | AH34: =Builder_Template!AG84 | AI34: =IF(AD34>0,VLOOKUP(AE34,linesystem,3,FALSE),"") | AJ34: =IF(AD34>0,VLOOKUP(AE34,linesystem,4,FALSE),"") | AK34: =Builder_Template!AH84 -> #VALUE! | AM34: =Builder_Template!AK84 -> #VALUE! | AN34: =Builder_Template!AM84 | AO34: =Builder_Template!AN84 -> 0
A35: pair w/ | D35: =Builder_Template!D85 | M35: =Builder_Template!L85 -> 0 | P35: pair w/ | R35: =Builder_Template!R85 | U35: =IF(P35>0,VLOOKUP(Q35,linesystem,3,FALSE),"") -> #N/A | V35: =IF(P35>0,VLOOKUP(Q35,linesystem,4,FALSE),"") -> #N/A | AA35: =Builder_Template!Z85 -> 0 | AD35: pair w/ | AF35: =Builder_Template!AF85 | AI35: =IF(AD35>0,VLOOKUP(AE35,linesystem,3,FALSE),"") -> #N/A | AJ35: =IF(AD35>0,VLOOKUP(AE35,linesystem,4,FALSE),"") -> #N/A | AO35: =Builder_Template!AN85 -> 0
C36: =IF(D36>0,INDEX(maxdata,MATCH($E$1,namelist,0),MATCH(D36,exercise,0))*IF(C$10>0,C$10,1),0) -> 0 | D36: =Builder_Template!D86 -> 0 | F36: =Builder_Template!E86 | G36: =IF(B36>0,VLOOKUP(B36,linesystem,3,FALSE),"") | H36: =IF(B36>0,VLOOKUP(B36,linesystem,4,FALSE),"") | I36: =Builder_Template!F86 -> #VALUE! | K36: =Builder_Template!I86 -> #VALUE! | L36: =Builder_Template!K86 | M36: =Builder_Template!L86 -> 0 | O36: =IF(R36>0,INDEX(maxdata,MATCH($E$1,namelist,0),MATCH(R36,exercise,0))*IF(O$10>0,O$10,1),0) -> 0 | R36: =Builder_Template!R86 -> 0 | T36: =Builder_Template!S86 | U36: =IF(P36>0,VLOOKUP(Q36,linesystem,3,FALSE),"") | V36: =IF(P36>0,VLOOKUP(Q36,linesystem,4,FALSE),"") | W36: =Builder_Template!T86 -> #VALUE! | Y36: =Builder_Template!W86 -> #VALUE! | Z36: =Builder_Template!Y86 | AA36: =Builder_Template!Z86 -> 0 | AC36: =IF(AF36>0,INDEX(maxdata,MATCH($E$1,namelist,0),MATCH(AF36,exercise,0))*IF(AC$10>0,AC$10,1),0) -> 0 | AF36: =Builder_Template!AF86 -> 0 | AH36: =Builder_Template!AG86 | AI36: =IF(AD36>0,VLOOKUP(AE36,linesystem,3,FALSE),"") | AJ36: =IF(AD36>0,VLOOKUP(AE36,linesystem,4,FALSE),"") | AK36: =Builder_Template!AH86 -> #VALUE! | AM36: =Builder_Template!AK86 -> #VALUE! | AN36: =Builder_Template!AM86 | AO36: =Builder_Template!AN86 -> 0
C37: =IF(D37>0,INDEX(maxdata,MATCH($E$1,namelist,0),MATCH(D37,exercise,0))*IF(C$10>0,C$10,1),0) -> 0 | D37: =Builder_Template!D87 -> 0 | F37: =Builder_Template!E87 | G37: =IF(B37>0,VLOOKUP(B37,linesystem,3,FALSE),"") | H37: =IF(B37>0,VLOOKUP(B37,linesystem,4,FALSE),"") | I37: =Builder_Template!F87 -> #VALUE! | K37: =Builder_Template!I87 -> #VALUE! | L37: =Builder_Template!K87 | M37: =Builder_Template!L87 -> 0 | O37: =IF(R37>0,INDEX(maxdata,MATCH($E$1,namelist,0),MATCH(R37,exercise,0))*IF(O$10>0,O$10,1),0) -> 0 | R37: =Builder_Template!R87 -> 0 | T37: =Builder_Template!S87 | U37: =IF(P37>0,VLOOKUP(Q37,linesystem,3,FALSE),"") | V37: =IF(P37>0,VLOOKUP(Q37,linesystem,4,FALSE),"") | W37: =Builder_Template!T87 -> #VALUE! | Y37: =Builder_Template!W87 -> #VALUE! | Z37: =Builder_Template!Y87 | AA37: =Builder_Template!Z87 -> 0 | AC37: =IF(AF37>0,INDEX(maxdata,MATCH($E$1,namelist,0),MATCH(AF37,exercise,0))*IF(AC$10>0,AC$10,1),0) -> 0 | AF37: =Builder_Template!AF87 -> 0 | AH37: =Builder_Template!AG87 | AI37: =IF(AD37>0,VLOOKUP(AE37,linesystem,3,FALSE),"") | AJ37: =IF(AD37>0,VLOOKUP(AE37,linesystem,4,FALSE),"") | AK37: =Builder_Template!AH87 -> #VALUE! | AM37: =Builder_Template!AK87 -> #VALUE! | AN37: =Builder_Template!AM87 | AO37: =Builder_Template!AN87 -> 0
A38: pair w/ | D38: =Builder_Template!D88 | M38: =Builder_Template!L88 -> 0 | P38: pair w/ | R38: =Builder_Template!R88 | U38: =IF(P38>0,VLOOKUP(Q38,linesystem,3,FALSE),"") -> #N/A | V38: =IF(P38>0,VLOOKUP(Q38,linesystem,4,FALSE),"") -> #N/A | AA38: =Builder_Template!Z88 -> 0 | AD38: pair w/ | AF38: =Builder_Template!AF88 | AI38: =IF(AD38>0,VLOOKUP(AE38,linesystem,3,FALSE),"") -> #N/A | AJ38: =IF(AD38>0,VLOOKUP(AE38,linesystem,4,FALSE),"") -> #N/A | AO38: =Builder_Template!AN88 -> 0
C39: =IF(D39>0,INDEX(maxdata,MATCH($E$1,namelist,0),MATCH(D39,exercise,0))*IF(C$10>0,C$10,1),0) -> 0 | D39: =Builder_Template!D89 -> 0 | F39: =Builder_Template!E89 | G39: =IF(B39>0,VLOOKUP(B39,linesystem,3,FALSE),"") | H39: =IF(B39>0,VLOOKUP(B39,linesystem,4,FALSE),"") | I39: =Builder_Template!F89 -> #VALUE! | K39: =Builder_Template!I89 -> #VALUE! | L39: =Builder_Template!K89 | M39: =Builder_Template!L89 -> 0 | O39: =IF(R39>0,INDEX(maxdata,MATCH($E$1,namelist,0),MATCH(R39,exercise,0))*IF(O$10>0,O$10,1),0) -> 0 | R39: =Builder_Template!R89 -> 0 | T39: =Builder_Template!S89 | U39: =IF(P39>0,VLOOKUP(Q39,linesystem,3,FALSE),"") | V39: =IF(P39>0,VLOOKUP(Q39,linesystem,4,FALSE),"") | W39: =Builder_Template!T89 -> #VALUE! | Y39: =Builder_Template!W89 -> #VALUE! | Z39: =Builder_Template!Y89 | AA39: =Builder_Template!Z89 -> 0 | AC39: =IF(AF39>0,INDEX(maxdata,MATCH($E$1,namelist,0),MATCH(AF39,exercise,0))*IF(AC$10>0,AC$10,1),0) -> 0 | AF39: =Builder_Template!AF89 -> 0 | AH39: =Builder_Template!AG89 | AI39: =IF(AD39>0,VLOOKUP(AE39,linesystem,3,FALSE),"") | AJ39: =IF(AD39>0,VLOOKUP(AE39,linesystem,4,FALSE),"") | AK39: =Builder_Template!AH89 -> #VALUE! | AM39: =Builder_Template!AK89 -> #VALUE! | AN39: =Builder_Template!AM89 | AO39: =Builder_Template!AN89 -> 0
A40: pair w/ | D40: =Builder_Template!D90 | M40: =Builder_Template!L90 -> 0 | P40: pair w/ | R40: =Builder_Template!R90 | U40: =IF(P40>0,VLOOKUP(Q40,linesystem,3,FALSE),"") -> #N/A | V40: =IF(P40>0,VLOOKUP(Q40,linesystem,4,FALSE),"") -> #N/A | AA40: =Builder_Template!Z90 -> 0 | AD40: pair w/ | AF40: =Builder_Template!AF90 | AI40: =IF(AD40>0,VLOOKUP(AE40,linesystem,3,FALSE),"") -> #N/A | AJ40: =IF(AD40>0,VLOOKUP(AE40,linesystem,4,FALSE),"") -> #N/A | AO40: =Builder_Template!AN90 -> 0
C41: =IF(D41>0,INDEX(maxdata,MATCH($E$1,namelist,0),MATCH(D41,exercise,0))*IF(C$10>0,C$10,1),0) -> 0 | D41: =Builder_Template!D91 -> 0 | F41: =Builder_Template!E91 | G41: =IF(B41>0,VLOOKUP(B41,linesystem,3,FALSE),"") | H41: =IF(B41>0,VLOOKUP(B41,linesystem,4,FALSE),"") | I41: =Builder_Template!F91 -> #VALUE! | K41: =Builder_Template!I91 -> #VALUE! | L41: =Builder_Template!K91 | M41: =Builder_Template!L91 -> 0 | O41: =IF(R41>0,INDEX(maxdata,MATCH($E$1,namelist,0),MATCH(R41,exercise,0))*IF(O$10>0,O$10,1),0) -> 0 | R41: =Builder_Template!R91 -> 0 | T41: =Builder_Template!S91 | U41: =IF(P41>0,VLOOKUP(Q41,linesystem,3,FALSE),"") | V41: =IF(P41>0,VLOOKUP(Q41,linesystem,4,FALSE),"") | W41: =Builder_Template!T91 -> #VALUE! | Y41: =Builder_Template!W91 -> #VALUE! | Z41: =Builder_Template!Y91 | AA41: =Builder_Template!Z91 -> 0 | AC41: =IF(AF41>0,INDEX(maxdata,MATCH($E$1,namelist,0),MATCH(AF41,exercise,0))*IF(AC$10>0,AC$10,1),0) -> 0 | AF41: =Builder_Template!AF91 -> 0 | AH41: =Builder_Template!AG91 | AI41: =IF(AD41>0,VLOOKUP(AE41,linesystem,3,FALSE),"") | AJ41: =IF(AD41>0,VLOOKUP(AE41,linesystem,4,FALSE),"") | AK41: =Builder_Template!AH91 -> #VALUE! | AM41: =Builder_Template!AK91 -> #VALUE! | AN41: =Builder_Template!AM91 | AO41: =Builder_Template!AN91 -> 0
C42: =IF(D42>0,INDEX(maxdata,MATCH($E$1,namelist,0),MATCH(D42,exercise,0))*IF(C$10>0,C$10,1),0) -> 0 | D42: =Builder_Template!D92 -> 0 | F42: =Builder_Template!E92 | G42: =IF(B42>0,VLOOKUP(B42,linesystem,3,FALSE),"") | H42: =IF(B42>0,VLOOKUP(B42,linesystem,4,FALSE),"") | I42: =Builder_Template!F92 -> #VALUE! | K42: =Builder_Template!I92 -> #VALUE! | L42: =Builder_Template!K92 | M42: =Builder_Template!L92 -> 0 | O42: =IF(R42>0,INDEX(maxdata,MATCH($E$1,namelist,0),MATCH(R42,exercise,0))*IF(O$10>0,O$10,1),0) -> 0 | R42: =Builder_Template!R92 -> 0 | T42: =Builder_Template!S92 | U42: =IF(P42>0,VLOOKUP(Q42,linesystem,3,FALSE),"") | V42: =IF(P42>0,VLOOKUP(Q42,linesystem,4,FALSE),"") | W42: =Builder_Template!T92 -> #VALUE! | Y42: =Builder_Template!W92 -> #VALUE! | Z42: =Builder_Template!Y92 | AA42: =Builder_Template!Z92 -> 0 | AC42: =IF(AF42>0,INDEX(maxdata,MATCH($E$1,namelist,0),MATCH(AF42,exercise,0))*IF(AC$10>0,AC$10,1),0) -> 0 | AF42: =Builder_Template!AF92 -> 0 | AH42: =Builder_Template!AG92 | AI42: =IF(AD42>0,VLOOKUP(AE42,linesystem,3,FALSE),"") | AJ42: =IF(AD42>0,VLOOKUP(AE42,linesystem,4,FALSE),"") | AK42: =Builder_Template!AH92 -> #VALUE! | AM42: =Builder_Template!AK92 -> #VALUE! | AN42: =Builder_Template!AM92 | AO42: =Builder_Template!AN92 -> 0
A43: pair w/ | D43: =Builder_Template!D93 | M43: =Builder_Template!L93 -> 0 | P43: pair w/ | R43: =Builder_Template!R93 | U43: =IF(P43>0,VLOOKUP(Q43,linesystem,3,FALSE),"") -> #N/A | V43: =IF(P43>0,VLOOKUP(Q43,linesystem,4,FALSE),"") -> #N/A | AA43: =Builder_Template!Z93 -> 0 | AD43: pair w/ | AF43: =Builder_Template!AF93 | AI43: =IF(AD43>0,VLOOKUP(AE43,linesystem,3,FALSE),"") -> #N/A | AJ43: =IF(AD43>0,VLOOKUP(AE43,linesystem,4,FALSE),"") -> #N/A | AO43: =Builder_Template!AN93 -> 0
C44: =IF(D44>0,INDEX(maxdata,MATCH($E$1,namelist,0),MATCH(D44,exercise,0))*IF(C$10>0,C$10,1),0) -> 0 | D44: =Builder_Template!D94 -> 0 | F44: =Builder_Template!E94 | G44: =IF(B44>0,VLOOKUP(B44,linesystem,3,FALSE),"") | H44: =IF(B44>0,VLOOKUP(B44,linesystem,4,FALSE),"") | I44: =Builder_Template!F94 -> #VALUE! | K44: =Builder_Template!I94 -> #VALUE! | L44: =Builder_Template!K94 | M44: =Builder_Template!L94 -> 0 | O44: =IF(R44>0,INDEX(maxdata,MATCH($E$1,namelist,0),MATCH(R44,exercise,0))*IF(O$10>0,O$10,1),0) -> 0 | R44: =Builder_Template!R94 -> 0 | T44: =Builder_Template!S94 | U44: =IF(P44>0,VLOOKUP(Q44,linesystem,3,FALSE),"") | V44: =IF(P44>0,VLOOKUP(Q44,linesystem,4,FALSE),"") | W44: =Builder_Template!T94 -> #VALUE! | Y44: =Builder_Template!W94 -> #VALUE! | Z44: =Builder_Template!Y94 | AA44: =Builder_Template!Z94 -> 0 | AC44: =IF(AF44>0,INDEX(maxdata,MATCH($E$1,namelist,0),MATCH(AF44,exercise,0))*IF(AC$10>0,AC$10,1),0) -> 0 | AF44: =Builder_Template!AF94 -> 0 | AH44: =Builder_Template!AG94 | AI44: =IF(AD44>0,VLOOKUP(AE44,linesystem,3,FALSE),"") | AJ44: =IF(AD44>0,VLOOKUP(AE44,linesystem,4,FALSE),"") | AK44: =Builder_Template!AH94 -> #VALUE! | AM44: =Builder_Template!AK94 -> #VALUE! | AN44: =Builder_Template!AM94 | AO44: =Builder_Template!AN94 -> 0
A45: pair w/ | D45: =Builder_Template!D95 | M45: =Builder_Template!L95 -> 0 | P45: pair w/ | R45: =Builder_Template!R95 | U45: =IF(P45>0,VLOOKUP(Q45,linesystem,3,FALSE),"") -> #N/A | V45: =IF(P45>0,VLOOKUP(Q45,linesystem,4,FALSE),"") -> #N/A | AA45: =Builder_Template!Z95 -> 0 | AD45: pair w/ | AF45: =Builder_Template!AF95 | AI45: =IF(AD45>0,VLOOKUP(AE45,linesystem,3,FALSE),"") -> #N/A | AJ45: =IF(AD45>0,VLOOKUP(AE45,linesystem,4,FALSE),"") -> #N/A | AO45: =Builder_Template!AN95 -> 0
C46: =IF(D46>0,INDEX(maxdata,MATCH($E$1,namelist,0),MATCH(D46,exercise,0))*IF(C$10>0,C$10,1),0) -> 0 | D46: =Builder_Template!D96 -> 0 | F46: =Builder_Template!E96 | G46: =IF(B46>0,VLOOKUP(B46,linesystem,3,FALSE),"") | H46: =IF(B46>0,VLOOKUP(B46,linesystem,4,FALSE),"") | I46: =Builder_Template!F96 -> #VALUE! | K46: =Builder_Template!I96 -> #VALUE! | L46: =Builder_Template!K96 | M46: =Builder_Template!L96 -> 0 | O46: =IF(R46>0,INDEX(maxdata,MATCH($E$1,namelist,0),MATCH(R46,exercise,0))*IF(O$10>0,O$10,1),0) -> 0 | R46: =Builder_Template!R96 -> 0 | T46: =Builder_Template!S96 | U46: =IF(P46>0,VLOOKUP(Q46,linesystem,3,FALSE),"") | V46: =IF(P46>0,VLOOKUP(Q46,linesystem,4,FALSE),"") | W46: =Builder_Template!T96 -> #VALUE! | Y46: =Builder_Template!W96 -> #VALUE! | Z46: =Builder_Template!Y96 | AA46: =Builder_Template!Z96 -> 0 | AC46: =IF(AF46>0,INDEX(maxdata,MATCH($E$1,namelist,0),MATCH(AF46,exercise,0))*IF(AC$10>0,AC$10,1),0) -> 0 | AF46: =Builder_Template!AF96 -> 0 | AH46: =Builder_Template!AG96 | AI46: =IF(AD46>0,VLOOKUP(AE46,linesystem,3,FALSE),"") | AJ46: =IF(AD46>0,VLOOKUP(AE46,linesystem,4,FALSE),"") | AK46: =Builder_Template!AH96 -> #VALUE! | AM46: =Builder_Template!AK96 -> #VALUE! | AN46: =Builder_Template!AM96 | AO46: =Builder_Template!AN96 -> 0
D48: =R1 -> 22 | AH48: =E1 -> Tad

Sheet Coaching Tools
A1: Coaching Tools - hyperlinked to xlathlete.com
A3: Average Power Vertical Jump Test
A4: Centimeters To Inches Calculator
A5: Close Grip Bench Press Maximum Estimator
A6: Conditioning Guideline Tool
A7: Explosive Strength Deficit Test
A8: Front Squat Maximum Estimator
A9: Inches To Centimeters Calculator
A10: Incline Bench Press Estimator
A11: Kilograms to Pounds Calculator
A12: Kilometers Per Hour To Miles Per Hour Calculator
A13: Kilometers To Miles Calculator
... A32: Yards To Meters Calculator
